BEGIN:VCALENDAR
VERSION:2.0
PRODID:-//Listeso Music Group - A Boutique String Quartet Agency - ECPv6.15.20//NONSGML v1.0//EN
CALSCALE:GREGORIAN
METHOD:PUBLISH
X-ORIGINAL-URL:https://www.listeso.com
X-WR-CALDESC:Events for Listeso Music Group - A Boutique String Quartet Agency
REFRESH-INTERVAL;VALUE=DURATION:PT1H
X-Robots-Tag:noindex
X-PUBLISHED-TTL:PT1H
BEGIN:VTIMEZONE
TZID:America/Anchorage
BEGIN:DAYLIGHT
TZOFFSETFROM:-0900
TZOFFSETTO:-0800
TZNAME:AKDT
DTSTART:20240310T110000
END:DAYLIGHT
BEGIN:STANDARD
TZOFFSETFROM:-0800
TZOFFSETTO:-0900
TZNAME:AKST
DTSTART:20241103T100000
END:STANDARD
BEGIN:DAYLIGHT
TZOFFSETFROM:-0900
TZOFFSETTO:-0800
TZNAME:AKDT
DTSTART:20250309T110000
END:DAYLIGHT
BEGIN:STANDARD
TZOFFSETFROM:-0800
TZOFFSETTO:-0900
TZNAME:AKST
DTSTART:20251102T100000
END:STANDARD
BEGIN:DAYLIGHT
TZOFFSETFROM:-0900
TZOFFSETTO:-0800
TZNAME:AKDT
DTSTART:20260308T110000
END:DAYLIGHT
BEGIN:STANDARD
TZOFFSETFROM:-0800
TZOFFSETTO:-0900
TZNAME:AKST
DTSTART:20261101T100000
END:STANDARD
END:VTIMEZONE
BEGIN:VEVENT
DTSTART;TZID=America/Anchorage:20251116T210000
DTEND;TZID=America/Anchorage:20251116T220000
DTSTAMP:20260421T085626
CREATED:20251008T110122Z
LAST-MODIFIED:20251008T110122Z
UID:10005632-1763326800-1763330400@www.listeso.com
SUMMARY:Candlelight: Coldplay & Imagine Dragons
DESCRIPTION:Overview\nCandlelight concerts bring the magic of a live\, multi-sensory musical experience to awe-inspiring locations like never seen before in Anchorage. Get your tickets now to discover the music of Coldplay & Imagine Dragons at 49th State Brewing – Anchorage under the gentle glow of candlelight. \nGeneral Info\n\n📍 Venue: 49th State Brewing – Anchorage\n⏳ Duration: 60 minutes. Doors open 60 minutes before the show and close 5 minutes prior to the start. Late arrivals will not be permitted\n👤 Age requirement: 8 years old or older. Anyone under the age of 16 must be accompanied by an adult\n♿ Accessibility: The venue is fully accessible.\n🪑 Seating: Seating is assigned on a first come first served basis in each zone\n\nTentative Program\n\nColdplay – Clocks\nColdplay – Something Just Like This\nImagine Dragons – Radioactive\nColdplay – Adventure of a Lifetime\nColdplay – Fix You\nImagine Dragons – Eyes Closed\nImagine Dragons – Nice to Meet You\nColdplay – The Scientist\nImagine Dragons – Follow You\nImagine Dragons – Bad Liar\nColdplay – Viva la Vida\nImagine Dragons – Believer\nColdplay – Sky Full of Stars\n\nPerformers\n🎻 Listeso String Quartet \nBook a Private Event\nLooking to create an unforgettable experience for your wedding\, or special occasion? We offer private event bookings with customized programs tailored to your needs. \nGet a quote
URL:https://www.listeso.com/concert/2025-11-16-49th-state-brewing-anchorage-coldplay-imagine-dragons/
LOCATION:49th State Brewing – Anchorage\, Anchorage\, AK\, United States
CATEGORIES:Anchorage, AK
ATTACH;FMTTYPE=image/jpeg:https://www.listeso.com/wp-content/uploads/2025/10/53777c04-1157-11f0-bc63-0ee885ccc32f-5sEo1f.jpg
END:VEVENT
BEGIN:VEVENT
DTSTART;TZID=America/Anchorage:20251116T183000
DTEND;TZID=America/Anchorage:20251116T193000
DTSTAMP:20260421T085626
CREATED:20251008T110108Z
LAST-MODIFIED:20251008T110108Z
UID:10005631-1763317800-1763321400@www.listeso.com
SUMMARY:Candlelight: Tribute to Queen and The Beatles
DESCRIPTION:Overview\nCandlelight concerts bring the magic of a live\, multi-sensory musical experience to awe-inspiring locations like never seen before in Anchorage. Get your tickets now to discover the music of Queen and The Beatles at 49th State Brewing – Anchorage under the gentle glow of candlelight. \nGeneral Info\n\n📍 Venue: 49th State Brewing – Anchorage\n⏳ Duration: 60 minutes. Doors open 60 minutes before the show and close 5 minutes prior to the start. Late arrivals will not be permitted\n👤 Age requirement: 8 years old or older. Anyone under the age of 16 must be accompanied by an adult\n♿ Accessibility: this venue is ADA compliant\n🪑 Seating: Seating is assigned on a first come first served basis in each zone\n\nTentative Program\n\nHere Comes the Sun – The Beatles\nBlackbird – The Beatles\nHelp! – The Beatles\nCome Together – The Beatles\nYesterday – The Beatles\nAll You Need Is Love – The Beatles\nLove of My Life – Queen\nAnother One Bites the Dust – Queen\nI Want to Break Free – Queen\nWe Are the Champions – Queen\nWe Will Rock You – Queen\nRadio Ga-Ga – Queen\nBohemian Rhapsody – Queen\n\nPerformers\n🎻 String Quartet – Listeso – Anchorage \nBook a Private Event\nLooking to create an unforgettable experience for your wedding\, or special occasion? We offer private event bookings with customized programs tailored to your needs. \nGet a quote
URL:https://www.listeso.com/concert/2025-11-16-49th-state-brewing-anchorage-tribute-to-queen-and-the-beatles/
LOCATION:49th State Brewing – Anchorage\, Anchorage\, AK\, United States
CATEGORIES:Anchorage, AK
ATTACH;FMTTYPE=image/jpeg:https://www.listeso.com/wp-content/uploads/2025/10/4671982c-1a9f-11f0-9bc4-3a9b5e2c983e-6OG8WL.jpg
END:VEVENT
BEGIN:VEVENT
DTSTART;TZID=America/Anchorage:20251023T183000
DTEND;TZID=America/Anchorage:20251023T193000
DTSTAMP:20260421T085626
CREATED:20251001T170535Z
LAST-MODIFIED:20251001T170535Z
UID:10004860-1761244200-1761247800@www.listeso.com
SUMMARY:Candlelight: Tribute to Queen and The Beatles
DESCRIPTION:Overview\nCandlelight concerts bring the magic of a live\, multi-sensory musical experience to awe-inspiring locations like never seen before in Anchorage. Get your tickets now to discover the music of Queen and The Beatles at 49th State Brewing – Anchorage under the gentle glow of candlelight. \nGeneral Info\n\n📍 Venue: 49th State Brewing – Anchorage\n⏳ Duration: 60 minutes. Doors open 60 minutes before the show and close 5 minutes prior to the start. Late arrivals will not be permitted\n👤 Age requirement: 8 years old or older. Anyone under the age of 16 must be accompanied by an adult\n♿ Accessibility: This venue is ADA compliant\n🪑 Seating: Seating is assigned on a first come first served basis in each zone\n\nTentative Program\n\nHere Comes the Sun – The Beatles\nBlackbird – The Beatles\nHelp! – The Beatles\nCome Together – The Beatles\nYesterday – The Beatles\nAll You Need Is Love – The Beatles\nLove of My Life – Queen\nAnother One Bites the Dust – Queen\nI Want to Break Free – Queen\nWe Are the Champions – Queen\nWe Will Rock You – Queen\nRadio Ga-Ga – Queen\nBohemian Rhapsody – Queen\n\nPerformers\n🎻 String Quartet – Listeso – Anchorage \nBook a Private Event\nLooking to create an unforgettable experience for your team\, clients\, or special occasion? We offer private event bookings with customized programs tailored to your needs. \nGet a Quote for Your Private Event
URL:https://www.listeso.com/concert/2025-10-23-49th-state-brewing-anchorage-candlelight-tribute-to-queen-and-the-beatles/
LOCATION:49th State Brewing – Anchorage\, Anchorage\, AK\, United States
CATEGORIES:Anchorage, AK
ATTACH;FMTTYPE=image/jpeg:https://www.listeso.com/wp-content/uploads/2025/10/4671982c-1a9f-11f0-9bc4-3a9b5e2c983e-6OG8WL.jpg
END:VEVENT
BEGIN:VEVENT
DTSTART;TZID=America/Anchorage:20251009T210000
DTEND;TZID=America/Anchorage:20251009T220000
DTSTAMP:20260421T085626
CREATED:20251001T170521Z
LAST-MODIFIED:20251001T170521Z
UID:10004859-1760043600-1760047200@www.listeso.com
SUMMARY:Candlelight: Rings and Dragons
DESCRIPTION:Overview\nCandlelight concerts bring the magic of a live\, multi-sensory musical experience to awe-inspiring locations like never seen before in Anchorage. Discover the music of Rings and Dragons at 49th State Brewing – Anchorage under the gentle glow of candlelight. \nGeneral Info\n\n⏳ Duration: 60 minutes. Doors open 60 minutes before the show and close 5 minutes prior to the start. Late arrivals will not be permitted\n👤 Age requirement: 8 years old or older. Anyone under the age of 16 must be accompanied by an adult\n♿ Accessibility: The venue is fully accessible\n🪑 Seating: Seating is assigned on a first come first served basis in each zone\n\nProgram\nThemes from The Lord of the Rings by Howard Shore: \n\nThe Shire\nGollum\nThe Caverns of Isengard\nFlaming Red Hair\nThe Passing of the Elves\nSaruman the White\nRivendell\nThe Lighting of the Beacons\nThe Sacrifice of Faramir\nThe Grace of Undómiel\n\nThemes from Game of Thrones by Ramin Djawadi: \n\nMain Theme\nWinter Is Coming\nFire and Blood\nRains of Castamere\nLight of the Seven\nBastard\n\nPerformers\n🎻 Listeso String Quartet \nBook a Private Event\nLooking to create an unforgettable experience for your team\, clients\, or special occasion? We offer private event bookings with customized programs tailored to your needs. \nGet a Quote for Your Private Event
URL:https://www.listeso.com/concert/2025-10-09-49th-state-brewing-anchorage-candlelight-rings-and-dragons/
LOCATION:49th State Brewing – Anchorage\, Anchorage\, AK\, United States
CATEGORIES:Anchorage, AK
ATTACH;FMTTYPE=image/jpeg:https://www.listeso.com/wp-content/uploads/2025/10/56fd8288-408c-11f0-90d3-661e8c2b7a0b-VtxvU3.jpg
END:VEVENT
BEGIN:VEVENT
DTSTART;TZID=America/Anchorage:20251009T183000
DTEND;TZID=America/Anchorage:20251009T193000
DTSTAMP:20260421T085626
CREATED:20251001T170508Z
LAST-MODIFIED:20251001T170508Z
UID:10004858-1760034600-1760038200@www.listeso.com
SUMMARY:Candlelight: Featuring Vivaldi's Four Seasons
DESCRIPTION:Overview\nCandlelight concerts bring the magic of a live\, multi-sensory musical experience to awe-inspiring locations like never seen before in Anchorage. Get your tickets now to discover the music of Vivaldi’s Four Seasons at 49th State Brewing’s Heritage Theater under the gentle glow of candlelight. \nGeneral Info\n\n📍 Venue: 49th State Brewing’s Heritage Theater\n⏳ Duration: 60 minutes. Doors open 45 minutes before the show and close 5 minutes prior to the start. Late arrivals will not be permitted\n👤 Age requirement: 8 years old or older. Anyone under the age of 16 must be accompanied by an adult\n♿ Accessibility: This venue is ADA compliant\n🪑 Seating: Seating is assigned on a first come first served basis in each zone\n\nTentative Program\n\nThe Four Seasons\, Violin Concerto in G Minor\, Op. 8 No. 1 RV 269: “Spring” – Vivaldi\nThe Four Seasons\, Violin Concerto in G Minor\, Op. 8 No. 2 RV 315: “Summer” – Vivaldi\nThaïs: Méditation – Jules Massenet\nRecomposed by Max Richter: Vivaldi\, The Four Seasons: “Spring 3” – Max Richter\nThe Cuatro Estaciones Porteñas: Verano Porteño – Astor Piazzolla\nLibertango – Astor Piazzolla\nThe Four Seasons\, Violin Concerto in G Minor\, Op. 8 No. 3 RV 293: “Autumn” – Vivaldi\nThe Four Seasons\, Violin Concerto in G Minor\, Op. 8 No. 4 RV 297: “Winter” – Vivaldi\n\nPerformers\n🎻 Listeso String Quartet \nBook a Private Event\nLooking to create an unforgettable experience for your team\, clients\, or special occasion? We offer private event bookings with customized programs tailored to your needs. \nGet a Quote for Your Private Event
URL:https://www.listeso.com/concert/2025-10-09-49th-state-brewings-heritage-theater-candlelight-featuring-vivaldis-four-seasons/
LOCATION:49th State Brewing’s Heritage Theater\, Anchorage\, AK\, United States
CATEGORIES:Anchorage, AK
ATTACH;FMTTYPE=image/jpeg:https://www.listeso.com/wp-content/uploads/2025/10/9f8fa516-1ab3-11f0-acbb-460e748c3556-z1oZCe.jpg
END:VEVENT
END:VCALENDAR