BEGIN:VCALENDAR
VERSION:2.0
PRODID:-//Listeso Music Group - A Boutique String Quartet Agency - ECPv6.15.20//NONSGML v1.0//EN
CALSCALE:GREGORIAN
METHOD:PUBLISH
X-ORIGINAL-URL:https://www.listeso.com
X-WR-CALDESC:Events for Listeso Music Group - A Boutique String Quartet Agency
REFRESH-INTERVAL;VALUE=DURATION:PT1H
X-Robots-Tag:noindex
X-PUBLISHED-TTL:PT1H
BEGIN:VTIMEZONE
TZID:America/New_York
BEGIN:DAYLIGHT
TZOFFSETFROM:-0500
TZOFFSETTO:-0400
TZNAME:EDT
DTSTART:20250309T070000
END:DAYLIGHT
BEGIN:STANDARD
TZOFFSETFROM:-0400
TZOFFSETTO:-0500
TZNAME:EST
DTSTART:20251102T060000
END:STANDARD
BEGIN:DAYLIGHT
TZOFFSETFROM:-0500
TZOFFSETTO:-0400
TZNAME:EDT
DTSTART:20260308T070000
END:DAYLIGHT
BEGIN:STANDARD
TZOFFSETFROM:-0400
TZOFFSETTO:-0500
TZNAME:EST
DTSTART:20261101T060000
END:STANDARD
BEGIN:DAYLIGHT
TZOFFSETFROM:-0500
TZOFFSETTO:-0400
TZNAME:EDT
DTSTART:20270314T070000
END:DAYLIGHT
BEGIN:STANDARD
TZOFFSETFROM:-0400
TZOFFSETTO:-0500
TZNAME:EST
DTSTART:20271107T060000
END:STANDARD
END:VTIMEZONE
BEGIN:VEVENT
DTSTART;TZID=America/New_York:20260430T183000
DTEND;TZID=America/New_York:20260430T193000
DTSTAMP:20260421T050503
CREATED:20260314T113951Z
LAST-MODIFIED:20260314T113951Z
UID:10008987-1777573800-1777577400@www.listeso.com
SUMMARY:Candlelight: Tribute to Lauryn Hill
DESCRIPTION:Overview\nCandlelight concerts bring the magic of a live\, multi-sensory musical experience to awe-inspiring locations like never seen before in Augusta. Get your tickets now to discover the music of Lauryn Hill at Sacred Heart Cultural Center under the gentle glow of candlelight. \nGeneral Info\n\n📍 Venue: Sacred Heart Cultural Center\n⏳ Duration: 60 minutes. Doors open 60 minutes before the show and close 5 minutes prior to the start. Late arrivals will not be permitted\n👤 Age requirement: 8 years old or older. Anyone under the age of 16 must be accompanied by an adult\n♿ Accessibility: This venue is ADA compliant\n🪑 Seating: Seating is assigned on a first come first served basis in each zone\n\nTentative Program\n\nFu-Gee-La\nEx-Factor\nTo Zion\nPerfect Gentleman\nGone Till November\nReady or Not\nKilling Me Softly\nNothing Even Matters\nEverything Is Everything\nDoo Wop (That Thing)\n\nPerformers\n🎻 Listeso String Quartet \nBook a Private Event\nLooking to create an unforgettable experience for your wedding\, or special occasion? We offer private event bookings with customized programs tailored to your needs. \nGet a quote
URL:https://www.listeso.com/concert/2026-04-30-sacred-heart-cultural-center-tribute-to-lauryn-hill/
LOCATION:Sacred Heart Cultural Center\, Augusta\, GA\, United States
CATEGORIES:Augusta, GA
ATTACH;FMTTYPE=image/jpeg:https://www.listeso.com/wp-content/uploads/2025/10/1ac8ddee-1463-11f0-ba9a-22b01e61c52d-S64eV5.jpg
END:VEVENT
END:VCALENDAR