BEGIN:VCALENDAR
VERSION:2.0
PRODID:-//Listeso Music Group - A Boutique String Quartet Agency - ECPv6.15.20//NONSGML v1.0//EN
CALSCALE:GREGORIAN
METHOD:PUBLISH
X-ORIGINAL-URL:https://www.listeso.com
X-WR-CALDESC:Events for Listeso Music Group - A Boutique String Quartet Agency
REFRESH-INTERVAL;VALUE=DURATION:PT1H
X-Robots-Tag:noindex
X-PUBLISHED-TTL:PT1H
BEGIN:VTIMEZONE
TZID:America/New_York
BEGIN:DAYLIGHT
TZOFFSETFROM:-0500
TZOFFSETTO:-0400
TZNAME:EDT
DTSTART:20240310T070000
END:DAYLIGHT
BEGIN:STANDARD
TZOFFSETFROM:-0400
TZOFFSETTO:-0500
TZNAME:EST
DTSTART:20241103T060000
END:STANDARD
BEGIN:DAYLIGHT
TZOFFSETFROM:-0500
TZOFFSETTO:-0400
TZNAME:EDT
DTSTART:20250309T070000
END:DAYLIGHT
BEGIN:STANDARD
TZOFFSETFROM:-0400
TZOFFSETTO:-0500
TZNAME:EST
DTSTART:20251102T060000
END:STANDARD
BEGIN:DAYLIGHT
TZOFFSETFROM:-0500
TZOFFSETTO:-0400
TZNAME:EDT
DTSTART:20260308T070000
END:DAYLIGHT
BEGIN:STANDARD
TZOFFSETFROM:-0400
TZOFFSETTO:-0500
TZNAME:EST
DTSTART:20261101T060000
END:STANDARD
END:VTIMEZONE
BEGIN:VEVENT
DTSTART;TZID=America/New_York:20251107T184500
DTEND;TZID=America/New_York:20251107T194500
DTSTAMP:20260421T171100
CREATED:20251001T010939Z
LAST-MODIFIED:20251001T010939Z
UID:10004794-1762541100-1762544700@www.listeso.com
SUMMARY:Candlelight: Neo-Soul Favorites ft. Songs by Prince\, Childish Gambino\, & More
DESCRIPTION:Overview\nCandlelight concerts bring the magic of a live\, multi-sensory musical experience to awe-inspiring locations like never seen before in Baltimore. Get your tickets now to discover the music of Neo-Soul Favorites ft. Songs by Prince\, Childish Gambino\, & More at The Grand Baltimore under the gentle glow of candlelight. \nGeneral Info\n\n📍 Venue: The Grand Baltimore\n⏳ Duration: 60 minutes. Doors open 60 minutes before the show and close 5 minutes prior to the start. Late arrivals will not be permitted\n👤 Age requirement: 8 years old or older. Anyone under the age of 16 must be accompanied by an adult\n♿ Accessibility: This venue is ADA compliant\n🪑 Seating: Seating is assigned on a first come first served basis in each zone\n\nTentative Program\n\nSZA – Good Days\nLauryn Hill – Ex-Factor\nSolange – Don’t Touch My Hair\nMiguel – Adorn\nFrank Ocean – Thinkin Bout You\nPrince – Purple Rain\nSade – Smooth Operator\nD’Angelo – Untitled (How Does It Feel)\nChildish Gambino – Redbone\nH.E.R. – The Best Part\nAlicia Keys – You Don’t Know My Name\nBoyz II Men – End of the Road\n\nPerformers\n🎻 Listeso String Quartet \nBook a Private Event\nLooking to create an unforgettable experience for your team\, clients\, or special occasion? We offer private event bookings with customized programs tailored to your needs. \nGet a Quote for Your Private Event
URL:https://www.listeso.com/concert/2025-11-07-the-grand-baltimore-candlelight-neo-soul-favorites/
LOCATION:The Grand Baltimore\, Baltimore\, MD\, United States
CATEGORIES:Baltimore, MD
ATTACH;FMTTYPE=image/jpeg:https://www.listeso.com/wp-content/uploads/2025/10/850e7bec-146c-11f0-8c20-560fcd616747-zSYn3n.jpg
END:VEVENT
BEGIN:VEVENT
DTSTART;TZID=America/New_York:20251107T210000
DTEND;TZID=America/New_York:20251107T220000
DTSTAMP:20260421T171100
CREATED:20251001T010927Z
LAST-MODIFIED:20251001T010927Z
UID:10004793-1762549200-1762552800@www.listeso.com
SUMMARY:Candlelight: Best of Hip-Hop
DESCRIPTION:Overview\nCandlelight concerts bring the magic of a live\, multi-sensory musical experience to awe-inspiring locations like never seen before in Baltimore. Get your tickets now to discover the music of Hip-Hop at The Grand Baltimore under the gentle glow of candlelight. \nGeneral Info\n\n📍 Venue: The Grand Baltimore\n⏳ Duration: 60 minutes. Doors open 60 minutes before the show and close 5 minutes prior to the start. Late arrivals will not be permitted\n👤 Age requirement: 8 years old or older. Anyone under the age of 16 must be accompanied by an adult\n♿ Accessibility: This venue is ADA compliant\n🪑 Seating: Seating is assigned on a first come first served basis in each zone\n\nTentative Program\n\nGangsta’s Paradise – Coolio\nI Like It – Cardi B\nJay-Z Medley\nOutkast Medley\nLauryn Hill and Fugees Medley\nPassionfruit – Drake\nSwimming Pools – Kendrick Lamar\n2Pac Medley\nThe Notorious B.I.G. Medley\nDr. Dre Medley\nEminem Medley\n\nPerformers\n🎻 Kennedy String Quartet \nBook a Private Event\nLooking to create an unforgettable experience for your team\, clients\, or special occasion? We offer private event bookings with customized programs tailored to your needs. \nGet a Quote for Your Private Event
URL:https://www.listeso.com/concert/2025-11-07-the-grand-baltimore-candlelight-best-of-hip-hop/
LOCATION:The Grand Baltimore\, Baltimore\, MD\, United States
CATEGORIES:Baltimore, MD
ATTACH;FMTTYPE=image/jpeg:https://www.listeso.com/wp-content/uploads/2025/10/4380b5d2-1516-11f0-9156-560324ce043d-LKCEhn.jpg
END:VEVENT
BEGIN:VEVENT
DTSTART;TZID=America/New_York:20251122T183000
DTEND;TZID=America/New_York:20251122T193000
DTSTAMP:20260421T171100
CREATED:20251001T170855Z
LAST-MODIFIED:20251001T170855Z
UID:10004875-1763836200-1763839800@www.listeso.com
SUMMARY:Candlelight: Tribute to Drake
DESCRIPTION:Overview\nCandlelight concerts bring the magic of a live\, multi-sensory musical experience to awe-inspiring locations like never seen before in Baltimore. Get your tickets now to discover the music of Drake at Maryland Center for History and Culture under the gentle glow of candlelight. \nGeneral Info\n\n📍 Venue: Maryland Center for History and Culture\n⏳ Duration: 60 minutes. Doors open 45 minutes before the show and close 5 minutes prior to the start. Late arrivals will not be permitted\n👤 Age requirement: 8 years old or older. Anyone under the age of 16 must be accompanied by an adult\n♿ Accessibility: This venue is ADA compliant\n🪑 Seating: Seating is assigned on a first come first served basis in each zone\n\nTentative Program\n\nPassionfruit\nMarvins Room\nTeenage Fever\nHeadlines\nTake Care\nLaugh Now Cry Later\nGod’s Plan\nControlla\nFair Trade\nCrew Love\nOver\nIn My Feelings\nOne Dance\nHold On\, We’re Going Home\n\nPerformers\n🎻 Listeso String Quartet \nBook a Private Event\nLooking to create an unforgettable experience for your team\, clients\, or special occasion? We offer private event bookings with customized programs tailored to your needs. \nGet a Quote for Your Private Event
URL:https://www.listeso.com/concert/2025-11-22-maryland-center-for-history-and-culture-candlelight-tribute-to-drake/
LOCATION:Maryland Center for History and Culture\, Baltimore\, MD\, United States
CATEGORIES:Baltimore, MD
ATTACH;FMTTYPE=image/jpeg:https://www.listeso.com/wp-content/uploads/2025/10/28342eaa-40b1-11f0-894a-6ac72220cacc-xuut4C.jpg
END:VEVENT
BEGIN:VEVENT
DTSTART;TZID=America/New_York:20251122T203000
DTEND;TZID=America/New_York:20251122T213000
DTSTAMP:20260421T171100
CREATED:20251001T170842Z
LAST-MODIFIED:20251001T170842Z
UID:10004874-1763843400-1763847000@www.listeso.com
SUMMARY:Candlelight: Tribute to Whitney Houston
DESCRIPTION:Overview\nCandlelight concerts bring the magic of a live\, multi-sensory musical experience to awe-inspiring locations like never seen before in Baltimore. Get your tickets now to discover the music of Whitney Houston at Maryland Center for History and Culture under the gentle glow of candlelight. \nGeneral Info\n\n📍 Venue: Maryland Center for History and Culture\n⏳ Duration: 60 minutes. Doors open 45 minutes before the show and close 5 minutes prior to the start. Late arrivals will not be permitted\n👤 Age requirement: 8 years old or older. Anyone under the age of 16 must be accompanied by an adult\n♿ Accessibility: This venue is ADA compliant\n🪑 Seating: Seating is assigned on a first come first served basis in each zone\n\nTentative Program\n\nHow Will I Know\nGreatest Love of All\nOne Moment in Time\nI Have Nothing\nYou Light Up My Life\nSo Emotional\nWhen You Believe (ft. Mariah Carey)\nSaving All My Love for You\nIt’s Not Right but It’s Okay\nWhere Do Broken Hearts Go\nI Will Always Love You\nI Wanna Dance With Somebody\n\nPerformers\n🎻 Listeso String Quartet \nBook a Private Event\nLooking to create an unforgettable experience for your team\, clients\, or special occasion? We offer private event bookings with customized programs tailored to your needs. \nGet a Quote for Your Private Event
URL:https://www.listeso.com/concert/2025-11-22-maryland-center-for-history-and-culture-candlelight-tribute-to-whitney-houston/
LOCATION:Maryland Center for History and Culture\, Baltimore\, MD\, United States
CATEGORIES:Baltimore, MD
ATTACH;FMTTYPE=image/jpeg:https://www.listeso.com/wp-content/uploads/2025/10/ad0d8972-0af7-11f0-adb6-3294fec770fa-WDyQj6.jpg
END:VEVENT
BEGIN:VEVENT
DTSTART;TZID=America/New_York:20251128T183000
DTEND;TZID=America/New_York:20251128T193000
DTSTAMP:20260421T171100
CREATED:20251001T170908Z
LAST-MODIFIED:20251001T170908Z
UID:10004876-1764354600-1764358200@www.listeso.com
SUMMARY:Candlelight: Vivaldi's Four Seasons
DESCRIPTION:Overview\nCandlelight concerts bring the magic of a live\, multi-sensory musical experience to awe-inspiring locations like never seen before in Baltimore. Get your tickets now to discover the music of Vivaldi’s Four Seasons at The Collective Encore under the gentle glow of candlelight. \nGeneral Info\n\n⏳ Duration: 60 minutes. Doors open 45 minutes before the show and close 5 minutes prior to the start. Late arrivals will not be permitted\n👤 Age requirement: 8 years old or older. Anyone under the age of 16 must be accompanied by an adult\n♿ Accessibility: This venue is ADA compliant\n🪑 Seating: Seating is assigned on a first come first served basis in each zone\n\nTentative Program\n\nThe Four Seasons\, Violin Concerto in G Minor\, Op. 8 No. 1 RV 269: Spring\nThe Four Seasons\, Violin Concerto in G Minor\, Op. 8 No. 2 RV 315: Summer\nThe Four Seasons\, Violin Concerto in G Minor\, Op. 8 No. 3 RV 293: Autumn\nThe Four Seasons\, Violin Concerto in G Minor\, Op. 8 No. 4 RV 297: Winter\nSonata n.12 in d-minor “La Follia” RV 63\n\nPerformers\n🎻 Listeso String Quartet \nBook a Private Event\nLooking to create an unforgettable experience for your team\, clients\, or special occasion? We offer private event bookings with customized programs tailored to your needs. \nGet a Quote for Your Private Event
URL:https://www.listeso.com/concert/2025-11-28-the-collective-encore-candlelight-vivaldis-four-seasons/
LOCATION:The Collective Encore\, Baltimore\, MD\, United States
CATEGORIES:Baltimore, MD
ATTACH;FMTTYPE=image/jpeg:https://www.listeso.com/wp-content/uploads/2025/10/9bdc2556-1ab4-11f0-8624-6e8226e0238e-WVrOeC.jpg
END:VEVENT
BEGIN:VEVENT
DTSTART;TZID=America/New_York:20251129T203000
DTEND;TZID=America/New_York:20251129T213000
DTSTAMP:20260421T171100
CREATED:20251001T170921Z
LAST-MODIFIED:20251001T170921Z
UID:10004877-1764448200-1764451800@www.listeso.com
SUMMARY:Candlelight: Tribute to The Beatles
DESCRIPTION:Overview\nCandlelight concerts bring the magic of a live\, multi-sensory musical experience to awe-inspiring locations like never seen before in Baltimore. Get your tickets now to discover the music of The Beatles at Maryland Center for History and Culture under the gentle glow of candlelight. \nGeneral Info\n\n📍 Venue: Maryland Center for History and Culture\n⏳ Duration: 60 minutes. Doors open 45 minutes before the show and close 5 minutes prior to the start. Late arrivals will not be permitted\n👤 Age requirement: 8 years old or older. Anyone under the age of 16 must be accompanied by an adult\n♿ Accessibility: This venue is ADA compliant\n🪑 Seating: Seating is assigned on a first come first served basis in each zone\n\nTentative Program\n\nI Want To Hold Your Hand\nPenny Lane\nStrawberry Fields\nCome Together\nHere Comes the Sun\nWith A Little Help From My Friends\nHelp!\nEleanor Rigby\nWhile My Guitar Gently Weeps\nHelter Skelter\nBlackbird\nA Day in the Life\nYesterday\nLet It Be\n\nPerformers\n🎻 Listeso String Quartet \nBook a Private Event\nLooking to create an unforgettable experience for your team\, clients\, or special occasion? We offer private event bookings with customized programs tailored to your needs. \nGet a Quote for Your Private Event
URL:https://www.listeso.com/concert/2025-11-29-maryland-center-for-history-and-culture-candlelight-tribute-to-the-beatles/
LOCATION:Maryland Center for History and Culture\, Baltimore\, MD\, United States
CATEGORIES:Baltimore, MD
ATTACH;FMTTYPE=image/jpeg:https://www.listeso.com/wp-content/uploads/2025/10/c17e88b4-1a8f-11f0-9e2a-06219c51c6f2-XM6weN.jpg
END:VEVENT
END:VCALENDAR