BEGIN:VCALENDAR
VERSION:2.0
PRODID:-//Listeso Music Group - A Boutique String Quartet Agency - ECPv6.15.20//NONSGML v1.0//EN
CALSCALE:GREGORIAN
METHOD:PUBLISH
X-WR-CALNAME:Listeso Music Group - A Boutique String Quartet Agency
X-ORIGINAL-URL:https://www.listeso.com
X-WR-CALDESC:Events for Listeso Music Group - A Boutique String Quartet Agency
REFRESH-INTERVAL;VALUE=DURATION:PT1H
X-Robots-Tag:noindex
X-PUBLISHED-TTL:PT1H
BEGIN:VTIMEZONE
TZID:America/New_York
BEGIN:DAYLIGHT
TZOFFSETFROM:-0500
TZOFFSETTO:-0400
TZNAME:EDT
DTSTART:20240310T070000
END:DAYLIGHT
BEGIN:STANDARD
TZOFFSETFROM:-0400
TZOFFSETTO:-0500
TZNAME:EST
DTSTART:20241103T060000
END:STANDARD
BEGIN:DAYLIGHT
TZOFFSETFROM:-0500
TZOFFSETTO:-0400
TZNAME:EDT
DTSTART:20250309T070000
END:DAYLIGHT
BEGIN:STANDARD
TZOFFSETFROM:-0400
TZOFFSETTO:-0500
TZNAME:EST
DTSTART:20251102T060000
END:STANDARD
BEGIN:DAYLIGHT
TZOFFSETFROM:-0500
TZOFFSETTO:-0400
TZNAME:EDT
DTSTART:20260308T070000
END:DAYLIGHT
BEGIN:STANDARD
TZOFFSETFROM:-0400
TZOFFSETTO:-0500
TZNAME:EST
DTSTART:20261101T060000
END:STANDARD
END:VTIMEZONE
BEGIN:VEVENT
DTSTART;TZID=America/New_York:20251205T183000
DTEND;TZID=America/New_York:20251205T193000
DTSTAMP:20260421T154051
CREATED:20251023T110059Z
LAST-MODIFIED:20251023T110059Z
UID:10006051-1764959400-1764963000@www.listeso.com
SUMMARY:Candlelight: Rings and Dragons
DESCRIPTION:Overview\nCandlelight concerts bring the magic of a live\, multi-sensory musical experience to awe-inspiring locations like never seen before in Baltimore. Get your tickets now to discover the music of Rings and Dragons at Maryland Center for History and Culture under the gentle glow of candlelight. \nGeneral Info\n\n📍 Venue: Maryland Center for History and Culture\n⏳ Duration: 60 minutes. Doors open 45 minutes before the show and close 5 minutes prior to the start. Late arrivals will not be permitted\n👤 Age requirement: 8 years old or older. Anyone under the age of 16 must be accompanied by an adult\n♿ Accessibility: ADA compliant\n🪑 Seating: Seating is assigned on a first come first served basis in each zone\n\nTentative Program\nThemes from The Lord of the Rings by Howard Shore \n\nThe Shire\nGollum\nThe Caverns of Isengard\nFlaming Red Hair\nThe Passing of the Elves\nSaruman the White\nRivendell\nLighting of the Beacons\nThe Sacrifice of Faramir\nThe Grace of Undómiel\n\nThemes from Game of Thrones by Ramin Djawadi \n\nGame of Thrones Main Theme\nFire and Blood\nRains of Castamere\nLight of the Seven\nBastard (Part II)\n\nPerformers\n🎻 Listeso String Quartet \nBook a Private Event\nLooking to create an unforgettable experience for your wedding\, or special occasion? We offer private event bookings with customized programs tailored to your needs. \nGet a quote
URL:https://www.listeso.com/concert/2025-12-05-maryland-center-for-history-and-culture-rings-and-dragons/
LOCATION:Maryland Center for History and Culture\, Baltimore\, MD\, United States
CATEGORIES:Baltimore, MD
ATTACH;FMTTYPE=image/jpeg:https://www.listeso.com/wp-content/uploads/2025/10/df2cb9b2-1490-11f0-9384-f65f346f445e-LNgK1h.jpg
END:VEVENT
BEGIN:VEVENT
DTSTART;TZID=America/New_York:20251205T203000
DTEND;TZID=America/New_York:20251205T213000
DTSTAMP:20260421T154051
CREATED:20251023T110045Z
LAST-MODIFIED:20251023T110045Z
UID:10006050-1764966600-1764970200@www.listeso.com
SUMMARY:Candlelight: Queen vs. ABBA
DESCRIPTION:Overview\nCandlelight concerts bring the magic of a live\, multi-sensory musical experience to awe-inspiring locations like never seen before in Baltimore. Get your tickets now to discover the music of Queen vs. ABBA at Maryland Center for History and Culture under the gentle glow of candlelight. \nGeneral Info\n\n📍 Venue: Maryland Center for History and Culture\n⏳ Duration: 60 minutes. Doors open 45 minutes before the show and close 5 minutes prior to the start. Late arrivals will not be permitted\n👤 Age requirement: 8 years old or older. Anyone under the age of 16 must be accompanied by an adult\n♿ Accessibility: ADA compliant\n🪑 Seating: Seating is assigned on a first come first served basis in each zone\n\nTentative Program\n\nDancing Queen – ABBA\nSOS – ABBA\nMoney\, Money\, Money – ABBA\nVoulez Vous – ABBA\nBohemian Rhapsody – Queen\nI Want to Break Free – Queen\nKiller Queen – Queen\nWaterloo – ABBA\nSuper Trouper – ABBA\nMamma Mia – ABBA\nDon’t Stop Me Now – Queen\nWe Will Rock You – Queen\nWe Are the Champions – Queen\nGimme Gimme Gimme – ABBA\n\nPerformers\n🎻 Listeso String Quartet \nBook a Private Event\nLooking to create an unforgettable experience for your wedding\, or special occasion? We offer private event bookings with customized programs tailored to your needs. \nGet a quote
URL:https://www.listeso.com/concert/2025-12-05-maryland-center-for-history-and-culture-candlelight-queen-vs-abba/
LOCATION:Maryland Center for History and Culture\, Baltimore\, MD\, United States
CATEGORIES:Baltimore, MD
ATTACH;FMTTYPE=image/jpeg:https://www.listeso.com/wp-content/uploads/2025/10/ad60b410-1945-11f0-bf40-961efeb2b763-xrNulH.jpg
END:VEVENT
BEGIN:VEVENT
DTSTART;TZID=America/New_York:20251212T203000
DTEND;TZID=America/New_York:20251212T213000
DTSTAMP:20260421T154051
CREATED:20251001T010953Z
LAST-MODIFIED:20251001T010953Z
UID:10004795-1765571400-1765575000@www.listeso.com
SUMMARY:Candlelight: Hip-hop on Strings
DESCRIPTION:Overview\nCandlelight concerts bring the magic of a live\, multi-sensory musical experience to awe-inspiring locations like never seen before in Baltimore. Get your tickets now to discover the music of Hip-hop classics at First Unitarian Church Baltimore under the gentle glow of candlelight. \nGeneral Info\n\n⏳ Duration: 60 minutes. Doors open 45 minutes before the show and close 5 minutes prior to the start. Late arrivals will not be permitted\n👤 Age requirement: 8 years old or older. Anyone under the age of 16 must be accompanied by an adult\n♿ Accessibility: This venue is ADA compliant\n🪑 Seating: Seating is assigned on a first come first served basis in each zone\n\nTentative Program\n\n2Pac Medley\nDrunk in Love – Beyonce\nI Like It – Cardi B\nGangsta’s Paradise – Coolio\nDr. Dre Medley\nPassionfruit – Drake\nEminem Medley\nJay-Z Medley\nSwimming Pools – Kendrick Lamar\nLauryn Hill and Fugees Medley\nOutkast Medley\nThe Notorious B.I.G. Medley\n\nPerformers\n🎻 String Quartet + Percussions \nBook a Private Event\nLooking to create an unforgettable experience for your team\, clients\, or special occasion? We offer private event bookings with customized programs tailored to your needs. \nGet a Quote for Your Private Event
URL:https://www.listeso.com/concert/2025-12-12-first-unitarian-church-baltimore-candlelight-hip-hop-on-strings/
LOCATION:First Unitarian Church Baltimore\, Baltimore\, MD\, United States
CATEGORIES:Baltimore, MD
ATTACH;FMTTYPE=image/jpeg:https://www.listeso.com/wp-content/uploads/2025/10/0333ea26-1516-11f0-a637-fad4b74c3ddb-2HI2sy.jpg
END:VEVENT
BEGIN:VEVENT
DTSTART;TZID=America/New_York:20251219T183000
DTEND;TZID=America/New_York:20251219T193000
DTSTAMP:20260421T154051
CREATED:20251001T011009Z
LAST-MODIFIED:20251001T011009Z
UID:10004796-1766169000-1766172600@www.listeso.com
SUMMARY:Candlelight: Christmas Special Featuring "The Nutcracker" & More
DESCRIPTION:Overview\nCandlelight concerts bring the magic of a live\, multi-sensory musical experience to awe-inspiring locations like never seen before in Baltimore. Get your tickets now to discover music inspired by the winter and the holiday spirit at The Baltimore Museum of Art (Meyerhoff Auditorium) under the gentle glow of candlelight. \nGeneral Info\n\n📍 Venue: The Baltimore Museum of Art (Meyerhoff Auditorium)\n⏳ Duration: 60 minutes. Doors open 45 minutes before the show and close 5 minutes prior to the start. Late arrivals will not be permitted\n👤 Age requirement: 8 years old or older. Anyone under the age of 16 must be accompanied by an adult\n♿ Accessibility: ADA compliant\n🪑 Seating: Seating is assigned on a first come first served basis in each zone\n\nTentative Program\n\nO Holy Night – Adolphe Adam\nMa’oz Tzur – Traditional Hanukkah Song\nThe Snow is Dancing – Claude Debussy\nThe Seasons\, Op. 37a – Pyotr Ilyich Tchaikovsky\n\nI. January. By the Hearth\nXII. December. Christmas\n\n\nThe Skaters Waltz\, Op. 183 (Les Patineurs) – Émile Waldteufel\nGreensleeves (What Child is This) – Traditional\nThe Nutcracker\, Op. 71 – Pyotr Ilyich Tchaikovsky\n\nMiniature Overture\nAct I\, Scene II: No. 2\, March\nAct II: No. 12d\, Divertissement. Trepak\, Russian Dance\nAct II: No. 13\, Waltz of the Flowers\nAct II: No. 14c\, Pas de Deux. Variation II\, Dance of the Sugar Plum Fairy\n\n\nThe Four Seasons\, Violin Concerto in G Minor\, Op. 8 No. 4 RV 297: Winter – Vivaldi\n\nPerformers\n🎻 String Quartet – Listeso – Washington DC \nBook a Private Event\nLooking to create an unforgettable experience for your team\, clients\, or special occasion? We offer private event bookings with customized programs tailored to your needs. \nGet a Quote for Your Private Event
URL:https://www.listeso.com/concert/2025-12-19-the-baltimore-museum-of-art-meyerhoff-auditorium-candlelight-christmas-special-featuring-the-nutcracker-and-more/
LOCATION:The Baltimore Museum of Art (Meyerhoff Auditorium)\, Baltimore\, MD\, United States
CATEGORIES:Baltimore, MD
ATTACH;FMTTYPE=image/jpeg:https://www.listeso.com/wp-content/uploads/2025/10/cc249c18-3fba-11f0-bfde-cebdfc678a0e-lr2vPQ.jpg
END:VEVENT
BEGIN:VEVENT
DTSTART;TZID=America/New_York:20251220T183000
DTEND;TZID=America/New_York:20251220T193000
DTSTAMP:20260421T154051
CREATED:20251105T120153Z
LAST-MODIFIED:20251105T120153Z
UID:10006443-1766255400-1766259000@www.listeso.com
SUMMARY:Candlelight: Christmas Carols on Strings
DESCRIPTION:Overview\nCandlelight concerts bring the magic of a live\, multi-sensory musical experience to awe-inspiring locations like never seen before in Baltimore. Get your tickets now to discover the music of Christmas Carols on Strings at Maryland Center for History and Culture under the gentle glow of candlelight. \nGeneral Info\n\n📍 Venue: Maryland Center for History and Culture\n⏳ Duration: 60 minutes. Doors open 45 minutes before the show and close 5 minutes prior to the start. Late arrivals will not be permitted\n👤 Age requirement: 8 years old or older. Anyone under the age of 16 must be accompanied by an adult\n♿ Accessibility: This venue is ADA compliant\n🪑 Seating: Seating is assigned on a first come first served basis in each zone\n\nTentative Program\n\n12 Days of Christmas\nAngels from the Realms of Glory\nAngels We Have Heard On High\nAway in a Manger\nCarol of the Bells\nDeck the Halls\nDing Dong! Merrily on High\nDo You Hear What I Hear\nGod Rest Ye Merry Gentlemen\nGood King Wenceslas\nGreensleeves (What Child Is This)\nHark! The Herald Angels Sing\nIn the Bleak Mid-Winter\nJoy to the World\nO Christmas Tree (O Tannenbaum)\nO Come All Ye Faithful\nO Holy Night\nO Little Town of Bethlehem\nSilent Night\nThe First Noël\n\nPerformers\n🎻 Listeso String Quartet \nBook a Private Event\nLooking to create an unforgettable experience for your wedding\, or special occasion? We offer private event bookings with customized programs tailored to your needs. \nGet a quote
URL:https://www.listeso.com/concert/2025-12-20-maryland-center-for-history-and-culture-christmas-carols-on-strings/
LOCATION:Maryland Center for History and Culture\, Baltimore\, MD\, United States
CATEGORIES:Baltimore, MD
ATTACH;FMTTYPE=image/jpeg:https://www.listeso.com/wp-content/uploads/2025/10/52a3d270-3f95-11f0-8e93-ca060e10daed-hFlre5.jpg
END:VEVENT
BEGIN:VEVENT
DTSTART;TZID=America/New_York:20251221T183000
DTEND;TZID=America/New_York:20251221T193000
DTSTAMP:20260421T154051
CREATED:20251025T110038Z
LAST-MODIFIED:20251025T110038Z
UID:10006111-1766341800-1766345400@www.listeso.com
SUMMARY:Candlelight: Tribute to The Beatles
DESCRIPTION:Overview\nCandlelight concerts bring the magic of a live\, multi-sensory musical experience to awe-inspiring locations like never seen before in Baltimore. Get your tickets now to discover the music of The Beatles at Maryland Center for History and Culture under the gentle glow of candlelight. \nGeneral Info\n\n📍 Venue: Maryland Center for History and Culture\n⏳ Duration: 60 minutes. Doors open 45 minutes before the show and close 5 minutes prior to the start. Late arrivals will not be permitted\n👤 Age requirement: 8 years old or older. Anyone under the age of 16 must be accompanied by an adult\n♿ Accessibility: This venue is ADA compliant\n🪑 Seating: Seating is assigned on a first come first served basis in each zone\n\nTentative Program\n\nI Want To Hold Your Hand\nPenny Lane\nStrawberry Fields\nCome Together\nHere Comes the Sun\nWith A Little Help From My Friends\nHelp!\nEleanor Rigby\nWhile My Guitar Gently Weeps\nHelter Skelter\nBlackbird\nA Day in the Life\nYesterday\nLet It Be\n\nPerformers\n🎻 Listeso String Quartet \nBook a Private Event\nLooking to create an unforgettable experience for your wedding\, or special occasion? We offer private event bookings with customized programs tailored to your needs. \nGet a quote
URL:https://www.listeso.com/concert/2025-12-21-maryland-center-for-history-and-culture-tribute-to-the-beatles/
LOCATION:Maryland Center for History and Culture\, Baltimore\, MD\, United States
CATEGORIES:Baltimore, MD
ATTACH;FMTTYPE=image/jpeg:https://www.listeso.com/wp-content/uploads/2025/10/c17e88b4-1a8f-11f0-9e2a-06219c51c6f2-XM6weN.jpg
END:VEVENT
BEGIN:VEVENT
DTSTART;TZID=America/New_York:20251221T203000
DTEND;TZID=America/New_York:20251221T213000
DTSTAMP:20260421T154051
CREATED:20251025T110051Z
LAST-MODIFIED:20251025T110051Z
UID:10006112-1766349000-1766352600@www.listeso.com
SUMMARY:Candlelight: Tribute to Drake
DESCRIPTION:Overview\nCandlelight concerts bring the magic of a live\, multi-sensory musical experience to awe-inspiring locations like never seen before in Baltimore. Get your tickets now to discover the music of Drake at Maryland Center for History and Culture under the gentle glow of candlelight. \nGeneral Info\n\n📍 Venue: Maryland Center for History and Culture\n⏳ Duration: 60 minutes. Doors open 45 minutes before the show and close 5 minutes prior to the start. Late arrivals will not be permitted\n👤 Age requirement: 8 years old or older. Anyone under the age of 16 must be accompanied by an adult\n♿ Accessibility: This venue is ADA compliant\n🪑 Seating: Seating is assigned on a first come first served basis in each zone\n\nTentative Program\n\nPassionfruit\nMarvins Room\nTeenage Fever\nHeadlines\nTake Care\nLaugh Now Cry Later\nGod’s Plan\nControlla\nFair Trade\nCrew Love\nOver\nIn My Feelings\nOne Dance\nHold On\, We’re Going Home\n\nPerformers\n🎻 Listeso String Quartet \nBook a Private Event\nLooking to create an unforgettable experience for your wedding\, or special occasion? We offer private event bookings with customized programs tailored to your needs. \nGet a quote
URL:https://www.listeso.com/concert/2025-12-21-maryland-center-for-history-and-culture-candlelight-tribute-to-drake/
LOCATION:Maryland Center for History and Culture\, Baltimore\, MD\, United States
CATEGORIES:Baltimore, MD
ATTACH;FMTTYPE=image/jpeg:https://www.listeso.com/wp-content/uploads/2025/10/28342eaa-40b1-11f0-894a-6ac72220cacc-xuut4C.jpg
END:VEVENT
END:VCALENDAR