BEGIN:VCALENDAR
VERSION:2.0
PRODID:-//Listeso Music Group - A Boutique String Quartet Agency - ECPv6.15.20//NONSGML v1.0//EN
CALSCALE:GREGORIAN
METHOD:PUBLISH
X-ORIGINAL-URL:https://www.listeso.com
X-WR-CALDESC:Events for Listeso Music Group - A Boutique String Quartet Agency
REFRESH-INTERVAL;VALUE=DURATION:PT1H
X-Robots-Tag:noindex
X-PUBLISHED-TTL:PT1H
BEGIN:VTIMEZONE
TZID:America/New_York
BEGIN:DAYLIGHT
TZOFFSETFROM:-0500
TZOFFSETTO:-0400
TZNAME:EDT
DTSTART:20250309T070000
END:DAYLIGHT
BEGIN:STANDARD
TZOFFSETFROM:-0400
TZOFFSETTO:-0500
TZNAME:EST
DTSTART:20251102T060000
END:STANDARD
BEGIN:DAYLIGHT
TZOFFSETFROM:-0500
TZOFFSETTO:-0400
TZNAME:EDT
DTSTART:20260308T070000
END:DAYLIGHT
BEGIN:STANDARD
TZOFFSETFROM:-0400
TZOFFSETTO:-0500
TZNAME:EST
DTSTART:20261101T060000
END:STANDARD
BEGIN:DAYLIGHT
TZOFFSETFROM:-0500
TZOFFSETTO:-0400
TZNAME:EDT
DTSTART:20270314T070000
END:DAYLIGHT
BEGIN:STANDARD
TZOFFSETFROM:-0400
TZOFFSETTO:-0500
TZNAME:EST
DTSTART:20271107T060000
END:STANDARD
END:VTIMEZONE
BEGIN:VEVENT
DTSTART;TZID=America/New_York:20260102T183000
DTEND;TZID=America/New_York:20260102T193000
DTSTAMP:20260421T152150
CREATED:20251108T120952Z
LAST-MODIFIED:20251108T120952Z
UID:10006574-1767378600-1767382200@www.listeso.com
SUMMARY:Candlelight: Vivaldi's Four Seasons
DESCRIPTION:Overview\nCandlelight concerts bring the magic of a live\, multi-sensory musical experience to awe-inspiring locations like never seen before in Baltimore. Get your tickets now to discover the music of Vivaldi’s Four Seasons at The Collective Encore under the gentle glow of candlelight. \nGeneral Info\n\n⏳ Duration: 60 minutes. Doors open 45 minutes before the show and close 5 minutes prior to the start. Late arrivals will not be permitted\n👤 Age requirement: 8 years old or older. Anyone under the age of 16 must be accompanied by an adult\n♿ Accessibility: This venue is ADA compliant\n🪑 Seating: Seating is assigned on a first come first served basis in each zone\n\nTentative Program\n\nThe Four Seasons\, Violin Concerto in G Minor\, Op. 8 No. 1 RV 269: Spring\nThe Four Seasons\, Violin Concerto in G Minor\, Op. 8 No. 2 RV 315: Summer\nThe Four Seasons\, Violin Concerto in G Minor\, Op. 8 No. 3 RV 293: Autumn\nThe Four Seasons\, Violin Concerto in G Minor\, Op. 8 No. 4 RV 297: Winter\nSonata n.12 in d-minor “La Follia” RV 63\n\nPerformers\n🎻 Listeso String Quartet \nBook a Private Event\nLooking to create an unforgettable experience for your wedding\, or special occasion? We offer private event bookings with customized programs tailored to your needs. \nGet a quote
URL:https://www.listeso.com/concert/2026-01-02-the-collective-encore-vivaldis-four-seasons/
LOCATION:The Collective Encore\, Baltimore\, MD\, United States
CATEGORIES:Baltimore, MD
ATTACH;FMTTYPE=image/jpeg:https://www.listeso.com/wp-content/uploads/2025/10/9bdc2556-1ab4-11f0-8624-6e8226e0238e-WVrOeC.jpg
END:VEVENT
BEGIN:VEVENT
DTSTART;TZID=America/New_York:20260109T183000
DTEND;TZID=America/New_York:20260109T193000
DTSTAMP:20260421T152150
CREATED:20251111T120117Z
LAST-MODIFIED:20251111T120117Z
UID:10006827-1767983400-1767987000@www.listeso.com
SUMMARY:Candlelight: Tribute to Lauryn Hill
DESCRIPTION:Overview\nCandlelight concerts bring the magic of a live\, multi-sensory musical experience to awe-inspiring locations like never seen before in Baltimore. Get your tickets now to discover the music of Lauryn Hill at The Baltimore Museum of Art (Meyerhoff Auditorium) under the gentle glow of candlelight. \nGeneral Info\n\n📍 Venue: The Baltimore Museum of Art (Meyerhoff Auditorium)\n⏳ Duration: 60 minutes. Doors open 45 minutes before the show and close 5 minutes prior to the start. Late arrivals will not be permitted\n👤 Age requirement: 8 years old or older. Anyone under the age of 16 must be accompanied by an adult\n♿ Accessibility: ADA compliant\n🪑 Seating: Seating is assigned on a first come first served basis in each zone\n\nTentative Program\n\nFu-Gee-La\nEx-Factor\nTo Zion\nPerfect Gentleman\nGone Till November\nReady or Not\nKilling Me Softly\nNothing Even Matters\nEverything Is Everything\nDoo Wop (That Thing)\n\nPerformers\n🎻 String Quartet – Listeso – Washington DC \nBook a Private Event\nLooking to create an unforgettable experience for your wedding\, or special occasion? We offer private event bookings with customized programs tailored to your needs. \nGet a quote
URL:https://www.listeso.com/concert/2026-01-09-the-baltimore-museum-of-art-meyerhoff-auditorium-tribute-to-lauryn-hill/
LOCATION:The Baltimore Museum of Art (Meyerhoff Auditorium)\, Baltimore\, MD\, United States
CATEGORIES:Baltimore, MD
ATTACH;FMTTYPE=image/jpeg:https://www.listeso.com/wp-content/uploads/2025/10/3db95f90-1463-11f0-956d-6253bcac31f5-YjMkiR.jpg
END:VEVENT
BEGIN:VEVENT
DTSTART;TZID=America/New_York:20260109T204500
DTEND;TZID=America/New_York:20260109T214500
DTSTAMP:20260421T152150
CREATED:20251001T011023Z
LAST-MODIFIED:20251001T011023Z
UID:10004797-1767991500-1767995100@www.listeso.com
SUMMARY:Candlelight: Coldplay & Imagine Dragons
DESCRIPTION:Overview\nCandlelight concerts bring the magic of a live\, multi-sensory musical experience to awe-inspiring locations like never seen before in Baltimore. Get your tickets now to discover the music of Coldplay & Imagine Dragons at The Baltimore Museum of Art (Meyerhoff Auditorium) under the gentle glow of candlelight. \nGeneral Info\n\n📍 Venue: The Baltimore Museum of Art (Meyerhoff Auditorium)\n⏳ Duration: 60 minutes. Doors open 45 minutes before the show and close 5 minutes prior to the start. Late arrivals will not be permitted\n👤 Age requirement: 8 years old or older. Anyone under the age of 16 must be accompanied by an adult\n♿ Accessibility: ADA compliant\n🪑 Seating: Seating is assigned on a first come first served basis in each zone\n\nTentative Program\n\nColdplay – Clocks\nImagine Dragons – Radioactive\nColdplay – Adventure of a Lifetime\nColdplay – Fix You\nImagine Dragons – Eyes Closed\nImagine Dragons – Nice to Meet You\nColdplay – The Scientist\nColdplay – feelslikeimfallinginlove\nImagine Dragons – Follow You\nImagine Dragons – Bad Liar\nImagine Dragons – Believer\nColdplay – Sky Full of Stars\nColdplay – Viva la Vida\n\nPerformers\n🎻 String Quartet – Listeso – Washington DC \nBook a Private Event\nLooking to create an unforgettable experience for your team\, clients\, or special occasion? We offer private event bookings with customized programs tailored to your needs. \nGet a Quote for Your Private Event
URL:https://www.listeso.com/concert/2026-01-09-the-baltimore-museum-of-art-meyerhoff-auditorium-coldplay-imagine-dragons/
LOCATION:The Baltimore Museum of Art (Meyerhoff Auditorium)\, Baltimore\, MD\, United States
CATEGORIES:Baltimore, MD
ATTACH;FMTTYPE=image/jpeg:https://www.listeso.com/wp-content/uploads/2025/10/55ef9d82-1156-11f0-b5b0-0ee885ccc32f-OlscRd.jpg
END:VEVENT
BEGIN:VEVENT
DTSTART;TZID=America/New_York:20260116T183000
DTEND;TZID=America/New_York:20260116T193000
DTSTAMP:20260421T152150
CREATED:20251119T120311Z
LAST-MODIFIED:20251119T120311Z
UID:10007115-1768588200-1768591800@www.listeso.com
SUMMARY:Candlelight: The Best of Hans Zimmer
DESCRIPTION:Overview\nCandlelight concerts bring the magic of a live\, multi-sensory musical experience to awe-inspiring locations like never seen before in Baltimore. Get your tickets now to discover the music of Hans Zimmer at Earl and Darielle Linehan Concert Hall\, The University of Maryland under the gentle glow of candlelight. \nGeneral Info\n\n📍 Venue: Earl and Darielle Linehan Concert Hall\, The University of Maryland\n⏳ Duration: 60 minutes. Doors open 45 minutes before the show and close 5 minutes prior to the start. Late arrivals will not be permitted\n👤 Age requirement: 8 years old or older. Anyone under the age of 16 must be accompanied by an adult\n♿ Accessibility: This venue is ADA compliant\n🪑 Seating: Seating is assigned on a first come first served basis in each zone\n\nTentative Program\n\nTime – Inception\nThis Land – The Lion King\nZooster’s Breakout – Madagascar\nSupermarine – Dunkirk\nHonor – The Pacific\nA Dark Knight – The Dark Knight\nWonder Woman Suite\nGladiator Suite\nCornfield Chase – Interstellar\nDune Suite\nDiscombobulate – Sherlock Holmes\nPirates of the Caribbean Suite\n\nPerformers\n🎻 String Quartet – Listeso – Washington DC \nBook a Private Event\nLooking to create an unforgettable experience for your wedding\, or special occasion? We offer private event bookings with customized programs tailored to your needs. \nGet a quote
URL:https://www.listeso.com/concert/2026-01-16-earl-and-darielle-linehan-concert-hall-the-university-of-maryland-candlelight-the-best-of-hans-zimmer/
LOCATION:Earl and Darielle Linehan Concert Hall\, The University of Maryland\, Baltimore\, MD\, United States
CATEGORIES:Baltimore, MD
ATTACH;FMTTYPE=image/jpeg:https://www.listeso.com/wp-content/uploads/2025/10/5c755a1c-0b29-11f0-827c-a2cfe8261701-XYlYMo.jpg
END:VEVENT
BEGIN:VEVENT
DTSTART;TZID=America/New_York:20260116T204500
DTEND;TZID=America/New_York:20260116T214500
DTSTAMP:20260421T152150
CREATED:20251119T120257Z
LAST-MODIFIED:20251119T120257Z
UID:10007114-1768596300-1768599900@www.listeso.com
SUMMARY:Candlelight: 90s Unplugged
DESCRIPTION:Overview\nCandlelight concerts bring the magic of a live\, multi-sensory musical experience to awe-inspiring locations like never seen before in Baltimore. Get your tickets now to discover the music of 90s Unplugged at Earl and Darielle Linehan Concert Hall\, The University of Maryland under the gentle glow of candlelight. \nGeneral Info\n\n📍 Venue: Earl and Darielle Linehan Concert Hall\, The University of Maryland\n⏳ Duration: 60 minutes. Doors open 45 minutes before the show and close 5 minutes prior to the start. Late arrivals will not be permitted\n👤 Age requirement: 8 years old or older. Anyone under the age of 16 must be accompanied by an adult\n♿ Accessibility: This venue is ADA compliant\n🪑 Seating: Seating is assigned on a first come first served basis in each zone\n\nTentative Program\n\nEverlong – Foo Fighters\nDon’t Speak – No Doubt\nZombie – The Cranberries\nIronic – Alanis Morrissette\nWonderwall – Oasis\nHigh and Dry – Radiohead\nEnter Sandman – Metallica\nUnder the Bridge – Red Hot Chili Peppers\nFly Away – Lenny Kravitz\nHallelujah – Jeff Buckley\nTears in Heaven – Eric Clapton\nSmells Like Teen Spirit – Nirvana\n\nPerformers\n🎻 String Quartet – Listeso – Washington DC \nBook a Private Event\nLooking to create an unforgettable experience for your wedding\, or special occasion? We offer private event bookings with customized programs tailored to your needs. \nGet a quote
URL:https://www.listeso.com/concert/2026-01-16-earl-and-darielle-linehan-concert-hall-the-university-of-maryland-90s-unplugged/
LOCATION:Earl and Darielle Linehan Concert Hall\, The University of Maryland\, Baltimore\, MD\, United States
CATEGORIES:Baltimore, MD
ATTACH;FMTTYPE=image/jpeg:https://www.listeso.com/wp-content/uploads/2025/10/3f0b6124-0f93-11f0-b149-6a3ffe809068-RVcTKs.jpg
END:VEVENT
BEGIN:VEVENT
DTSTART;TZID=America/New_York:20260123T183000
DTEND;TZID=America/New_York:20260123T193000
DTSTAMP:20260421T152150
CREATED:20251125T120147Z
LAST-MODIFIED:20251125T120147Z
UID:10007370-1769193000-1769196600@www.listeso.com
SUMMARY:Candlelight: Tribute to Adele
DESCRIPTION:Overview\nCandlelight concerts bring the magic of a live\, multi-sensory musical experience to awe-inspiring locations like never seen before in Baltimore. Get your tickets now to discover the music of Adele at The Baltimore Museum of Art under the gentle glow of candlelight. \nGeneral Info\n\n📍 Venue: The Baltimore Museum of Art (Meyerhoff Auditorium)\n⏳ Duration: 60 minutes. Doors open 45 minutes before the show and close 5 minutes prior to the start. Late arrivals will not be permitted\n👤 Age requirement: 8 years old or older. Anyone under the age of 16 must be accompanied by an adult\n♿ Accessibility: This venue is ADA compliant\n🪑 Seating: Assigned on a first come first served basis in each zone\n\nTentative Program\n\n“Hello”\n“Rumour Has It”\n“Make You Feel My Love”\n“Water Under the Bridge”\n“Oh My God”\n“Someone Like You”\n“Send My Love (to Your New Lover)”\n“Chasing Pavements”\n“Skyfall”\n“When We Were Young”\n“Set Fire to the Rain”\n“Easy On Me”\n“Rolling in the Deep”\n\nPerformers\n🎻 Kennedy String Quartet \nBook a Private Event\nLooking to create an unforgettable experience for your wedding\, or special occasion? We offer private event bookings with customized programs tailored to your needs. \nGet a quote
URL:https://www.listeso.com/concert/2026-01-23-the-baltimore-museum-of-art-meyerhoff-auditorium-tribute-to-adele/
LOCATION:The Baltimore Museum of Art (Meyerhoff Auditorium)\, Baltimore\, MD\, United States
CATEGORIES:Baltimore, MD
ATTACH;FMTTYPE=image/jpeg:https://www.listeso.com/wp-content/uploads/2025/10/c691a5b2-2128-11f0-ac95-e67227f9b810-FWgYmZ.jpg
END:VEVENT
BEGIN:VEVENT
DTSTART;TZID=America/New_York:20260123T204500
DTEND;TZID=America/New_York:20260123T214500
DTSTAMP:20260421T152150
CREATED:20251001T011038Z
LAST-MODIFIED:20251001T011038Z
UID:10004798-1769201100-1769204700@www.listeso.com
SUMMARY:Candlelight: Tribute to Whitney Houston
DESCRIPTION:Overview\nCandlelight concerts bring the magic of a live\, multi-sensory musical experience to awe-inspiring locations like never seen before in Baltimore. Get your tickets now to discover the music of Whitney Houston at The Baltimore Museum of Art (Meyerhoff Auditorium) under the gentle glow of candlelight. \nGeneral Info\n\n📍 Venue: The Baltimore Museum of Art (Meyerhoff Auditorium)\n⏳ Duration: 60 minutes. Doors open 45 minutes before the show and close 5 minutes prior to the start. Late arrivals will not be permitted\n👤 Age requirement: 8 years old or older. Anyone under the age of 16 must be accompanied by an adult\n♿ Accessibility: This venue is ADA compliant\n🪑 Seating: Seating is assigned on a first come first served basis in each zone\n\nTentative Program\n\nI Will Always Love You\nI Wanna Dance With Somebody\nGreatest Love of All\nWhen You Believe (w/ Mariah Carey\, from Prince of Egypt)\nI Have Nothing\nHow Will I Know\nIt’s Not Right but It’s Okay\nOne Moment in Time\nSaving All My Love for You\nWhere Do Broken Hearts Go\nHigher Love (w/Kygo)\nSo Emotional\nYou Light Up My Life\n\nPerformers\n🎻 Kennedy String Quartet \nBook a Private Event\nLooking to create an unforgettable experience for your team\, clients\, or special occasion? We offer private event bookings with customized programs tailored to your needs. \nGet a Quote for Your Private Event
URL:https://www.listeso.com/concert/2026-01-23-the-baltimore-museum-of-art-meyerhoff-auditorium-candlelight-tribute-to-whitney-houston/
LOCATION:The Baltimore Museum of Art (Meyerhoff Auditorium)\, Baltimore\, MD\, United States
CATEGORIES:Baltimore, MD
ATTACH;FMTTYPE=image/jpeg:https://www.listeso.com/wp-content/uploads/2025/10/3b09df18-058b-11f0-bf55-16591a0085a5-PQrd0U.jpg
END:VEVENT
END:VCALENDAR