BEGIN:VCALENDAR
VERSION:2.0
PRODID:-//Listeso Music Group - A Boutique String Quartet Agency - ECPv6.15.20//NONSGML v1.0//EN
CALSCALE:GREGORIAN
METHOD:PUBLISH
X-WR-CALNAME:Listeso Music Group - A Boutique String Quartet Agency
X-ORIGINAL-URL:https://www.listeso.com
X-WR-CALDESC:Events for Listeso Music Group - A Boutique String Quartet Agency
REFRESH-INTERVAL;VALUE=DURATION:PT1H
X-Robots-Tag:noindex
X-PUBLISHED-TTL:PT1H
BEGIN:VTIMEZONE
TZID:America/New_York
BEGIN:DAYLIGHT
TZOFFSETFROM:-0500
TZOFFSETTO:-0400
TZNAME:EDT
DTSTART:20240310T070000
END:DAYLIGHT
BEGIN:STANDARD
TZOFFSETFROM:-0400
TZOFFSETTO:-0500
TZNAME:EST
DTSTART:20241103T060000
END:STANDARD
BEGIN:DAYLIGHT
TZOFFSETFROM:-0500
TZOFFSETTO:-0400
TZNAME:EDT
DTSTART:20250309T070000
END:DAYLIGHT
BEGIN:STANDARD
TZOFFSETFROM:-0400
TZOFFSETTO:-0500
TZNAME:EST
DTSTART:20251102T060000
END:STANDARD
BEGIN:DAYLIGHT
TZOFFSETFROM:-0500
TZOFFSETTO:-0400
TZNAME:EDT
DTSTART:20260308T070000
END:DAYLIGHT
BEGIN:STANDARD
TZOFFSETFROM:-0400
TZOFFSETTO:-0500
TZNAME:EST
DTSTART:20261101T060000
END:STANDARD
END:VTIMEZONE
BEGIN:VEVENT
DTSTART;TZID=America/New_York:20251206T200000
DTEND;TZID=America/New_York:20251206T210000
DTSTAMP:20260421T144230
CREATED:20251001T171359Z
LAST-MODIFIED:20251001T171359Z
UID:10004897-1765051200-1765054800@www.listeso.com
SUMMARY:Candlelight: Tribute to Queen
DESCRIPTION:Overview\nCandlelight concerts bring the magic of a live\, multi-sensory musical experience to awe-inspiring locations like never seen before in Boca Raton. Get your tickets now to discover the music of Queen at Saint Mark Greek Orthodox Church under the gentle glow of candlelight. \nGeneral Info\n\n📍 Venue: Saint Mark Greek Orthodox Church\n⏳ Duration: 60 minutes. Doors open 45 minutes before the show and close 5 minutes prior to the start. Late arrivals will not be permitted\n👤 Age requirement: 8 years old or older. Anyone under the age of 16 must be accompanied by an adult\n♿ Accessibility: ADA compliant\n🪑 Seating: Seating is assigned on a first come first served basis in each zone\n\nTentative Program\n\nI Want to Break Free\nWe Will Rock You\nSomebody to Love\nRadio Ga Ga\nDon’t Stop Me Now\nKiller Queen\nCrazy Little Thing Called Love\nWho Wants to Live Forever\nBohemian Rhapsody\nLove of My Life\nWe Are the Champions\nAnother One Bites the Dust\n\nPerformers\n🎻 String Quartet – Listeso – West Palm Beach \nBook a Private Event\nLooking to create an unforgettable experience for your team\, clients\, or special occasion? We offer private event bookings with customized programs tailored to your needs. \nGet a Quote for Your Private Event
URL:https://www.listeso.com/concert/2025-12-06-saint-mark-greek-orthodox-church-candlelight-tribute-to-queen/
LOCATION:Saint Mark Greek Orthodox Church\, Boca Raton\, FL\, United States
CATEGORIES:Boca Raton, FL
ATTACH;FMTTYPE=image/jpeg:https://www.listeso.com/wp-content/uploads/2025/10/a6663a32-193f-11f0-9a14-961efeb2b763-LJXtY1.jpg
END:VEVENT
BEGIN:VEVENT
DTSTART;TZID=America/New_York:20251219T183000
DTEND;TZID=America/New_York:20251219T193000
DTSTAMP:20260421T144230
CREATED:20251025T110108Z
LAST-MODIFIED:20251025T110108Z
UID:10006113-1766169000-1766172600@www.listeso.com
SUMMARY:Candlelight: 90s Hip-Hop on Strings
DESCRIPTION:Overview\nCandlelight concerts bring the magic of a live\, multi-sensory musical experience to awe-inspiring locations like never seen before in Boca Raton. Get your tickets now to discover the music of 90s Hip-Hop on Strings at St. Gregory’s Episcopal Church under the gentle glow of candlelight. \nGeneral Info\n\n📍 Venue: St. Gregory’s Episcopal Church\n⏳ Duration: 60 minutes. Doors open 45 minutes before the show and close 5 minutes prior to the start. Late arrivals will not be permitted\n👤 Age requirement: 8 years old or older. Anyone under the age of 16 must be accompanied by an adult\n♿ Accessibility: This venue is ADA compliant\n🪑 Seating: Seating is assigned on a first come first served basis in each zone\n\nTentative Program\n\nFugees and Lauryn Hill Medley (Ready or Not\, Doo-Wop\, Fu-Gee-La\, and Killing Me Softly)\nJay-Z Medley (Can I Get A…\, Big Pimpin\, Money Ain’t a Thing\, and More)\nNas Medley (It Ain’t Hard to Tell\, N.Y. State of Mind\, The World Is Yours\, and More)\nOutkast Medley (Rosa Parks\, Elevators (Me & You)\, SpottieOttieDopaliscious\, and More)\nMissy ‘Misdemeanor’ Elliott Medley (The Rain (Supa Dupa Fly)\, Sock It to Me\, and More)\nA Tribe Called Quest Medley (Can I Kick It\, Check the Rhime\, Scenario\, and More)\nWu Tang Clan Medley (C.R.E.A.M. (Cash Rules Everything Around Me)\, Wu-Tang Clan Ain’t Nuthing Ta F’ Wit\, Protect Ya Neck\, and More)\n2Pac Medley (Dear Mama\, California Love\, and more)\nThe Notorious B.I.G. Medley (Juicy\, Big Poppa\, Hypnotize\, and More)\nDr. Dre Medley (Still D.R.E.\, Forgot About Dre\, Nuthin’ but a ‘G’ Thang\, and More)\nGin and Juice – Snoop Dogg\n\nPerformers\n🎻 String Quartet – Collins Quartet – Miami \nBook a Private Event\nLooking to create an unforgettable experience for your wedding\, or special occasion? We offer private event bookings with customized programs tailored to your needs. \nGet a quote
URL:https://www.listeso.com/concert/2025-12-19-st-gregorys-episcopal-church-90s-hip-hop-on-strings/
LOCATION:St. Gregory’s Episcopal Church\, Boca Raton\, FL\, United States
CATEGORIES:Boca Raton, FL
ATTACH;FMTTYPE=image/jpeg:https://www.listeso.com/wp-content/uploads/2025/10/0333ea26-1516-11f0-a637-fad4b74c3ddb-2HI2sy.jpg
END:VEVENT
BEGIN:VEVENT
DTSTART;TZID=America/New_York:20251220T180000
DTEND;TZID=America/New_York:20251220T190000
DTSTAMP:20260421T144230
CREATED:20251022T110119Z
LAST-MODIFIED:20251022T110119Z
UID:10005990-1766253600-1766257200@www.listeso.com
SUMMARY:Candlelight: Christmas Carols on Strings
DESCRIPTION:Overview\nCandlelight concerts bring the magic of a live\, multi-sensory musical experience to awe-inspiring locations like never seen before in Boca Raton. Get your tickets now to discover the music of Christmas Carols on Strings at Saint Mark Greek Orthodox Church under the gentle glow of candlelight. \nGeneral Info\n\n📍 Venue: Saint Mark Greek Orthodox Church\n⏳ Duration: 60 minutes. Doors open 45 minutes before the show and close 5 minutes prior to the start. Late arrivals will not be permitted\n👤 Age requirement: 8 years old or older. Anyone under the age of 16 must be accompanied by an adult\n♿ Accessibility: ADA compliant\n🪑 Seating: Seating is assigned on a first come first served basis in each zone\n\nTentative Program\n\n12 Days of Christmas\nAngels from the Realms of Glory\nAngels We Have Heard On High\nAway in a Manger\nCarol of the Bells\nDeck the Halls\nDing Dong! Merrily on High\nDo You Hear What I Hear\nGod Rest Ye Merry Gentlemen\nGood King Wenceslas\nGreensleeves (What Child Is This)\nHark! The Herald Angels Sing\nIn the Bleak Mid-Winter\nJoy to the World\nO Christmas Tree (O Tannenbaum)\nO Come All Ye Faithful\nO Holy Night\nO Little Town of Bethlehem\nSilent Night\nThe First Noël\n\nPerformers\n🎻 Listeso String Quartet – Boca Raton \nBook a Private Event\nLooking to create an unforgettable experience for your wedding\, or special occasion? We offer private event bookings with customized programs tailored to your needs. \nGet a quote
URL:https://www.listeso.com/concert/2025-12-20-saint-mark-greek-orthodox-church-christmas-carols-on-strings/
LOCATION:Saint Mark Greek Orthodox Church\, Boca Raton\, FL\, United States
CATEGORIES:Boca Raton, FL
ATTACH;FMTTYPE=image/jpeg:https://www.listeso.com/wp-content/uploads/2025/10/29d9039a-3f97-11f0-a133-ba224b2289eb-bEzYxk.jpg
END:VEVENT
BEGIN:VEVENT
DTSTART;TZID=America/New_York:20251220T180000
DTEND;TZID=America/New_York:20251220T190000
DTSTAMP:20260421T144230
CREATED:20251104T120110Z
LAST-MODIFIED:20251104T120110Z
UID:10006382-1766253600-1766257200@www.listeso.com
SUMMARY:Candlelight: Christmas Carols on Strings
DESCRIPTION:Overview\nCandlelight concerts bring the magic of a live\, multi-sensory musical experience to awe-inspiring locations like never seen before in Boca Raton. Get your tickets now to discover the music of Christmas Carols on Strings at St. Gregory’s Episcopal Church under the gentle glow of candlelight. \nGeneral Info\n\n📍 Venue: St. Gregory’s Episcopal Church\n⏳ Duration: 60 minutes. Doors open 45 minutes before the show and close 5 minutes prior to the start. Late arrivals will not be permitted\n👤 Age requirement: 8 years old or older. Anyone under the age of 16 must be accompanied by an adult\n♿ Accessibility: this venue is ADA compliant\n🪑 Seating: Seating is assigned on a first come first served basis in each zone\n\nTentative Program\n\n12 Days of Christmas\nAngels from the Realms of Glory\nAngels We Have Heard On High\nAway in a Manger\nCarol of the Bells\nDeck the Halls\nDing Dong! Merrily on High\nDo You Hear What I Hear\nGod Rest Ye Merry Gentlemen\nGood King Wenceslas\nGreensleeves (What Child Is This)\nHark! The Herald Angels Sing\nIn the Bleak Mid-Winter\nJoy to the World\nO Christmas Tree (O Tannenbaum)\nO Come All Ye Faithful\nO Holy Night\nO Little Town of Bethlehem\nSilent Night\nThe First Noël\n\nPerformers\n🎻 String Quartet – Collins Quartet – Miami \nBook a Private Event\nLooking to create an unforgettable experience for your wedding\, or special occasion? We offer private event bookings with customized programs tailored to your needs. \nGet a quote
URL:https://www.listeso.com/concert/2025-12-20-st-gregorys-episcopal-church-christmas-carols-on-strings/
LOCATION:St. Gregory’s Episcopal Church\, Boca Raton\, FL\, United States
CATEGORIES:Boca Raton, FL
ATTACH;FMTTYPE=image/jpeg:https://www.listeso.com/wp-content/uploads/2025/10/52a3d270-3f95-11f0-8e93-ca060e10daed-hFlre5.jpg
END:VEVENT
BEGIN:VEVENT
DTSTART;TZID=America/New_York:20251220T200000
DTEND;TZID=America/New_York:20251220T210000
DTSTAMP:20260421T144230
CREATED:20251001T011241Z
LAST-MODIFIED:20251001T011241Z
UID:10004806-1766260800-1766264400@www.listeso.com
SUMMARY:Candlelight: Christmas Carols on Strings
DESCRIPTION:Overview\nCandlelight concerts bring the magic of a live\, multi-sensory musical experience to awe-inspiring locations like never seen before in Boca Raton. Get your tickets now to discover the music of Christmas Carols on Strings at Saint Mark Greek Orthodox Church under the gentle glow of candlelight. \nGeneral Info\n\n📍 Venue: Saint Mark Greek Orthodox Church\n⏳ Duration: 60 minutes. Doors open 45 minutes before the show and close 5 minutes prior to the start. Late arrivals will not be permitted\n👤 Age requirement: 8 years old or older. Anyone under the age of 16 must be accompanied by an adult\n♿ Accessibility: ADA compliant\n🪑 Seating: Seating is assigned on a first come first served basis in each zone\n\nTentative Program\n\n12 Days of Christmas\nAngels from the Realms of Glory\nAngels We Have Heard On High\nAway in a Manger\nCarol of the Bells\nDeck the Halls\nDing Dong! Merrily on High\nDo You Hear What I Hear\nGod Rest Ye Merry Gentlemen\nGood King Wenceslas\nGreensleeves (What Child Is This)\nHark! The Herald Angels Sing\nIn the Bleak Mid-Winter\nJoy to the World\nO Christmas Tree (O Tannenbaum)\nO Come All Ye Faithful\nO Holy Night\nO Little Town of Bethlehem\nSilent Night\nThe First Noël\n\nPerformers\n🎻 String Quartet – Collins Quartet – Miami \nBook a Private Event\nLooking to create an unforgettable experience for your team\, clients\, or special occasion? We offer private event bookings with customized programs tailored to your needs. \nGet a Quote for Your Private Event
URL:https://www.listeso.com/concert/2025-12-20-saint-mark-greek-orthodox-church-candlelight-christmas-carols-on-strings/
LOCATION:Saint Mark Greek Orthodox Church\, Boca Raton\, FL\, United States
CATEGORIES:Boca Raton, FL
ATTACH;FMTTYPE=image/jpeg:https://www.listeso.com/wp-content/uploads/2025/10/29d9039a-3f97-11f0-a133-ba224b2289eb-bEzYxk.jpg
END:VEVENT
END:VCALENDAR