BEGIN:VCALENDAR
VERSION:2.0
PRODID:-//Listeso Music Group - A Boutique String Quartet Agency - ECPv6.15.20//NONSGML v1.0//EN
CALSCALE:GREGORIAN
METHOD:PUBLISH
X-WR-CALNAME:Listeso Music Group - A Boutique String Quartet Agency
X-ORIGINAL-URL:https://www.listeso.com
X-WR-CALDESC:Events for Listeso Music Group - A Boutique String Quartet Agency
REFRESH-INTERVAL;VALUE=DURATION:PT1H
X-Robots-Tag:noindex
X-PUBLISHED-TTL:PT1H
BEGIN:VTIMEZONE
TZID:America/New_York
BEGIN:DAYLIGHT
TZOFFSETFROM:-0500
TZOFFSETTO:-0400
TZNAME:EDT
DTSTART:20240310T070000
END:DAYLIGHT
BEGIN:STANDARD
TZOFFSETFROM:-0400
TZOFFSETTO:-0500
TZNAME:EST
DTSTART:20241103T060000
END:STANDARD
BEGIN:DAYLIGHT
TZOFFSETFROM:-0500
TZOFFSETTO:-0400
TZNAME:EDT
DTSTART:20250309T070000
END:DAYLIGHT
BEGIN:STANDARD
TZOFFSETFROM:-0400
TZOFFSETTO:-0500
TZNAME:EST
DTSTART:20251102T060000
END:STANDARD
BEGIN:DAYLIGHT
TZOFFSETFROM:-0500
TZOFFSETTO:-0400
TZNAME:EDT
DTSTART:20260308T070000
END:DAYLIGHT
BEGIN:STANDARD
TZOFFSETFROM:-0400
TZOFFSETTO:-0500
TZNAME:EST
DTSTART:20261101T060000
END:STANDARD
END:VTIMEZONE
BEGIN:VEVENT
DTSTART;TZID=America/New_York:20251114T200000
DTEND;TZID=America/New_York:20251114T210000
DTSTAMP:20260421T132950
CREATED:20251001T171335Z
LAST-MODIFIED:20251001T171335Z
UID:10004895-1763150400-1763154000@www.listeso.com
SUMMARY:Candlelight: Vivaldi's Four Seasons
DESCRIPTION:Overview\nCandlelight concerts bring the magic of a live\, multi-sensory musical experience to awe-inspiring locations like never seen before in Boca Raton. Get your tickets now to discover the music of Vivaldi’s Four Seasons at Saint Mark Greek Orthodox Church under the gentle glow of candlelight. \nGeneral Info\n\n📍 Venue: Saint Mark Greek Orthodox Church\n⏳ Duration: 60 minutes. Doors open 45 minutes before the show and close 5 minutes prior to the start. Late arrivals will not be permitted\n👤 Age requirement: 8 years old or older. Anyone under the age of 16 must be accompanied by an adult\n♿ Accessibility: This venue is ADA compliant\n🪑 Seating: Seating is assigned on a first come first served basis in each zone\n\nTentative Program\n\nThe Four Seasons\, Violin Concerto in G Minor\, Op. 8 No. 1 RV 269: Spring\nThe Four Seasons\, Violin Concerto in G Minor\, Op. 8 No. 2 RV 315: Summer\nThe Four Seasons\, Violin Concerto in G Minor\, Op. 8 No. 3 RV 293: Autumn\nThe Four Seasons\, Violin Concerto in G Minor\, Op. 8 No. 4 RV 297: Winter\nSonata n.12 in d-minor “La Follia” RV 63\n\nPerformers\n🎻 Listeso String Quartet \nBook a Private Event\nLooking to create an unforgettable experience for your team\, clients\, or special occasion? We offer private event bookings with customized programs tailored to your needs. \nGet a Quote for Your Private Event
URL:https://www.listeso.com/concert/2025-11-14-saint-mark-greek-orthodox-church-candlelight-vivaldis-four-seasons/
LOCATION:Saint Mark Greek Orthodox Church\, Boca Raton\, FL\, United States
CATEGORIES:Boca Raton, FL
ATTACH;FMTTYPE=image/jpeg:https://www.listeso.com/wp-content/uploads/2025/10/9f8fa516-1ab3-11f0-acbb-460e748c3556-z1oZCe.jpg
END:VEVENT
BEGIN:VEVENT
DTSTART;TZID=America/New_York:20251114T180000
DTEND;TZID=America/New_York:20251114T190000
DTSTAMP:20260421T132950
CREATED:20251008T110140Z
LAST-MODIFIED:20251008T110140Z
UID:10005633-1763143200-1763146800@www.listeso.com
SUMMARY:Candlelight: Tribute to Coldplay
DESCRIPTION:Overview\nCandlelight concerts bring the magic of a live\, multi-sensory musical experience to awe-inspiring locations like never seen before in Boca Raton. Get your tickets now to discover the music of Coldplay at Saint Mark Greek Orthodox Church under the gentle glow of candlelight. \nGeneral Info\n\n📍 Venue: Saint Mark Greek Orthodox Church\n⏳ Duration: 60 minutes. Doors open 45 minutes before the show and close 5 minutes prior to the start. Late arrivals will not be permitted\n👤 Age requirement: 8 years old or older. Anyone under the age of 16 must be accompanied by an adult\n♿ Accessibility: this venue is ADA compliant\n🪑 Seating: assigned on a first come first served basis in each zone\n\nTentative Program\n\nClocks\nShiver\nSpeed of Sound\nTrouble\nFix You\nParadise\nSomething Just Like This\nYellow\nMy Universe\nThe Scientist\nA Sky Full of Stars\n\nPerformers\n🎻 Listeso String Quartet- Boca Raton \nBook a Private Event\nLooking to create an unforgettable experience for your wedding\, or special occasion? We offer private event bookings with customized programs tailored to your needs. \nGet a quote
URL:https://www.listeso.com/concert/2025-11-14-saint-mark-greek-orthodox-church-tribute-to-coldplay/
LOCATION:Saint Mark Greek Orthodox Church\, Boca Raton\, FL\, United States
CATEGORIES:Boca Raton, FL
ATTACH;FMTTYPE=image/jpeg:https://www.listeso.com/wp-content/uploads/2025/10/9cb574ce-139c-11f0-b408-de9de6c538b6-kCxw6l.jpg
END:VEVENT
BEGIN:VEVENT
DTSTART;TZID=America/New_York:20251011T210000
DTEND;TZID=America/New_York:20251011T220000
DTSTAMP:20260421T132950
CREATED:20251001T171322Z
LAST-MODIFIED:20251001T171322Z
UID:10004894-1760216400-1760220000@www.listeso.com
SUMMARY:Candlelight: Tribute to Queen
DESCRIPTION:Overview\nCandlelight concerts bring the magic of a live\, multi-sensory musical experience to awe-inspiring locations like never seen before in Boca Raton. Get your tickets now to discover the music of Queen at Saint Mark Greek Orthodox Church under the gentle glow of candlelight. \nGeneral Info\n\n📍 Venue: Saint Mark Greek Orthodox Church\n⏳ Duration: 60 minutes. Doors open 45 minutes before the show and close 5 minutes prior to the start. Late arrivals will not be permitted\n👤 Age requirement: 8 years old or older. Anyone under the age of 16 must be accompanied by an adult\n♿ Accessibility: ADA compliant\n🪑 Seating: Seating is assigned on a first come first served basis in each zone\n\nTentative Program\n\nI Want to Break Free\nWe Will Rock You\nSomebody to Love\nRadio Ga Ga\nDon’t Stop Me Now\nKiller Queen\nCrazy Little Thing Called Love\nWho Wants to Live Forever\nBohemian Rhapsody\nLove of My Life\nWe Are the Champions\nAnother One Bites the Dust\n\nPerformers\n🎻 String Quartet – Listeso – West Palm Beach \nBook a Private Event\nLooking to create an unforgettable experience for your team\, clients\, or special occasion? We offer private event bookings with customized programs tailored to your needs. \nGet a Quote for Your Private Event
URL:https://www.listeso.com/concert/2025-10-11-saint-mark-greek-orthodox-church-candlelight-tribute-to-queen/
LOCATION:Saint Mark Greek Orthodox Church\, Boca Raton\, FL\, United States
CATEGORIES:Boca Raton, FL
ATTACH;FMTTYPE=image/jpeg:https://www.listeso.com/wp-content/uploads/2025/10/a6663a32-193f-11f0-9a14-961efeb2b763-LJXtY1.jpg
END:VEVENT
BEGIN:VEVENT
DTSTART;TZID=America/New_York:20251011T190000
DTEND;TZID=America/New_York:20251011T200000
DTSTAMP:20260421T132950
CREATED:20251007T110036Z
LAST-MODIFIED:20251007T110036Z
UID:10005540-1760209200-1760212800@www.listeso.com
SUMMARY:Candlelight: Tribute to The Beatles
DESCRIPTION:Overview\nCandlelight concerts bring the magic of a live\, multi-sensory musical experience to awe-inspiring locations like never seen before in Boca Raton. Get your tickets now to discover the music of The Beatles at Saint Mark Greek Orthodox Church under the gentle glow of candlelight. \nGeneral Info\n\n📍 Venue: Saint Mark Greek Orthodox Church\n⏳ Duration: 60 minutes. Doors open 45 minutes before the show and close 5 minutes prior to the start. Late arrivals will not be permitted\n👤 Age requirement: 8 years old or older. Anyone under the age of 16 must be accompanied by an adult\n♿ Accessibility: ADA compliant\n🪑 Seating: Seating is assigned on a first come first served basis in each zone\n\nTentative Program\n\nI Want To Hold Your Hand\nPenny Lane\nStrawberry Fields\nCome Together\nHere Comes the Sun\nWith A Little Help From My Friends\nHelp!\nEleanor Rigby\nWhile My Guitar Gently Weeps\nHelter Skelter\nBlackbird\nA Day in the Life\nYesterday\nLet It Be\n\nPerformers\n🎻 String Quartet – Collins Quartet – Miami \nBook a Private Event\nLooking to create an unforgettable experience for your wedding\, or special occasion? We offer private event bookings with customized programs tailored to your needs. \nGet a quote
URL:https://www.listeso.com/concert/2025-10-11-saint-mark-greek-orthodox-church-tribute-to-the-beatles/
LOCATION:Saint Mark Greek Orthodox Church\, Boca Raton\, FL\, United States
CATEGORIES:Boca Raton, FL
ATTACH;FMTTYPE=image/jpeg:https://www.listeso.com/wp-content/uploads/2025/10/ed0a3082-1a8f-11f0-95bb-f62d5ea4b178-eeB8dc.jpg
END:VEVENT
BEGIN:VEVENT
DTSTART;TZID=America/New_York:20251010T200000
DTEND;TZID=America/New_York:20251010T210000
DTSTAMP:20260421T132950
CREATED:20251001T171310Z
LAST-MODIFIED:20251001T171310Z
UID:10004893-1760126400-1760130000@www.listeso.com
SUMMARY:Candlelight: Tribute to Coldplay
DESCRIPTION:Overview\nCandlelight concerts bring the magic of a live\, multi-sensory musical experience to awe-inspiring locations like never seen before in Boca Raton. Get your tickets now to discover the music of Coldplay at Saint Mark Greek Orthodox Church under the gentle glow of candlelight. \nGeneral Info\n\n📍 Venue: Saint Mark Greek Orthodox Church\n⏳ Duration: 60 minutes. Doors open 45 minutes before the show and close 5 minutes prior to the start. Late arrivals will not be permitted\n👤 Age requirement: 8 years old or older. Anyone under the age of 16 must be accompanied by an adult\n♿ Accessibility: This venue is ADA compliant\n🪑 Seating: Seating is assigned on a first come first served basis in each zone\n\nTentative Program\n\nClocks\nShiver\nSpeed of Sound\nTrouble\nFix You\nParadise\nSomething Just Like This\nYellow\nMy Universe\nThe Scientist\nA Sky Full of Stars\n\nPerformers\n🎻 Listeso String Quartet- Boca Raton \nBook a Private Event\nLooking to create an unforgettable experience for your team\, clients\, or special occasion? We offer private event bookings with customized programs tailored to your needs. \nGet a Quote for Your Private Event
URL:https://www.listeso.com/concert/2025-10-10-saint-mark-greek-orthodox-church-candlelight-tribute-to-coldplay/
LOCATION:Saint Mark Greek Orthodox Church\, Boca Raton\, FL\, United States
CATEGORIES:Boca Raton, FL
ATTACH;FMTTYPE=image/jpeg:https://www.listeso.com/wp-content/uploads/2025/10/9cb574ce-139c-11f0-b408-de9de6c538b6-kCxw6l.jpg
END:VEVENT
END:VCALENDAR