BEGIN:VCALENDAR
VERSION:2.0
PRODID:-//Listeso Music Group - A Boutique String Quartet Agency - ECPv6.15.20//NONSGML v1.0//EN
CALSCALE:GREGORIAN
METHOD:PUBLISH
X-ORIGINAL-URL:https://www.listeso.com
X-WR-CALDESC:Events for Listeso Music Group - A Boutique String Quartet Agency
REFRESH-INTERVAL;VALUE=DURATION:PT1H
X-Robots-Tag:noindex
X-PUBLISHED-TTL:PT1H
BEGIN:VTIMEZONE
TZID:America/Boise
BEGIN:DAYLIGHT
TZOFFSETFROM:-0700
TZOFFSETTO:-0600
TZNAME:MDT
DTSTART:20240310T090000
END:DAYLIGHT
BEGIN:STANDARD
TZOFFSETFROM:-0600
TZOFFSETTO:-0700
TZNAME:MST
DTSTART:20241103T080000
END:STANDARD
BEGIN:DAYLIGHT
TZOFFSETFROM:-0700
TZOFFSETTO:-0600
TZNAME:MDT
DTSTART:20250309T090000
END:DAYLIGHT
BEGIN:STANDARD
TZOFFSETFROM:-0600
TZOFFSETTO:-0700
TZNAME:MST
DTSTART:20251102T080000
END:STANDARD
BEGIN:DAYLIGHT
TZOFFSETFROM:-0700
TZOFFSETTO:-0600
TZNAME:MDT
DTSTART:20260308T090000
END:DAYLIGHT
BEGIN:STANDARD
TZOFFSETFROM:-0600
TZOFFSETTO:-0700
TZNAME:MST
DTSTART:20261101T080000
END:STANDARD
END:VTIMEZONE
BEGIN:VTIMEZONE
TZID:America/Denver
BEGIN:DAYLIGHT
TZOFFSETFROM:-0700
TZOFFSETTO:-0600
TZNAME:MDT
DTSTART:20240310T090000
END:DAYLIGHT
BEGIN:STANDARD
TZOFFSETFROM:-0600
TZOFFSETTO:-0700
TZNAME:MST
DTSTART:20241103T080000
END:STANDARD
BEGIN:DAYLIGHT
TZOFFSETFROM:-0700
TZOFFSETTO:-0600
TZNAME:MDT
DTSTART:20250309T090000
END:DAYLIGHT
BEGIN:STANDARD
TZOFFSETFROM:-0600
TZOFFSETTO:-0700
TZNAME:MST
DTSTART:20251102T080000
END:STANDARD
BEGIN:DAYLIGHT
TZOFFSETFROM:-0700
TZOFFSETTO:-0600
TZNAME:MDT
DTSTART:20260308T090000
END:DAYLIGHT
BEGIN:STANDARD
TZOFFSETFROM:-0600
TZOFFSETTO:-0700
TZNAME:MST
DTSTART:20261101T080000
END:STANDARD
END:VTIMEZONE
BEGIN:VEVENT
DTSTART;TZID=America/Boise:20251108T183000
DTEND;TZID=America/Boise:20251108T193000
DTSTAMP:20260421T175400
CREATED:20251017T110101Z
LAST-MODIFIED:20251017T110101Z
UID:10005844-1762626600-1762630200@www.listeso.com
SUMMARY:Candlelight: The Best of Hans Zimmer
DESCRIPTION:Overview\nCandlelight concerts bring the magic of a live\, multi-sensory musical experience to awe-inspiring locations like never seen before in Boise. Get your tickets now to discover the music of Hans Zimmer at First Presbyterian Church of Boise under the gentle glow of candlelight. \nGeneral Info\n\n📍 Venue: First Presbyterian Church of Boise\n⏳ Duration: 60 minutes. Doors open 45 minutes before the show and close 5 minutes prior to the start. Late arrivals will not be permitted\n👤 Age requirement: 8 years old or older. Anyone under the age of 16 must be accompanied by an adult\n♿ Accessibility: This venue is ADA compliant. Zones A\, B\, and C have accessible seating\n🪑 Seating: Seating is assigned on a first come first served basis in each zone\n\nTentative Program\n\nTime from Inception\nThis Land from The Lion King\nZooster’s Breakout from Madagascar\nSupermarine from Dunkirk\nHonor from The Pacific\nA Dark Knight from The Dark Knight\nWonder Woman Suite\nGladiator Suite\nCornfield Chase from Interstellar\nDune Suite\nDiscombobulate from Sherlock Holmes\nPirates of the Caribbean Suite\n\nPerformers\n🎻 Listeso String Quartet \nBook a Private Event\nLooking to create an unforgettable experience for your wedding\, or special occasion? We offer private event bookings with customized programs tailored to your needs. \nGet a quote
URL:https://www.listeso.com/concert/2025-11-08-first-presbyterian-church-of-boise-the-best-of-hans-zimmer/
LOCATION:First Presbyterian Church of Boise\, Boise\, ID\, United States
CATEGORIES:Boise, ID
ATTACH;FMTTYPE=image/jpeg:https://www.listeso.com/wp-content/uploads/2025/10/e2d3636e-1395-11f0-baa7-66dc5d784391-sdpps2.jpg
END:VEVENT
BEGIN:VEVENT
DTSTART;TZID=America/Boise:20251108T204500
DTEND;TZID=America/Boise:20251108T214500
DTSTAMP:20260421T175400
CREATED:20251017T110116Z
LAST-MODIFIED:20251017T110116Z
UID:10005845-1762634700-1762638300@www.listeso.com
SUMMARY:Candlelight: Coldplay & Imagine Dragons
DESCRIPTION:Overview\nCandlelight concerts bring the magic of a live\, multi-sensory musical experience to awe-inspiring locations like never seen before in Boise. Get your tickets now to discover the music of Coldplay & Imagine Dragons at First Presbyterian Church of Boise under the gentle glow of candlelight. \nGeneral Info\n\n⏳ Duration: 60 minutes. Doors open 45 minutes before the show and close 5 minutes prior to the start. Late arrivals will not be permitted\n👤 Age requirement: 8 years old or older. Anyone under the age of 16 must be accompanied by an adult\n♿ Accessibility: this venue is ADA compliant. Zones A\, B\, and C are ADA accessible\n🪑 Seating: Seating is assigned on a first come first served basis in each zone\n\nTentative Program\n\nColdplay – Clocks\nColdplay – Something Just Like This\nImagine Dragons – Radioactive\nColdplay – Adventure of a Lifetime\nColdplay – Fix You\nImagine Dragons – Eyes Closed\nImagine Dragons – Nice to Meet You\nColdplay – The Scientist\nImagine Dragons – Follow You\nImagine Dragons – Bad Liar\nColdplay – Viva la Vida\nImagine Dragons – Believer\nColdplay – Sky Full of Stars\n\nPerformers\n🎻 Listeso String Quartet \nBook a Private Event\nLooking to create an unforgettable experience for your wedding\, or special occasion? We offer private event bookings with customized programs tailored to your needs. \nGet a quote
URL:https://www.listeso.com/concert/2025-11-08-first-presbyterian-church-of-boise-coldplay-imagine-dragons/
LOCATION:First Presbyterian Church of Boise\, Boise\, ID\, United States
CATEGORIES:Boise, ID
ATTACH;FMTTYPE=image/jpeg:https://www.listeso.com/wp-content/uploads/2025/09/4d0ae4c2-1158-11f0-90ef-86af2e2df509-Yt0a9U.jpg
END:VEVENT
BEGIN:VEVENT
DTSTART;TZID=America/Boise:20251128T183000
DTEND;TZID=America/Boise:20251128T193000
DTSTAMP:20260421T175400
CREATED:20251001T171516Z
LAST-MODIFIED:20251001T171516Z
UID:10004903-1764354600-1764358200@www.listeso.com
SUMMARY:Candlelight: Tribute to Fleetwood Mac
DESCRIPTION:Overview\nCandlelight concerts bring the magic of a live\, multi-sensory musical experience to awe-inspiring locations like never seen before in Boise. Get your tickets now to discover the music of Fleetwood Mac at The Egyptian Theatre under the gentle glow of candlelight. \nGeneral Info\n\n📍 Venue: The Egyptian Theatre\n⏳ Duration: 60 minutes. Doors open 45 minutes before the show and close 5 minutes prior to the start. Late arrivals will not be permitted\n👤 Age requirement: 8 years old or older. Anyone under the age of 16 must be accompanied by an adult\n♿ Accessibility: This venue is ADA compliant\n🪑 Seating: Seating is assigned on a first come first served basis in each zone\n\nTentative Program\n\nEverywhere\nGypsy\nYou Make Loving Fun\nNever Going Back Again\nDon’t Stop\nGold Dust Woman\nGo Your Own Way\nLandslide\nLittle Lies\nSongbird\nRhiannon\nThe Chain\n\nPerformers\n🎻 String Quartet – Listeso – Boise \nBook a Private Event\nLooking to create an unforgettable experience for your team\, clients\, or special occasion? We offer private event bookings with customized programs tailored to your needs. \nGet a Quote for Your Private Event
URL:https://www.listeso.com/concert/2025-11-28-the-egyptian-theatre-candlelight-tribute-to-fleetwood-mac/
LOCATION:The Egyptian Theatre\, Boise\, ID\, United States
CATEGORIES:Boise, ID
ATTACH;FMTTYPE=image/jpeg:https://www.listeso.com/wp-content/uploads/2025/10/3f6591ee-6308-11f0-b183-1ebdea4a44d3-B6hCGJ.jpg
END:VEVENT
BEGIN:VEVENT
DTSTART;TZID=America/Denver:20251128T204500
DTEND;TZID=America/Denver:20251128T214500
DTSTAMP:20260421T175400
CREATED:20251001T171503Z
LAST-MODIFIED:20251001T171503Z
UID:10004902-1764362700-1764366300@www.listeso.com
SUMMARY:Candlelight: Queen vs. ABBA
DESCRIPTION:Overview\nCandlelight concerts bring the magic of a live\, multi-sensory musical experience to awe-inspiring locations like never seen before in Boise. Get your tickets now to discover the music of Queen vs. ABBA at The Egyptian Theatre under the gentle glow of candlelight. \nGeneral Info\n\n📍 Venue: The Egyptian Theatre\n⏳ Duration: 60 minutes. Doors open 45 minutes before the show and close 5 minutes prior to the start. Late arrivals will not be permitted\n👤 Age requirement: 8 years old or older. Anyone under the age of 16 must be accompanied by an adult\n♿ Accessibility: This venue is ADA compliant\n🪑 Seating: Seating is assigned on a first come first served basis in each zone\n\nTentative Program\n\nDancing Queen – ABBA\nSOS – ABBA\nMoney\, Money\, Money – ABBA\nVoulez Vous – ABBA\nBohemian Rhapsody – Queen\nI Want to Break Free – Queen\nKiller Queen – Queen\nWaterloo – ABBA\nSuper Trouper – ABBA\nMamma Mia – ABBA\nDon’t Stop Me Now – Queen\nWe Will Rock You – Queen\nWe Are the Champions – Queen\nGimme Gimme Gimme – ABBA\n\nPerformers\n🎻 String Quartet – Listeso – Boise \nBook a Private Event\nLooking to create an unforgettable experience for your team\, clients\, or special occasion? We offer private event bookings with customized programs tailored to your needs. \nGet a Quote for Your Private Event
URL:https://www.listeso.com/concert/2025-11-28-the-egyptian-theatre-candlelight-queen-vs-abba/
LOCATION:The Egyptian Theatre\, Boise\, ID\, United States
CATEGORIES:Boise, ID
ATTACH;FMTTYPE=image/jpeg:https://www.listeso.com/wp-content/uploads/2025/10/ad60b410-1945-11f0-bf40-961efeb2b763-xrNulH.jpg
END:VEVENT
END:VCALENDAR