BEGIN:VCALENDAR
VERSION:2.0
PRODID:-//Listeso Music Group - A Boutique String Quartet Agency - ECPv6.15.20//NONSGML v1.0//EN
CALSCALE:GREGORIAN
METHOD:PUBLISH
X-ORIGINAL-URL:https://www.listeso.com
X-WR-CALDESC:Events for Listeso Music Group - A Boutique String Quartet Agency
REFRESH-INTERVAL;VALUE=DURATION:PT1H
X-Robots-Tag:noindex
X-PUBLISHED-TTL:PT1H
BEGIN:VTIMEZONE
TZID:America/Boise
BEGIN:DAYLIGHT
TZOFFSETFROM:-0700
TZOFFSETTO:-0600
TZNAME:MDT
DTSTART:20250309T090000
END:DAYLIGHT
BEGIN:STANDARD
TZOFFSETFROM:-0600
TZOFFSETTO:-0700
TZNAME:MST
DTSTART:20251102T080000
END:STANDARD
BEGIN:DAYLIGHT
TZOFFSETFROM:-0700
TZOFFSETTO:-0600
TZNAME:MDT
DTSTART:20260308T090000
END:DAYLIGHT
BEGIN:STANDARD
TZOFFSETFROM:-0600
TZOFFSETTO:-0700
TZNAME:MST
DTSTART:20261101T080000
END:STANDARD
BEGIN:DAYLIGHT
TZOFFSETFROM:-0700
TZOFFSETTO:-0600
TZNAME:MDT
DTSTART:20270314T090000
END:DAYLIGHT
BEGIN:STANDARD
TZOFFSETFROM:-0600
TZOFFSETTO:-0700
TZNAME:MST
DTSTART:20271107T080000
END:STANDARD
END:VTIMEZONE
BEGIN:VEVENT
DTSTART;TZID=America/Boise:20260117T183000
DTEND;TZID=America/Boise:20260117T193000
DTSTAMP:20260421T154602
CREATED:20251119T120328Z
LAST-MODIFIED:20251119T120328Z
UID:10007116-1768674600-1768678200@www.listeso.com
SUMMARY:Candlelight: Vivaldi's Four Seasons & More
DESCRIPTION:Overview\nCandlelight concerts bring the magic of a live\, multi-sensory musical experience to awe-inspiring locations like never seen before in Boise. Get your tickets now to discover the music of Vivaldi’s Four Seasons & More at First Presbyterian Church Boise under the gentle glow of candlelight. \nGeneral Info\n\n📍 Venue: First Presbyterian Church Boise\n⏳ Duration: 60 minutes. Doors open 45 minutes before the show and close 5 minutes prior to the start. Late arrivals will not be permitted\n👤 Age requirement: 8 years old or older. Anyone under the age of 16 must be accompanied by an adult\n♿ Accessibility: This venue is ADA compliant\n🪑 Seating: Assigned on a first come first served basis in each zone\n\nTentative Program\n\n“The Four Seasons\, Violin Concerto in G Minor\, Op. 8 No. 1 RV 269: Spring” – Vivaldi\n“The Four Seasons\, Violin Concerto in G Minor\, Op. 8 No. 2 RV 315: Summer” – Vivaldi\n“Thaïs: Méditation” – Jules Massenet\n“Recomposed by Max Richter: Vivaldi\, The Four Seasons: Spring 3” – Max Richter\n“The Cuatro Estaciones Porteñas: Verano Porteño” – Astor Piazzolla\n“Libertango” – Astor Piazzolla\n“The Four Seasons\, Violin Concerto in G Minor\, Op. 8 No. 3 RV 293: Autumn” – Vivaldi\n“The Four Seasons\, Violin Concerto in G Minor\, Op. 8 No. 4 RV 297: Winter” – Vivaldi\n\nPerformers\n🎻 Listeso String Quartet \nBook a Private Event\nLooking to create an unforgettable experience for your wedding\, or special occasion? We offer private event bookings with customized programs tailored to your needs. \nGet a quote
URL:https://www.listeso.com/concert/2026-01-17-first-presbyterian-church-boise-vivaldis-four-seasons-more/
LOCATION:First Presbyterian Church Boise\, Boise\, ID\, United States
CATEGORIES:Boise, ID
ATTACH;FMTTYPE=image/jpeg:https://www.listeso.com/wp-content/uploads/2025/10/9f8fa516-1ab3-11f0-acbb-460e748c3556-z1oZCe.jpg
END:VEVENT
BEGIN:VEVENT
DTSTART;TZID=America/Boise:20260117T204500
DTEND;TZID=America/Boise:20260117T214500
DTSTAMP:20260421T154602
CREATED:20251001T171541Z
LAST-MODIFIED:20251001T171541Z
UID:10004905-1768682700-1768686300@www.listeso.com
SUMMARY:Candlelight: The Best of Hans Zimmer
DESCRIPTION:Overview\nCandlelight concerts bring the magic of a live\, multi-sensory musical experience to awe-inspiring locations like never seen before in Boise. Get your tickets now to discover the music of Hans Zimmer at First Presbyterian Church of Boise under the gentle glow of candlelight. \nGeneral Info\n\n⏳ Duration: 60 minutes. Doors open 45 minutes before the show and close 5 minutes prior to the start. Late arrivals will not be permitted\n👤 Age requirement: 8 years old or older. Anyone under the age of 16 must be accompanied by an adult\n♿ Accessibility: This venue is ADA compliant. Zones A\, B\, and C have accessible seating\n🪑 Seating: Seating is assigned on a first come first served basis in each zone\n\nTentative Program\n\nTime from Inception\nThis Land from The Lion King\nZooster’s Breakout from Madagascar\nSupermarine from Dunkirk\nHonor from The Pacific\nA Dark Knight from The Dark Knight\nWonder Woman Suite\nGladiator Suite\nCornfield Chase from Interstellar\nDune Suite\nDiscombobulate from Sherlock Holmes\nPirates of the Caribbean Suite\n\nPerformers\n🎻 Listeso String Quartet \nBook a Private Event\nLooking to create an unforgettable experience for your team\, clients\, or special occasion? We offer private event bookings with customized programs tailored to your needs. \nGet a Quote for Your Private Event
URL:https://www.listeso.com/concert/2026-01-17-first-presbyterian-church-of-boise-candlelight-the-best-of-hans-zimmer/
LOCATION:First Presbyterian Church of Boise\, Boise\, ID\, United States
CATEGORIES:Boise, ID
ATTACH;FMTTYPE=image/jpeg:https://www.listeso.com/wp-content/uploads/2025/10/e2d3636e-1395-11f0-baa7-66dc5d784391-sdpps2.jpg
END:VEVENT
END:VCALENDAR