BEGIN:VCALENDAR
VERSION:2.0
PRODID:-//Listeso Music Group - A Boutique String Quartet Agency - ECPv6.15.20//NONSGML v1.0//EN
CALSCALE:GREGORIAN
METHOD:PUBLISH
X-ORIGINAL-URL:https://www.listeso.com
X-WR-CALDESC:Events for Listeso Music Group - A Boutique String Quartet Agency
REFRESH-INTERVAL;VALUE=DURATION:PT1H
X-Robots-Tag:noindex
X-PUBLISHED-TTL:PT1H
BEGIN:VTIMEZONE
TZID:America/Los_Angeles
BEGIN:DAYLIGHT
TZOFFSETFROM:-0800
TZOFFSETTO:-0700
TZNAME:PDT
DTSTART:20240310T100000
END:DAYLIGHT
BEGIN:STANDARD
TZOFFSETFROM:-0700
TZOFFSETTO:-0800
TZNAME:PST
DTSTART:20241103T090000
END:STANDARD
BEGIN:DAYLIGHT
TZOFFSETFROM:-0800
TZOFFSETTO:-0700
TZNAME:PDT
DTSTART:20250309T100000
END:DAYLIGHT
BEGIN:STANDARD
TZOFFSETFROM:-0700
TZOFFSETTO:-0800
TZNAME:PST
DTSTART:20251102T090000
END:STANDARD
BEGIN:DAYLIGHT
TZOFFSETFROM:-0800
TZOFFSETTO:-0700
TZNAME:PDT
DTSTART:20260308T100000
END:DAYLIGHT
BEGIN:STANDARD
TZOFFSETFROM:-0700
TZOFFSETTO:-0800
TZNAME:PST
DTSTART:20261101T090000
END:STANDARD
BEGIN:DAYLIGHT
TZOFFSETFROM:-0800
TZOFFSETTO:-0700
TZNAME:PDT
DTSTART:20270314T100000
END:DAYLIGHT
BEGIN:STANDARD
TZOFFSETFROM:-0700
TZOFFSETTO:-0800
TZNAME:PST
DTSTART:20271107T090000
END:STANDARD
END:VTIMEZONE
BEGIN:VEVENT
DTSTART;TZID=America/Los_Angeles:20260418T201500
DTEND;TZID=America/Los_Angeles:20260418T211500
DTSTAMP:20260421T151521
CREATED:20260223T161004Z
LAST-MODIFIED:20260223T161004Z
UID:10007829-1776543300-1776546900@www.listeso.com
SUMMARY:Candlelight: Queen vs ABBA at Roxy Theatre
DESCRIPTION:Overview\nCandlelight concerts bring the magic of a live\, multi-sensory musical experience to awe-inspiring locations like never seen before in Bremerton. Get your tickets now to discover the music of Queen vs. ABBA at Roxy Theatre under the gentle glow of candlelight. \nGeneral Info\n\n📍 Venue: Roxy Theatre\n⏳ Duration: 60 minutes. Doors open 45 minutes before the show. No entry once it starts.\n👤 Age requirement: 8 years old or older. Anyone under the age of 16 must be accompanied by an adult\n♿ Accessibility: this venue is ADA compliant\n🪑 Seating: Seating is assigned on a first come first served basis in each zone\n\nTentative Program\n\nDancing Queen – ABBA\nSOS – ABBA\nMoney\, Money\, Money – ABBA\nVoulez Vous – ABBA\nBohemian Rhapsody – Queen\nI Want to Break Free – Queen\nKiller Queen – Queen\nWaterloo – ABBA\nSuper Trouper – ABBA\nMamma Mia – ABBA\nDon’t Stop Me Now – Queen\nWe Will Rock You – Queen\nWe Are the Champions – Queen\nGimme Gimme Gimme – ABBA\n\nPerformers\n🎻 String Quartet – Listeso – Bremerton \nBook a Private Event\nLooking to create an unforgettable experience for your wedding\, or special occasion? We offer private event bookings with customized programs tailored to your needs. \nGet a quote
URL:https://www.listeso.com/concert/2026-04-18-roxy-theatre-queen-vs-abba/
LOCATION:Roxy Theatre\, Bremerton\, WA\, United States
CATEGORIES:Bremerton, WA
ATTACH;FMTTYPE=image/jpeg:https://www.listeso.com/wp-content/uploads/2025/10/cfc3a094-1945-11f0-a825-56c21721c770-kB4CaB.jpg
END:VEVENT
BEGIN:VEVENT
DTSTART;TZID=America/Los_Angeles:20260418T173000
DTEND;TZID=America/Los_Angeles:20260418T183000
DTSTAMP:20260421T151521
CREATED:20260223T160930Z
LAST-MODIFIED:20260223T160930Z
UID:10007828-1776533400-1776537000@www.listeso.com
SUMMARY:Candlelight: The Best of Hans Zimmer
DESCRIPTION:Overview\nCandlelight concerts bring the magic of a live\, multi-sensory musical experience to awe-inspiring locations like never seen before in Bremerton. Get your tickets now to discover the music of Hans Zimmer at Roxy Theatre under the gentle glow of candlelight. \nGeneral Info\n\n📍 Venue: Roxy Theatre\n⏳ Duration: 60 minutes. Doors open 45 minutes before the show and close 5 minutes prior to the start. Late arrivals will not be permitted\n👤 Age requirement: 8 years old or older. Anyone under the age of 16 must be accompanied by an adult\n♿ Accessibility: This venue is ADA compliant\n🪑 Seating: Seating is assigned on a first come first served basis in each zone\n\nTentative Program\n\nTime – Inception\nThis Land – The Lion King\nZooster’s Breakout – Madagascar\nSupermarine – Dunkirk\nHonor – The Pacific\nA Dark Knight – The Dark Knight\nWonder Woman Suite\nGladiator Suite\nCornfield Chase – Interstellar\nDune Suite\nDiscombobulate – Sherlock Holmes\nPirates of the Caribbean Suite\n\nPerformers\n🎻 String Quartet – Listeso – Bremerton \nBook a Private Event\nLooking to create an unforgettable experience for your wedding\, or special occasion? We offer private event bookings with customized programs tailored to your needs. \nGet a quote
URL:https://www.listeso.com/concert/2026-04-18-roxy-theatre-candlelight-the-best-of-hans-zimmer/
LOCATION:Roxy Theatre\, Bremerton\, WA\, United States
CATEGORIES:Bremerton, WA
ATTACH;FMTTYPE=image/jpeg:https://www.listeso.com/wp-content/uploads/2025/10/3f0b6124-0f93-11f0-b149-6a3ffe809068-RVcTKs.jpg
END:VEVENT
BEGIN:VEVENT
DTSTART;TZID=America/Los_Angeles:20260214T201500
DTEND;TZID=America/Los_Angeles:20260214T211500
DTSTAMP:20260421T151521
CREATED:20251005T151515Z
LAST-MODIFIED:20251005T151515Z
UID:10004918-1771100100-1771103700@www.listeso.com
SUMMARY:Candlelight: Coldplay vs. Imagine Dragons
DESCRIPTION:Overview\nCandlelight concerts bring the magic of a live\, multi-sensory musical experience to awe-inspiring locations like never seen before in Bremerton. Get your tickets now to discover the music of Coldplay vs. Imagine Dragons at Roxy Theatre under the gentle glow of candlelight. \nGeneral Info\n\n📍 Venue: Roxy Theatre\n⏳ Duration: 60 minutes. Doors open 60 minutes before the show and close 5 minutes prior to the start. Late arrivals will not be permitted\n👤 Age requirement: 8 years old or older. Anyone under the age of 16 must be accompanied by an adult\n♿ Accessibility: This venue is ADA compliant\, zones A & B has 2 seats each adapted for wheelchair accessibility\n🪑 Seating: Seating is assigned on a first come first served basis in each zone\n\nTentative Program\n\nColdplay – Clocks\nColdplay – Something Just Like This\nImagine Dragons – Radioactive\nColdplay – Adventure of a Lifetime\nColdplay – Fix You\nImagine Dragons – Eyes Closed\nImagine Dragons – Nice to Meet You\nColdplay – The Scientist\nColdplay – feelslikeimfallinginlove\nImagine Dragons – Follow You\nImagine Dragons – Bad Liar\nColdplay – Viva la Vida\nImagine Dragons – Believer\nColdplay – Sky Full of Stars\n\nPerformers\n🎻 Listeso String Quartet \nBook a Private Event\nLooking to create an unforgettable experience for your wedding\, or special occasion? We offer private event bookings with customized programs tailored to your needs. \nGet a quote
URL:https://www.listeso.com/concert/2026-02-14-roxy-theatre-coldplay-vs-imagine-dragons/
LOCATION:Roxy Theatre\, Bremerton\, WA\, United States
CATEGORIES:Bremerton, WA
ATTACH;FMTTYPE=image/jpeg:https://www.listeso.com/wp-content/uploads/2025/10/55ef9d82-1156-11f0-b5b0-0ee885ccc32f-OlscRd.jpg
END:VEVENT
BEGIN:VEVENT
DTSTART;TZID=America/Los_Angeles:20251220T201500
DTEND;TZID=America/Los_Angeles:20251220T211500
DTSTAMP:20260421T151521
CREATED:20251028T110202Z
LAST-MODIFIED:20251028T110202Z
UID:10006147-1766261700-1766265300@www.listeso.com
SUMMARY:Candlelight: Christmas Carols on Strings
DESCRIPTION:Overview\nCandlelight concerts bring the magic of a live\, multi-sensory musical experience to awe-inspiring locations like never seen before in Bremerton. Get your tickets now to discover the music of Christmas Carols on Strings at Roxy Theatre – Bremerton under the gentle glow of candlelight. \nGeneral Info\n\n📍 Venue: Roxy Theatre – Bremerton\n📅 Dates and times: select your dates/times directly in the ticket selector\n⏳ Duration: 60 minutes. Doors open 60 minutes before the show and close 5 minutes prior to the start. Late arrivals will not be permitted\n👤 Age requirement: 8 years old or older. Anyone under the age of 16 must be accompanied by an adult\n♿ Accessibility: this venue is ADA compliant\n🪑 Seating: Seating is assigned on a first come first served basis in each zone\n\nTentative Program\n\n12 Days of Christmas\nAngels from the Realms of Glory\nAngels We Have Heard On High\nAway in a Manger\nCarol of the Bells\nDeck the Halls\nDing Dong! Merrily on High\nDo You Hear What I Hear\nGod Rest Ye Merry Gentlemen\nGood King Wenceslas\nGreensleeves (What Child Is This)\nHark! The Herald Angels Sing\nIn the Bleak Mid-Winter\nJoy to the World\nO Christmas Tree (O Tannenbaum)\nO Come All Ye Faithful\nO Holy Night\nO Little Town of Bethlehem\nSilent Night\nThe First Noël\n\nPerformers\n🎻 Listeso String Quartet \nBook a Private Event\nLooking to create an unforgettable experience for your wedding\, or special occasion? We offer private event bookings with customized programs tailored to your needs. \nGet a quote
URL:https://www.listeso.com/concert/2025-12-20-roxy-theatre-bremerton-christmas-carols-on-strings/
LOCATION:Roxy Theatre – Bremerton\, Bremerton\, WA\, United States
CATEGORIES:Bremerton, WA
ATTACH;FMTTYPE=image/jpeg:https://www.listeso.com/wp-content/uploads/2025/10/5762e8cc-3f96-11f0-ac4c-f2a5a70dd2a9-RvpOwJ.jpg
END:VEVENT
BEGIN:VEVENT
DTSTART;TZID=America/Los_Angeles:20251220T173000
DTEND;TZID=America/Los_Angeles:20251220T183000
DTSTAMP:20260421T151521
CREATED:20251111T120153Z
LAST-MODIFIED:20251111T120153Z
UID:10006829-1766251800-1766255400@www.listeso.com
SUMMARY:Candlelight: Christmas Special Featuring "The Nutcracker" & More
DESCRIPTION:Overview\nCandlelight concerts bring the magic of a live\, multi-sensory musical experience to awe-inspiring locations like never seen before in Bremerton. Get your tickets now to discover music inspired by the winter and the holiday spirit at Roxy Theatre under the gentle glow of candlelight. \nGeneral Info\n\n📍 Venue: Roxy Theatre\n⏳ Duration: 60 minutes. Doors open 45 minutes before the show and close 5 minutes prior to the start. Late arrivals will not be permitted\n👤 Age requirement: 8 years old or older. Anyone under the age of 16 must be accompanied by an adult\n♿ Accessibility: This venue is ADA compliant\n🪑 Seating: Seating is assigned on a first come first served basis in each zone\n\nTentative Program\n\nO Holy Night – Adolphe Adam\nMa’oz Tzur – Traditional Hanukkah Song\nThe Snow is Dancing – Claude Debussy\nThe Seasons\, Op. 37a – Pyotr Ilyich Tchaikovsky\n\nI. January. By the Hearth\nXII. December. Christmas\n\n\nThe Skaters Waltz\, Op. 183 (Les Patineurs) – Émile Waldteufel\nGreensleeves (What Child is This) – Traditional\nThe Nutcracker\, Op. 71 – Pyotr Ilyich Tchaikovsky\n\nMiniature Overture\nAct I\, Scene II: No. 2\, March\nAct II: No. 12d\, Divertissement. Trepak\, Russian Dance\nAct II: No. 13\, Waltz of the Flowers\nAct II: No. 14c\, Pas de Deux. Variation II\, Dance of the Sugar Plum Fairy\n\n\nThe Four Seasons\, Violin Concerto in G Minor\, Op. 8 No. 4 RV 297: Winter – Vivaldi\n\nPerformers\n🎻 Listeso String Quartet \nBook a Private Event\nLooking to create an unforgettable experience for your wedding\, or special occasion? We offer private event bookings with customized programs tailored to your needs. \nGet a quote
URL:https://www.listeso.com/concert/2025-12-20-roxy-theatre-candlelight-christmas-special-featuring-the-nutcracker-and-more/
LOCATION:Roxy Theatre\, Bremerton\, WA\, United States
CATEGORIES:Bremerton, WA
ATTACH;FMTTYPE=image/jpeg:https://www.listeso.com/wp-content/uploads/2025/10/cc249c18-3fba-11f0-bfde-cebdfc678a0e-lr2vPQ.jpg
END:VEVENT
BEGIN:VEVENT
DTSTART;TZID=America/Los_Angeles:20251220T151500
DTEND;TZID=America/Los_Angeles:20251220T161500
DTSTAMP:20260421T151521
CREATED:20251108T121119Z
LAST-MODIFIED:20251108T121119Z
UID:10006579-1766243700-1766247300@www.listeso.com
SUMMARY:Candlelight: Christmas Carols on Strings
DESCRIPTION:Overview\nCandlelight concerts bring the magic of a live\, multi-sensory musical experience to awe-inspiring locations like never seen before in Bremerton. Get your tickets now to discover the music of Christmas Carols on Strings at Roxy Theatre – Bremerton under the gentle glow of candlelight. \nGeneral Info\n\n📍 Venue: Roxy Theatre – Bremerton\n📅 Dates and times: select your dates/times directly in the ticket selector\n⏳ Duration: 60 minutes. Doors open 60 minutes before the show and close 5 minutes prior to the start. Late arrivals will not be permitted\n👤 Age requirement: 8 years old or older. Anyone under the age of 16 must be accompanied by an adult\n♿ Accessibility: this venue is ADA compliant\n🪑 Seating: assigned on a first come first served basis in each zone\n\nTentative Program\n\n12 Days of Christmas\nAngels from the Realms of Glory\nAngels We Have Heard On High\nAway in a Manger\nCarol of the Bells\nDeck the Halls\nDing Dong! Merrily on High\nDo You Hear What I Hear\nGod Rest Ye Merry Gentlemen\nGood King Wenceslas\nGreensleeves (What Child Is This)\nHark! The Herald Angels Sing\nIn the Bleak Mid-Winter\nJoy to the World\nO Christmas Tree (O Tannenbaum)\nO Come All Ye Faithful\nO Holy Night\nO Little Town of Bethlehem\nSilent Night\nThe First Noël\n\nPerformers\n🎻 Listeso String Quartet \nBook a Private Event\nLooking to create an unforgettable experience for your wedding\, or special occasion? We offer private event bookings with customized programs tailored to your needs. \nGet a quote
URL:https://www.listeso.com/concert/2025-12-20-roxy-theatre-christmas-carols-on-strings/
LOCATION:Roxy Theatre\, Bremerton\, WA\, United States
CATEGORIES:Bremerton, WA
ATTACH;FMTTYPE=image/jpeg:https://www.listeso.com/wp-content/uploads/2025/10/5762e8cc-3f96-11f0-ac4c-f2a5a70dd2a9-RvpOwJ.jpg
END:VEVENT
BEGIN:VEVENT
DTSTART;TZID=America/Los_Angeles:20251116T173000
DTEND;TZID=America/Los_Angeles:20251116T183000
DTSTAMP:20260421T151521
CREATED:20251017T110129Z
LAST-MODIFIED:20251017T110129Z
UID:10005846-1763314200-1763317800@www.listeso.com
SUMMARY:Candlelight: The Best of Hans Zimmer
DESCRIPTION:Overview\nCandlelight concerts bring the magic of a live\, multi-sensory musical experience to awe-inspiring locations like never seen before in Bremerton. Get your tickets now to discover the music of Hans Zimmer at Roxy Theatre under the gentle glow of candlelight. \nGeneral Info\n\n📍 Venue: Roxy Theatre\n⏳ Duration: 60 minutes. Doors open 45 minutes before the show and close 5 minutes prior to the start. Late arrivals will not be permitted\n👤 Age requirement: 8 years old or older. Anyone under the age of 16 must be accompanied by an adult\n♿ Accessibility: This venue is ADA compliant\n🪑 Seating: Seating is assigned on a first come first served basis in each zone\n\nTentative Program\n\nTime – Inception\nThis Land – The Lion King\nZooster’s Breakout – Madagascar\nSupermarine – Dunkirk\nHonor – The Pacific\nA Dark Knight – The Dark Knight\nWonder Woman Suite\nGladiator Suite\nCornfield Chase – Interstellar\nDune Suite\nDiscombobulate – Sherlock Holmes\nPirates of the Caribbean Suite\n\nPerformers\n🎻 String Quartet – Listeso – Bremerton \nBook a Private Event\nLooking to create an unforgettable experience for your wedding\, or special occasion? We offer private event bookings with customized programs tailored to your needs. \nGet a quote
URL:https://www.listeso.com/concert/2025-11-16-roxy-theatre-the-best-of-hans-zimmer/
LOCATION:Roxy Theatre\, Bremerton\, WA\, United States
CATEGORIES:Bremerton, WA
ATTACH;FMTTYPE=image/jpeg:https://www.listeso.com/wp-content/uploads/2025/10/3f0b6124-0f93-11f0-b149-6a3ffe809068-RVcTKs.jpg
END:VEVENT
BEGIN:VEVENT
DTSTART;TZID=America/Los_Angeles:20251030T201500
DTEND;TZID=America/Los_Angeles:20251030T211500
DTSTAMP:20260421T151521
CREATED:20251001T171646Z
LAST-MODIFIED:20251001T171646Z
UID:10004910-1761855300-1761858900@www.listeso.com
SUMMARY:Candlelight: A Haunted Evening of Halloween Classics
DESCRIPTION:Overview\n🎃🚨 Spooky season is almost here! Halloween special concerts are selling fast. Get your tickets before they fully SELL OUT! 🚨🎃 \nCandlelight concerts bring the magic of a live\, multi-sensory musical experience to awe-inspiring locations like never seen before in Bremerton. Get your tickets now to discover music inspired by Halloween at Roxy Theatre – Bremerton under the gentle glow of candlelight. \nGeneral Info\n\n⏳ Duration: 60 minutes. Doors open 45 minutes before the show and close 5 minutes prior to the start. Late arrivals will not be permitted\n👤 Age requirement: 8 years old or older. Anyone under the age of 16 must be accompanied by an adult\n♿ Accessibility: This venue is ADA compliant\n🪑 Seating: Seating is assigned on a first come first served basis in each zone\n\nTentative Program\n\nThriller – Michael Jackson\nFuneral March of a Marionette – Charles Gounod\nString Quartet No. 8 in C Minor (Dresden Quartet)\, Op. 110: II. Allegro Molto – Dmitri Shostakovich\nTubular Bells (Theme from The Exorcist) – Mike Oldfield\nStranger Things (Theme) – S U R V I V E\nBeetlejuice (Theme) – Danny Elfman\nThe Addams Family (Theme) – Vic Mizzy\nHalloween (Theme) – John Carpenter\nPrelude from Psycho – Bernard Herrmann\nGhostbusters (Theme) – Ray Parker Jr.\nDanse Macabre – Camille Saint-Saëns\nNight on Bald Mountain – Modest Mussorgsky\nTime Warp from The Rocky Horror Picture Show – Richard O’Brien and Richard Hartley\nMedley from The Nightmare Before Christmas – Danny Elfman\n\nPerformers\n🎻 Listeso String Quartet \nBook a Private Event\nLooking to create an unforgettable experience for your team\, clients\, or special occasion? We offer private event bookings with customized programs tailored to your needs. \nGet a Quote for Your Private Event
URL:https://www.listeso.com/concert/2025-10-30-roxy-theatre-bremerton-candlelight-a-haunted-evening-of-halloween-classics/
LOCATION:Roxy Theatre – Bremerton\, Bremerton\, WA\, United States
CATEGORIES:Bremerton, WA
ATTACH;FMTTYPE=image/jpeg:https://www.listeso.com/wp-content/uploads/2025/10/c98f9558-3f8c-11f0-8e96-3a9b98aefc27-UAmCOy.jpg
END:VEVENT
BEGIN:VEVENT
DTSTART;TZID=America/Los_Angeles:20251030T173000
DTEND;TZID=America/Los_Angeles:20251030T183000
DTSTAMP:20260421T151521
CREATED:20251001T171631Z
LAST-MODIFIED:20251001T171631Z
UID:10004909-1761845400-1761849000@www.listeso.com
SUMMARY:Candlelight: Tribute to Queen and More
DESCRIPTION:Overview\nCandlelight concerts bring the magic of a live\, multi-sensory musical experience to awe-inspiring locations like never seen before in Bremerton. Get your tickets now to discover the music of Queen and more at Roxy Theatre under the gentle glow of candlelight. \nGeneral Info\n\n📍 Venue: Roxy Theatre\n⏳ Duration: 60 minutes. Doors open 60 minutes before the show and close 5 minutes prior to the start. Late arrivals will not be permitted\n👤 Age requirement: 8 years old or older. Anyone under the age of 16 must be accompanied by an adult\n♿ Accessibility: This venue is ADA compliant\, zones A & B has 2 seats each adapted for wheelchair accessibility\n🪑 Seating: Seating is assigned on a first come first served basis in each zone\n\nTentative Program\nQueen \n\nDon’t Stop Me Now\nKiller Queen\nSomebody to Love\nLove of My Life\nCrazy Little Thing Called Love\nUnder Pressure (Queen and David Bowie)\nBohemian Rhapsody\nFat Bottomed Girls\nWe Will Rock You\nAnother One Bites the Dust\nWe Are the Champions\n\nOther Works \n\nO Mio Babbino Caro – Giacomo Puccini\nLa Boheme\, SC 67\, Act 2: Quando m’en Vo’ (Musetta’s Waltz) – Giacomo Puccini\nDie Zauberflöte (The Magic Flute)\, K. 620\, Act 2: Der Hölle Rache Kocht in Meinem Herzen (Queen of the Night Aria) – W. A. Mozart\n\nPerformers\n🎻 Listeso String Quartet \nBook a Private Event\nLooking to create an unforgettable experience for your team\, clients\, or special occasion? We offer private event bookings with customized programs tailored to your needs. \nGet a Quote for Your Private Event
URL:https://www.listeso.com/concert/2025-10-30-roxy-theatre-candlelight-tribute-to-queen-and-more/
LOCATION:Roxy Theatre\, Bremerton\, WA\, United States
CATEGORIES:Bremerton, WA
ATTACH;FMTTYPE=image/jpeg:https://www.listeso.com/wp-content/uploads/2025/10/4671982c-1a9f-11f0-9bc4-3a9b5e2c983e-6OG8WL.jpg
END:VEVENT
END:VCALENDAR