BEGIN:VCALENDAR
VERSION:2.0
PRODID:-//Listeso Music Group - A Boutique String Quartet Agency - ECPv6.15.20//NONSGML v1.0//EN
CALSCALE:GREGORIAN
METHOD:PUBLISH
X-WR-CALNAME:Listeso Music Group - A Boutique String Quartet Agency
X-ORIGINAL-URL:https://www.listeso.com
X-WR-CALDESC:Events for Listeso Music Group - A Boutique String Quartet Agency
REFRESH-INTERVAL;VALUE=DURATION:PT1H
X-Robots-Tag:noindex
X-PUBLISHED-TTL:PT1H
BEGIN:VTIMEZONE
TZID:America/New_York
BEGIN:DAYLIGHT
TZOFFSETFROM:-0500
TZOFFSETTO:-0400
TZNAME:EDT
DTSTART:20240310T070000
END:DAYLIGHT
BEGIN:STANDARD
TZOFFSETFROM:-0400
TZOFFSETTO:-0500
TZNAME:EST
DTSTART:20241103T060000
END:STANDARD
BEGIN:DAYLIGHT
TZOFFSETFROM:-0500
TZOFFSETTO:-0400
TZNAME:EDT
DTSTART:20250309T070000
END:DAYLIGHT
BEGIN:STANDARD
TZOFFSETFROM:-0400
TZOFFSETTO:-0500
TZNAME:EST
DTSTART:20251102T060000
END:STANDARD
BEGIN:DAYLIGHT
TZOFFSETFROM:-0500
TZOFFSETTO:-0400
TZNAME:EDT
DTSTART:20260308T070000
END:DAYLIGHT
BEGIN:STANDARD
TZOFFSETFROM:-0400
TZOFFSETTO:-0500
TZNAME:EST
DTSTART:20261101T060000
END:STANDARD
BEGIN:DAYLIGHT
TZOFFSETFROM:-0500
TZOFFSETTO:-0400
TZNAME:EDT
DTSTART:20270314T070000
END:DAYLIGHT
BEGIN:STANDARD
TZOFFSETFROM:-0400
TZOFFSETTO:-0500
TZNAME:EST
DTSTART:20271107T060000
END:STANDARD
END:VTIMEZONE
BEGIN:VEVENT
DTSTART;TZID=America/New_York:20260411T190000
DTEND;TZID=America/New_York:20260411T200000
DTSTAMP:20260421T153351
CREATED:20260223T161156Z
LAST-MODIFIED:20260223T161156Z
UID:10007836-1775934000-1775937600@www.listeso.com
SUMMARY:Candlelight: Featuring Vivaldi's Four Seasons & More
DESCRIPTION:Overview\nCandlelight concerts bring the magic of a live\, multi-sensory musical experience to awe-inspiring locations like never seen before in Burlington. Get your tickets now to discover Vivaldi and more at First Unitarian Universalist Society of Burlington under the gentle glow of candlelight. \nGeneral Info\n\n⏳ Duration: 65 minutes. Doors open 60 minutes before the show. No entry once it starts.\n👤 Age requirement: 8 years old or older. Anyone under the age of 16 must be accompanied by an adult\n♿ Accessibility: this venue is ADA compliant\n🪑 Seating: assigned on a first come first served basis in each zone\n\nTentative Program\n\nThe Four Seasons\, Violin Concerto in G Minor\, Op. 8 No. 1 RV 269: “Spring” – Vivaldi\nThe Four Seasons\, Violin Concerto in G Minor\, Op. 8 No. 2 RV 315: “Summer” – Vivaldi\nThaïs: Méditation – Jules Massenet\nThe Cuatro Estaciones Porteñas: Verano Porteño – Astor Piazzolla\nThe Four Seasons\, Violin Concerto in G Minor\, Op. 8 No. 3 RV 293: “Autumn” – Vivaldi\nThe Four Seasons\, Violin Concerto in G Minor\, Op. 8 No. 4 RV 297: “Winter” – Vivaldi\n\nPerformers\n🎻 Listeso String Quartet \nBook a Private Event\nLooking to create an unforgettable experience for your wedding\, or special occasion? We offer private event bookings with customized programs tailored to your needs. \nGet a quote
URL:https://www.listeso.com/concert/2026-04-11-first-unitarian-universalist-society-of-burlington-candlelight-featuring-vivaldis-four-seasons-more/
LOCATION:First Unitarian Universalist Society of Burlington\, Burlington\, VT\, United States
CATEGORIES:Burlington, VT
ATTACH;FMTTYPE=image/jpeg:https://www.listeso.com/wp-content/uploads/2025/10/7c807528-1ab3-11f0-9eff-324ba1e3eb01-s1gFvG.jpg
END:VEVENT
BEGIN:VEVENT
DTSTART;TZID=America/New_York:20251219T190000
DTEND;TZID=America/New_York:20251219T200000
DTSTAMP:20260421T153351
CREATED:20251105T120357Z
LAST-MODIFIED:20251105T120357Z
UID:10006450-1766170800-1766174400@www.listeso.com
SUMMARY:Candlelight: Christmas Carols on Strings
DESCRIPTION:Overview\nCandlelight concerts bring the magic of a live\, multi-sensory musical experience to awe-inspiring locations like never seen before in Burlington. Get your tickets now to discover the music of Christmas Carols on Strings at First Unitarian Universalist Society of Burlington under the gentle glow of candlelight. \nGeneral Info\n\n⏳ Duration: 60 minutes. Doors open 60 minutes before the show and close 5 minutes prior to the start. Late arrivals will not be permitted\n👤 Age requirement: 8 years old or older. Anyone under the age of 16 must be accompanied by an adult\n♿ Accessibility: This venue is ADA compliant\n🪑 Seating: Seating is assigned on a first come first served basis in each zone\n\nTentative Program\n\n12 Days of Christmas\nAngels from the Realms of Glory\nAngels We Have Heard On High\nAway in a Manger\nCarol of the Bells\nDeck the Halls\nDing Dong! Merrily on High\nDo You Hear What I Hear\nGod Rest Ye Merry Gentlemen\nGood King Wenceslas\nGreensleeves (What Child Is This)\nHark! The Herald Angels Sing\nIn the Bleak Mid-Winter\nJoy to the World\nO Christmas Tree (O Tannenbaum)\nO Come All Ye Faithful\nO Holy Night\nO Little Town of Bethlehem\nSilent Night\nThe First Noël\n\nPerformers\n🎻 Listeso String Quartet \nBook a Private Event\nLooking to create an unforgettable experience for your wedding\, or special occasion? We offer private event bookings with customized programs tailored to your needs. \nGet a quote
URL:https://www.listeso.com/concert/2025-12-19-first-unitarian-universalist-society-of-burlington-christmas-carols-on-strings/
LOCATION:First Unitarian Universalist Society of Burlington\, Burlington\, VT\, United States
CATEGORIES:Burlington, VT
ATTACH;FMTTYPE=image/jpeg:https://www.listeso.com/wp-content/uploads/2025/10/fa7a1e96-3f9a-11f0-a4dc-2a16c96ae6c8-Wac3Ri.jpg
END:VEVENT
BEGIN:VEVENT
DTSTART;TZID=America/New_York:20251213T190000
DTEND;TZID=America/New_York:20251213T200000
DTSTAMP:20260421T153351
CREATED:20251105T120342Z
LAST-MODIFIED:20251105T120342Z
UID:10006449-1765652400-1765656000@www.listeso.com
SUMMARY:Candlelight: Christmas Carols on Strings
DESCRIPTION:Overview\nCandlelight concerts bring the magic of a live\, multi-sensory musical experience to awe-inspiring locations like never seen before in Burlington. Get your tickets now to discover the music of Christmas Carols on Strings at First Unitarian Universalist Society of Burlington under the gentle glow of candlelight. \nGeneral Info\n\n📍 Venue: First Unitarian Universalist Society of Burlington\n⏳ Duration: 60 minutes. Doors open 60 minutes before the show and close 5 minutes prior to the start. Late arrivals will not be permitted\n👤 Age requirement: 8 years old or older. Anyone under the age of 16 must be accompanied by an adult\n♿ Accessibility: This venue is ADA compliant\n🪑 Seating: Seating is assigned on a first come first served basis in each zone\n\nTentative Program\n\n12 Days of Christmas\nAngels from the Realms of Glory\nAngels We Have Heard On High\nAway in a Manger\nCarol of the Bells\nDeck the Halls\nDing Dong! Merrily on High\nDo You Hear What I Hear\nGod Rest Ye Merry Gentlemen\nGood King Wenceslas\nGreensleeves (What Child Is This)\nHark! The Herald Angels Sing\nIn the Bleak Mid-Winter\nJoy to the World\nO Christmas Tree (O Tannenbaum)\nO Come All Ye Faithful\nO Holy Night\nO Little Town of Bethlehem\nSilent Night\nThe First Noël\n\nPerformers\n🎻 Listeso String Quartet \nBook a Private Event\nLooking to create an unforgettable experience for your wedding\, or special occasion? We offer private event bookings with customized programs tailored to your needs. \nGet a quote
URL:https://www.listeso.com/concert/2025-12-13-first-unitarian-universalist-society-of-burlington-christmas-carols-on-strings/
LOCATION:First Unitarian Universalist Society of Burlington\, Burlington\, VT\, United States
CATEGORIES:Burlington, VT
ATTACH;FMTTYPE=image/jpeg:https://www.listeso.com/wp-content/uploads/2025/10/fa7a1e96-3f9a-11f0-a4dc-2a16c96ae6c8-Wac3Ri.jpg
END:VEVENT
END:VCALENDAR