BEGIN:VCALENDAR
VERSION:2.0
PRODID:-//Listeso Music Group - A Boutique String Quartet Agency - ECPv6.15.20//NONSGML v1.0//EN
CALSCALE:GREGORIAN
METHOD:PUBLISH
X-WR-CALNAME:Listeso Music Group - A Boutique String Quartet Agency
X-ORIGINAL-URL:https://www.listeso.com
X-WR-CALDESC:Events for Listeso Music Group - A Boutique String Quartet Agency
REFRESH-INTERVAL;VALUE=DURATION:PT1H
X-Robots-Tag:noindex
X-PUBLISHED-TTL:PT1H
BEGIN:VTIMEZONE
TZID:America/Vancouver
BEGIN:DAYLIGHT
TZOFFSETFROM:-0800
TZOFFSETTO:-0700
TZNAME:PDT
DTSTART:20240310T100000
END:DAYLIGHT
BEGIN:STANDARD
TZOFFSETFROM:-0700
TZOFFSETTO:-0800
TZNAME:PST
DTSTART:20241103T090000
END:STANDARD
BEGIN:DAYLIGHT
TZOFFSETFROM:-0800
TZOFFSETTO:-0700
TZNAME:PDT
DTSTART:20250309T100000
END:DAYLIGHT
BEGIN:STANDARD
TZOFFSETFROM:-0700
TZOFFSETTO:-0800
TZNAME:PST
DTSTART:20251102T090000
END:STANDARD
BEGIN:DAYLIGHT
TZOFFSETFROM:-0800
TZOFFSETTO:-0700
TZNAME:PDT
DTSTART:20260308T100000
END:DAYLIGHT
BEGIN:STANDARD
TZOFFSETFROM:-0700
TZOFFSETTO:-0800
TZNAME:PST
DTSTART:20261101T090000
END:STANDARD
END:VTIMEZONE
BEGIN:VEVENT
DTSTART;TZID=America/Vancouver:20251214T200000
DTEND;TZID=America/Vancouver:20251214T210000
DTSTAMP:20260421T081103
CREATED:20251108T122151Z
LAST-MODIFIED:20251108T122151Z
UID:10006620-1765742400-1765746000@www.listeso.com
SUMMARY:Candlelight: Ed Sheeran Meets Coldplay
DESCRIPTION:Overview\nCandlelight concerts bring the magic of a live\, multi-sensory musical experience to awe-inspiring locations like never seen before in Chilliwack. Get your tickets now and experience the music of Ed Sheeran and Coldplay at Chilliwack Cultural Centre under the gentle glow of candlelight. \nGeneral Info\n\n📍 Venue: Chilliwack Cultural Centre\n⏳ Duration: 60 minutes. Doors open 45 minutes before the show and close 5 minutes prior to the start. Late arrivals will not be permitted\n👤 Age requirement: 8 years old or older. Anyone under the age of 16 must be accompanied by an adult\n♿ Accessibility: This venue is accessible for people with reduced mobility\n🪑 Seating: Seating is assigned on a first come first served basis in each zone\n\nTentative Program\n\nColdplay – Clocks\nColdplay – Something Just Like This\nEd Sheeran – Bad Habits\nColdplay – Adventure of a Lifetime\nColdplay – Fix You\nEd Sheeran – Photograph\nColdplay – The Scientist\nColdplay – Feelslikeimfallinginlove\nEd Sheeran – Shivers\nEd Sheeran – Perfect\nColdplay – Viva la Vida\nEd Sheeran – Give Me Love\nColdplay – Sky Full of Stars\n\nPerformers\n🎻 String Quartet – Listeso – Chilliwack \nBook a Private Event\nLooking to create an unforgettable experience for your wedding\, or special occasion? We offer private event bookings with customized programs tailored to your needs. \nGet a quote
URL:https://www.listeso.com/concert/2025-12-14-chilliwack-cultural-centre-candlelight-ed-sheeran-meets-coldplay/
LOCATION:Chilliwack Cultural Centre\, Chilliwack\, Canada
CATEGORIES:Chilliwack, BC
ATTACH;FMTTYPE=image/jpeg:https://www.listeso.com/wp-content/uploads/2025/10/cef040e6-1f76-11f0-99d8-76e4fa916312-hbLTrz.jpg
END:VEVENT
BEGIN:VEVENT
DTSTART;TZID=America/Vancouver:20251214T180000
DTEND;TZID=America/Vancouver:20251214T190000
DTSTAMP:20260421T081103
CREATED:20251108T122137Z
LAST-MODIFIED:20251108T122137Z
UID:10006619-1765735200-1765738800@www.listeso.com
SUMMARY:Candlelight: Tribute to Adele
DESCRIPTION:Overview\nCandlelight concerts bring the magic of a live\, multi-sensory musical experience to awe-inspiring locations like never seen before in Chilliwack. Get your tickets now to discover the music of Adele at Chilliwack Cultural Centre under the gentle glow of candlelight. \nGeneral Info\n\n📍 Venue: Chilliwack Cultural Centre\n⏳ Duration: 60 minutes. Doors open 45 minutes before the show and close 5 minutes prior to the start. Late arrivals will not be permitted\n👤 Age requirement: 8 years old or older. Anyone under the age of 16 must be accompanied by an adult\n♿ Accessibility: This venue is accessible for people with reduced mobility\n🪑 Seating: Seating is assigned on a first come first served basis in each zone\n\nTentative Program\n\nHello\nRumour Has It\nMake You Feel My Love\nWater Under the Bridge\nOh My God\nSomeone Like You\nSend My Love (To Your New Lover)\nChasing Pavements\nSkyfall\nWhen We Were Young\nSet Fire to the Rain\nEasy On Me\nRolling in the Deep\n\nPerformers\n🎻 String Quartet – Listeso – Chilliwack \nBook a Private Event\nLooking to create an unforgettable experience for your wedding\, or special occasion? We offer private event bookings with customized programs tailored to your needs. \nGet a quote
URL:https://www.listeso.com/concert/2025-12-14-chilliwack-cultural-centre-tribute-to-adele/
LOCATION:Chilliwack Cultural Centre\, Chilliwack\, Canada
CATEGORIES:Chilliwack, BC
ATTACH;FMTTYPE=image/jpeg:https://www.listeso.com/wp-content/uploads/2025/10/649bed64-0f98-11f0-b149-6a3ffe809068-sbrife.jpg
END:VEVENT
BEGIN:VEVENT
DTSTART;TZID=America/Vancouver:20251026T200000
DTEND;TZID=America/Vancouver:20251026T210000
DTSTAMP:20260421T081103
CREATED:20251005T152345Z
LAST-MODIFIED:20251005T152345Z
UID:10004955-1761508800-1761512400@www.listeso.com
SUMMARY:Candlelight: Tribute to ABBA
DESCRIPTION:Overview\nCandlelight concerts bring the magic of a live\, multi-sensory musical experience to awe-inspiring locations like never seen before in Chilliwack. Get your tickets now to discover the music of ABBA at Chilliwack Cultural Centre under the gentle glow of candlelight. \nGeneral Info\n\n📍 Venue: Chilliwack Cultural Centre\n⏳ Duration: 60 minutes. Doors open 45 minutes before the show and close 5 minutes prior to the start. Late arrivals will not be permitted\n👤 Age requirement: 8 years old or older. Anyone under the age of 16 must be accompanied by an adult\n♿ Accessibility: This venue is accessible for people with reduced mobility\n🪑 Seating: Seating is assigned on a first come first served basis in each zone\n\nTentative Program\n\nDancing Queen\nSOS\nMoney\, Money\, Money\nThe Winner Takes it All\nVoulez-Vous\nAngeleyes\nWaterloo\nFernando\nKnowing Me\, Knowing You\nChiquitita\nLay All Your Love On Me\nSuper Trouper\nMamma Mia\n\nPerformers\n🎻 Listeso String Quartet \nBook a Private Event\nLooking to create an unforgettable experience for your wedding\, or special occasion? We offer private event bookings with customized programs tailored to your needs. \nGet a quote
URL:https://www.listeso.com/concert/2025-10-26-chilliwack-cultural-centre-tribute-to-abba/
LOCATION:Chilliwack Cultural Centre\, Chilliwack\, Canada
CATEGORIES:Chilliwack, BC
ATTACH;FMTTYPE=image/jpeg:https://www.listeso.com/wp-content/uploads/2025/10/f51b8418-25ae-11f0-a83d-9e59e0727bbd-T9Hkls.jpg
END:VEVENT
BEGIN:VEVENT
DTSTART;TZID=America/Vancouver:20251026T180000
DTEND;TZID=America/Vancouver:20251026T190000
DTSTAMP:20260421T081103
CREATED:20251005T152331Z
LAST-MODIFIED:20251005T152331Z
UID:10004954-1761501600-1761505200@www.listeso.com
SUMMARY:Candlelight: Featuring Vivaldi's Four Seasons & More
DESCRIPTION:Overview\nCandlelight concerts bring the magic of a live\, multi-sensory musical experience to awe-inspiring locations like never seen before in Chilliwack. Get your tickets now to discover Vivaldi and more at Chilliwack Cultural Centre under the gentle glow of candlelight. \nGeneral Info\n\n⏳ Duration: 60 minutes. Doors open 45 minutes before the show and close 5 minutes prior to the start. Late arrivals will not be permitted\n👤 Age requirement: 8 years old or older. Anyone under the age of 16 must be accompanied by an adult\n♿ Accessibility: This venue is accessible for people with reduced mobility\n🪑 Seating: Seating is assigned on a first come first served basis in each zone\n\nTentative Program\n\n“The Four Seasons\, Violin Concerto in G Minor\, Op. 8 No. 1 RV 269: Spring” – Vivaldi\n“The Four Seasons\, Violin Concerto in G Minor\, Op. 8 No. 2 RV 315: Summer” – Vivaldi\n“Thaïs: Méditation” – Jules Massenet\n“The Cuatro Estaciones Porteñas: Verano Porteño” – Astor Piazzolla\n“The Four Seasons\, Violin Concerto in G Minor\, Op. 8 No. 3 RV 293: Autumn” – Vivaldi\n“The Four Seasons\, Violin Concerto in G Minor\, Op. 8 No. 4 RV 297: Winter” – Vivaldi\n\nPerformers\n🎻 String Quartet \nBook a Private Event\nLooking to create an unforgettable experience for your wedding\, or special occasion? We offer private event bookings with customized programs tailored to your needs. \nGet a quote
URL:https://www.listeso.com/concert/2025-10-26-chilliwack-cultural-centre-vivaldi-four-seasons/
LOCATION:Chilliwack Cultural Centre\, Chilliwack\, Canada
CATEGORIES:Chilliwack, BC
ATTACH;FMTTYPE=image/jpeg:https://www.listeso.com/wp-content/uploads/2025/09/a6458ad6-1ab5-11f0-ae39-428e7df71db3-PiozRZ.jpg
END:VEVENT
END:VCALENDAR