BEGIN:VCALENDAR
VERSION:2.0
PRODID:-//Listeso Music Group - A Boutique String Quartet Agency - ECPv6.15.20//NONSGML v1.0//EN
CALSCALE:GREGORIAN
METHOD:PUBLISH
X-ORIGINAL-URL:https://www.listeso.com
X-WR-CALDESC:Events for Listeso Music Group - A Boutique String Quartet Agency
REFRESH-INTERVAL;VALUE=DURATION:PT1H
X-Robots-Tag:noindex
X-PUBLISHED-TTL:PT1H
BEGIN:VTIMEZONE
TZID:America/New_York
BEGIN:DAYLIGHT
TZOFFSETFROM:-0500
TZOFFSETTO:-0400
TZNAME:EDT
DTSTART:20250309T070000
END:DAYLIGHT
BEGIN:STANDARD
TZOFFSETFROM:-0400
TZOFFSETTO:-0500
TZNAME:EST
DTSTART:20251102T060000
END:STANDARD
BEGIN:DAYLIGHT
TZOFFSETFROM:-0500
TZOFFSETTO:-0400
TZNAME:EDT
DTSTART:20260308T070000
END:DAYLIGHT
BEGIN:STANDARD
TZOFFSETFROM:-0400
TZOFFSETTO:-0500
TZNAME:EST
DTSTART:20261101T060000
END:STANDARD
BEGIN:DAYLIGHT
TZOFFSETFROM:-0500
TZOFFSETTO:-0400
TZNAME:EDT
DTSTART:20270314T070000
END:DAYLIGHT
BEGIN:STANDARD
TZOFFSETFROM:-0400
TZOFFSETTO:-0500
TZNAME:EST
DTSTART:20271107T060000
END:STANDARD
END:VTIMEZONE
BEGIN:VEVENT
DTSTART;TZID=America/New_York:20260308T204500
DTEND;TZID=America/New_York:20260308T214500
DTSTAMP:20260420T175611
CREATED:20260223T162630Z
LAST-MODIFIED:20260223T162630Z
UID:10007887-1773002700-1773006300@www.listeso.com
SUMMARY:Candlelight: Coldplay vs. Imagine Dragons
DESCRIPTION:Overview\nCandlelight concerts bring the magic of a live\, multi-sensory musical experience to awe-inspiring locations like never seen before in Columbus. Get your tickets now to discover the music of Coldplay vs. Imagine Dragons at Columbus Museum of Art under the gentle glow of candlelight. \nGeneral Info\n\n📍 Venue: Columbus Museum of Art (Cardinal Health Auditorium)\n⏳ Duration: 60 minutes. Doors open 45 minutes before the show. No entry once it starts.\n👤 Age requirement: 8 years old or older. Anyone under the age of 16 must be accompanied by an adult\n♿ Accessibility: This venue is ADA compliant\n🪑 Seating: Seating is assigned on a first come first served basis in each zone\n\nTentative Program\n\nColdplay – Clocks\nColdplay – Something Just Like This\nImagine Dragons – Radioactive\nColdplay – Adventure of a Lifetime\nColdplay – Fix You\nImagine Dragons – Eyes Closed\nImagine Dragons – Nice to Meet You\nColdplay – The Scientist\nColdplay – feelslikeimfallinginlove\nImagine Dragons – Follow You\nImagine Dragons – Bad Liar\nColdplay – Viva la Vida\nImagine Dragons – Believer\nColdplay – Sky Full of Stars\n\nPerformers\n🎻 Listeso String Quartet \nBook a Private Event\nLooking to create an unforgettable experience for your wedding\, or special occasion? We offer private event bookings with customized programs tailored to your needs. \nGet a quote
URL:https://www.listeso.com/concert/2026-03-08-columbus-museum-of-art-coldplay-vs-imagine-dragons/
LOCATION:Columbus Museum of Art\, Columbus\, OH\, United States
CATEGORIES:Columbus, OH
ATTACH;FMTTYPE=image/jpeg:https://www.listeso.com/wp-content/uploads/2025/10/55ef9d82-1156-11f0-b5b0-0ee885ccc32f-OlscRd.jpg
END:VEVENT
BEGIN:VEVENT
DTSTART;TZID=America/New_York:20260313T183000
DTEND;TZID=America/New_York:20260313T193000
DTSTAMP:20260420T175611
CREATED:20260223T162643Z
LAST-MODIFIED:20260223T162643Z
UID:10007888-1773426600-1773430200@www.listeso.com
SUMMARY:Candlelight: Queen vs. ABBA
DESCRIPTION:Overview\nCandlelight concerts bring the magic of a live\, multi-sensory musical experience to awe-inspiring locations like never seen before in Columbus. Get your tickets now to discover the music of Queen vs. ABBA at Short North Church under the gentle glow of candlelight. \nGeneral Info\n\n📍 Venue: Short North Church\n⏳ Duration: 60 minutes. Doors open 45 minutes before the show. No entry once it starts.\n👤 Age requirement: 8 years old or older. Anyone under the age of 16 must be accompanied by an adult\n♿ Accessibility: A chair lift can be used to access the main level if needed. There are no ramps or elevators to access the main level.\n🪑 Seating: Seating is assigned on a first come first served basis in each zone\n\nTentative Program\n\nDancing Queen – ABBA\nSOS – ABBA\nMoney\, Money\, Money – ABBA\nBohemian Rhapsody – Queen\nI Want to Break Free – Queen\nWaterloo – ABBA\nSuper Trouper – ABBA\nMamma Mia – ABBA\nDon’t Stop Me Now – Queen\nWe Will Rock You – Queen\nWe Are the Champions – Queen\n\nPerformers\n🎻 Cap City String Quartet \nBook a Private Event\nLooking to create an unforgettable experience for your wedding\, or special occasion? We offer private event bookings with customized programs tailored to your needs. \nGet a quote
URL:https://www.listeso.com/concert/2026-03-13-short-north-church-candlelight-queen-vs-abba/
LOCATION:Short North Church\, Columbus\, OH\, United States
CATEGORIES:Columbus, OH
ATTACH;FMTTYPE=image/jpeg:https://www.listeso.com/wp-content/uploads/2025/10/cfc3a094-1945-11f0-a825-56c21721c770-kB4CaB.jpg
END:VEVENT
BEGIN:VEVENT
DTSTART;TZID=America/New_York:20260313T204500
DTEND;TZID=America/New_York:20260313T214500
DTSTAMP:20260420T175611
CREATED:20260310T111314Z
LAST-MODIFIED:20260310T111314Z
UID:10008833-1773434700-1773438300@www.listeso.com
SUMMARY:Candlelight: Queen vs. ABBA
DESCRIPTION:Overview\nCandlelight concerts bring the magic of a live\, multi-sensory musical experience to awe-inspiring locations like never seen before in Columbus. Get your tickets now to discover the music of Queen vs. ABBA at Short North Church under the gentle glow of candlelight. \n🌸 To celebrate Candlelight Spring\, a limited number of sessions feature a special floral setting. All other sessions follow the standard Candlelight setup. \nGeneral Info\n\n📍 Venue: Short North Church\n⏳ Duration: 60 minutes. Doors open 45 minutes before the show. No entry once it starts.\n👤 Age requirement: 8 years old or older. Anyone under the age of 16 must be accompanied by an adult\n♿ Accessibility: A chair lift can be used to access the main level if needed. There are no ramps or elevators to access the main level.\n🪑 Seating: Seating is assigned on a first come first served basis in each zone\n\nTentative Program\n\nDancing Queen – ABBA\nSOS – ABBA\nMoney\, Money\, Money – ABBA\nBohemian Rhapsody – Queen\nI Want to Break Free – Queen\nWaterloo – ABBA\nSuper Trouper – ABBA\nMamma Mia – ABBA\nDon’t Stop Me Now – Queen\nWe Will Rock You – Queen\nWe Are the Champions – Queen\n\nSessions with Candlelight Spring Flower Setting\nApril 17 \nPerformers\n🎻 Cap City String Quartet \nBook a Private Event\nLooking to create an unforgettable experience for your wedding\, or special occasion? We offer private event bookings with customized programs tailored to your needs. \nGet a quote
URL:https://www.listeso.com/concert/2026-03-13-short-north-church-candlelight-queen-vs-abba-2/
LOCATION:Short North Church\, Columbus\, OH\, United States
CATEGORIES:Columbus, OH
ATTACH;FMTTYPE=image/jpeg:https://www.listeso.com/wp-content/uploads/2026/03/6d84f61e-0cb8-11f1-b0f7-823906860d53-VIoJfF.jpg
END:VEVENT
BEGIN:VEVENT
DTSTART;TZID=America/New_York:20260319T183000
DTEND;TZID=America/New_York:20260319T193000
DTSTAMP:20260420T175611
CREATED:20260223T162656Z
LAST-MODIFIED:20260223T162656Z
UID:10007889-1773945000-1773948600@www.listeso.com
SUMMARY:Candlelight: The Best of Hans Zimmer
DESCRIPTION:Overview\nCandlelight concerts bring the magic of a live\, multi-sensory musical experience to awe-inspiring locations like never seen before in Columbus\, OH. Get your tickets now to discover the music of Hans Zimmer at Short North Church under the gentle glow of candlelight. \nGeneral Info\n\n📍 Venue: Short North Church\n⏳ Duration: 60 minutes. Doors open 45 minutes before the show. No entry once it starts.\n👤 Age requirement: 8 years old or older. Anyone under the age of 16 must be accompanied by an adult\n♿ Accessibility: A chair lift can be used to access the main level if needed. There are no ramps or elevators to access the main level.\n🪑 Seating: Seating is assigned on a first come first served basis in each zone\n\nTentative Program\n\nTime from Inception\nThis Land from The Lion King\nZooster’s Breakout from Madagascar\nSupermarine from Dunkirk\nHonor from The Pacific\nA Dark Knight from The Dark Knight\nWonder Woman Suite\nGladiator Suite\nCornfield Chase from Interstellar\nDune Suite\nDiscombobulate from Sherlock Holmes\nPirates of the Caribbean Suite\n\nPerformers\n🎻 Listeso String Quartet \nBook a Private Event\nLooking to create an unforgettable experience for your wedding\, or special occasion? We offer private event bookings with customized programs tailored to your needs. \nGet a quote
URL:https://www.listeso.com/concert/2026-03-19-short-north-church-the-best-of-hans-zimmer/
LOCATION:Short North Church\, Columbus\, OH\, United States
CATEGORIES:Columbus, OH
ATTACH;FMTTYPE=image/jpeg:https://www.listeso.com/wp-content/uploads/2025/10/5c755a1c-0b29-11f0-827c-a2cfe8261701-XYlYMo.jpg
END:VEVENT
BEGIN:VEVENT
DTSTART;TZID=America/New_York:20260320T183000
DTEND;TZID=America/New_York:20260320T193000
DTSTAMP:20260420T175611
CREATED:20260223T162733Z
LAST-MODIFIED:20260223T162733Z
UID:10007891-1774031400-1774035000@www.listeso.com
SUMMARY:Candlelight: Ed Sheeran Meets Coldplay
DESCRIPTION:Overview\nCandlelight concerts bring the magic of a live\, multi-sensory musical experience to awe-inspiring locations like never seen before in Columbus. Get your tickets now and experience the music of Ed Sheeran and Coldplay at Short North Church under the gentle glow of candlelight. \nGeneral Info\n\n📍 Venue: Short North Church\n⏳ Duration: 60 minutes. Doors open 45 minutes before the show. No entry once it starts.\n👤 Age requirement: 8 years old or older. Anyone under the age of 16 must be accompanied by an adult\n♿ Accessibility: A chair lift can be used to access the main level. There are no ramps or elevators to access the main level.\n🪑 Seating: Seating is assigned on a first come first served basis in each zone\n\nTentative Program\n\nColdplay – Clocks\nColdplay – Something Just Like This\nEd Sheeran – Bad Habits\nColdplay – Adventure of a Lifetime\nColdplay – Fix You\nEd Sheeran – Photograph\nColdplay – The Scientist\nColdplay – Feelslikeimfallinginlove\nEd Sheeran – Shivers\nEd Sheeran – Perfect\nColdplay – Viva la Vida\nEd Sheeran – Give Me Love\nColdplay – Sky Full of Stars\n\nPerformers\n🎻 Listeso String Quartet \nBook a Private Event\nLooking to create an unforgettable experience for your wedding\, or special occasion? We offer private event bookings with customized programs tailored to your needs. \nGet a quote
URL:https://www.listeso.com/concert/2026-03-20-short-north-church-ed-sheeran-meets-coldplay/
LOCATION:Short North Church\, Columbus\, OH\, United States
CATEGORIES:Columbus, OH
ATTACH;FMTTYPE=image/jpeg:https://www.listeso.com/wp-content/uploads/2025/10/cef040e6-1f76-11f0-99d8-76e4fa916312-hbLTrz.jpg
END:VEVENT
BEGIN:VEVENT
DTSTART;TZID=America/New_York:20260320T204500
DTEND;TZID=America/New_York:20260320T214500
DTSTAMP:20260420T175611
CREATED:20260223T162721Z
LAST-MODIFIED:20260223T162721Z
UID:10007890-1774039500-1774043100@www.listeso.com
SUMMARY:Candlelight: Tribute to Drake
DESCRIPTION:Overview\nCandlelight concerts bring the magic of a live\, multi-sensory musical experience to awe-inspiring locations like never seen before in Columbus. Get your tickets now to discover the music of Drake at Short North Church under the gentle glow of candlelight. \nGeneral Info\n\n📍 Venue: Short North Church\n⏳ Duration: 60 minutes. Doors open 45 minutes before the show and close 5 minutes prior to the start. Late arrivals will not be permitted\n👤 Age requirement: 8 years old or older. Anyone under the age of 16 must be accompanied by an adult\n♿ Accessibility: This venue is ADA compliant\n🪑 Seating: Seating is assigned on a first come first served basis in each zone\n\nTentative Program\n\nPassionfruit\nMarvins Room\nTeenage Fever\nHeadlines\nTake Care\nLaugh Now Cry Later\nGod’s Plan\nControlla\nOne Dance\nCrew Love\nOver\nIn My Feelings\nSticky\nHold On\, We’re Going Home\n\nPerformers\n🎻 Listeso String Quartet \nBook a Private Event\nLooking to create an unforgettable experience for your wedding\, or special occasion? We offer private event bookings with customized programs tailored to your needs. \nGet a quote
URL:https://www.listeso.com/concert/2026-03-20-short-north-church-tribute-to-drake/
LOCATION:Short North Church\, Columbus\, OH\, United States
CATEGORIES:Columbus, OH
ATTACH;FMTTYPE=image/jpeg:https://www.listeso.com/wp-content/uploads/2025/10/28342eaa-40b1-11f0-894a-6ac72220cacc-xuut4C.jpg
END:VEVENT
BEGIN:VEVENT
DTSTART;TZID=America/New_York:20260322T183000
DTEND;TZID=America/New_York:20260322T193000
DTSTAMP:20260420T175611
CREATED:20260223T162745Z
LAST-MODIFIED:20260223T162745Z
UID:10007892-1774204200-1774207800@www.listeso.com
SUMMARY:Candlelight: Tribute to Fleetwood Mac
DESCRIPTION:Overview\nCandlelight concerts bring the magic of a live\, multi-sensory musical experience to awe-inspiring locations like never seen before in Columbus. Get your tickets now to discover the music of Fleetwood Mac at Columbus Museum of Art under the gentle glow of candlelight. \nGeneral Info\n\n📍 Venue: Columbus Museum of Art (Cardinal Health Auditorium)\n⏳ Duration: 60 minutes. Doors open 45 minutes before the show. No entry once it starts.\n👤 Age requirement: 8 years old or older. Anyone under the age of 16 must be accompanied by an adult\n♿ Accessibility: this venue is ADA compliant\n🪑 Seating: Seating is assigned on a first come first served basis in each zone\n\nProgram\n\nEverywhere\nGypsy\nYou Make Loving Fun\nNever Going Back Again\nDon’t Stop\nGold Dust Woman\nGo Your Own Way\nLandslide\nLittle Lies\nSongbird\nRhiannon\nThe Chain\n\nPerformers\n🎻 Listeso String Quartet \nBook a Private Event\nLooking to create an unforgettable experience for your wedding\, or special occasion? We offer private event bookings with customized programs tailored to your needs. \nGet a quote
URL:https://www.listeso.com/concert/2026-03-22-columbus-museum-of-art-tribute-to-fleetwood-mac/
LOCATION:Columbus Museum of Art\, Columbus\, OH\, United States
CATEGORIES:Columbus, OH
ATTACH;FMTTYPE=image/jpeg:https://www.listeso.com/wp-content/uploads/2025/10/5c2e82a6-1f77-11f0-9fc3-b6302f1836c4-3Gs8kb.jpg
END:VEVENT
BEGIN:VEVENT
DTSTART;TZID=America/New_York:20260327T183000
DTEND;TZID=America/New_York:20260327T193000
DTSTAMP:20260420T175611
CREATED:20260223T162811Z
LAST-MODIFIED:20260223T162811Z
UID:10007894-1774636200-1774639800@www.listeso.com
SUMMARY:Candlelight: Hip-Hop on Strings
DESCRIPTION:Overview\nCandlelight concerts bring the magic of a live\, multi-sensory musical experience to awe-inspiring locations like never seen before in Columbus. Get your tickets now to discover the music of Hip-Hop on Strings at Short North Church under the gentle glow of candlelight. \nGeneral Info\n\n📍 Venue: Short North Church\n⏳ Duration: 60 minutes. Doors open 45 minutes before the show. No entry once it starts.\n👤 Age requirement: 8 years old or older. Anyone under the age of 16 must be accompanied by an adult\n♿ Accessibility: A chair lift can be used to access the main level. There are no ramps or elevators to access the main level.\n🪑 Seating: Seating is assigned on a first come first served basis in each zone\n\nTentative Program\n\nGangsta’s Paradise – Coolio\nI Like It – Cardi B\nJay-Z Medley\nOutkast Medley\nLauryn Hill and Fugees Medley\nPassionfruit – Drake\nKendrick Lamar Medley\n2Pac Medley\nThe Notorious B.I.G. Medley\nDr. Dre Medley\nEminem Medley\n\nPerformers\n🎻 Listeso String Quartet \nBook a Private Event\nLooking to create an unforgettable experience for your wedding\, or special occasion? We offer private event bookings with customized programs tailored to your needs. \nGet a quote
URL:https://www.listeso.com/concert/2026-03-27-short-north-church-hip-hop-on-strings/
LOCATION:Short North Church\, Columbus\, OH\, United States
CATEGORIES:Columbus, OH
ATTACH;FMTTYPE=image/jpeg:https://www.listeso.com/wp-content/uploads/2025/10/4380b5d2-1516-11f0-9156-560324ce043d-LKCEhn.jpg
END:VEVENT
BEGIN:VEVENT
DTSTART;TZID=America/New_York:20260327T204500
DTEND;TZID=America/New_York:20260327T214500
DTSTAMP:20260420T175611
CREATED:20260223T162758Z
LAST-MODIFIED:20260223T162758Z
UID:10007893-1774644300-1774647900@www.listeso.com
SUMMARY:Candlelight: Tribute to The Beatles
DESCRIPTION:Overview\nCandlelight concerts bring the magic of a live\, multi-sensory musical experience to awe-inspiring locations like never seen before in Columbus. Get your tickets now to discover the music of The Beatles at Short North Church under the gentle glow of candlelight. \nGeneral Info\n\n📍 Venue: Short North Church\n⏳ Duration: 60 minutes. Doors open 45 minutes before the show and close 5 minutes prior to the start. Late arrivals will not be permitted\n👤 Age requirement: 8 years old or older. Anyone under the age of 16 must be accompanied by an adult\n♿ Accessibility: This venue is ADA compliant and offers a chair lift for access to the main level. Please note\, there are no ramps or elevators available to reach the main level\n🪑 Seating: Seating is assigned on a first come first served basis in each zone\n\nTentative Program\n\nHere Comes The Sun\nI Want To Hold Your Hand\nHelp!\nMichelle\nPenny Lane\nCome Together\nWe Can Work It Out\nWhile My Guitar Gently Weeps\nLady Madonna\nBlackbird\nHere\, There\, and Everywhere\nEleanor Rigby\nLucy In The Sky With Diamonds\nYesterday\nWith A Little Help From My Friends\nHey Jude\n\nPerformers\n🎻 Listeso String Quartet \nBook a Private Event\nLooking to create an unforgettable experience for your wedding\, or special occasion? We offer private event bookings with customized programs tailored to your needs. \nGet a quote
URL:https://www.listeso.com/concert/2026-03-27-short-north-church-tribute-to-the-beatles/
LOCATION:Short North Church\, Columbus\, OH\, United States
CATEGORIES:Columbus, OH
ATTACH;FMTTYPE=image/jpeg:https://www.listeso.com/wp-content/uploads/2025/10/f55cbb06-4c7b-11f0-959f-be17fe3408d2-8SILBH.jpg
END:VEVENT
END:VCALENDAR