BEGIN:VCALENDAR
VERSION:2.0
PRODID:-//Listeso Music Group - A Boutique String Quartet Agency - ECPv6.15.20//NONSGML v1.0//EN
CALSCALE:GREGORIAN
METHOD:PUBLISH
X-ORIGINAL-URL:https://www.listeso.com
X-WR-CALDESC:Events for Listeso Music Group - A Boutique String Quartet Agency
REFRESH-INTERVAL;VALUE=DURATION:PT1H
X-Robots-Tag:noindex
X-PUBLISHED-TTL:PT1H
BEGIN:VTIMEZONE
TZID:America/New_York
BEGIN:DAYLIGHT
TZOFFSETFROM:-0500
TZOFFSETTO:-0400
TZNAME:EDT
DTSTART:20240310T070000
END:DAYLIGHT
BEGIN:STANDARD
TZOFFSETFROM:-0400
TZOFFSETTO:-0500
TZNAME:EST
DTSTART:20241103T060000
END:STANDARD
BEGIN:DAYLIGHT
TZOFFSETFROM:-0500
TZOFFSETTO:-0400
TZNAME:EDT
DTSTART:20250309T070000
END:DAYLIGHT
BEGIN:STANDARD
TZOFFSETFROM:-0400
TZOFFSETTO:-0500
TZNAME:EST
DTSTART:20251102T060000
END:STANDARD
BEGIN:DAYLIGHT
TZOFFSETFROM:-0500
TZOFFSETTO:-0400
TZNAME:EDT
DTSTART:20260308T070000
END:DAYLIGHT
BEGIN:STANDARD
TZOFFSETFROM:-0400
TZOFFSETTO:-0500
TZNAME:EST
DTSTART:20261101T060000
END:STANDARD
END:VTIMEZONE
BEGIN:VEVENT
DTSTART;TZID=America/New_York:20251107T180000
DTEND;TZID=America/New_York:20251107T190000
DTSTAMP:20260421T051757
CREATED:20251005T160858Z
LAST-MODIFIED:20251005T160858Z
UID:10005079-1762538400-1762542000@www.listeso.com
SUMMARY:Candlelight: Tribute to Adele
DESCRIPTION:Overview\nCandlelight concerts bring the magic of a live\, multi-sensory musical experience to awe-inspiring locations like never seen before in Fort Myers. Get your tickets now to discover the music of Adele at Florida Repertory Theatre under the gentle glow of candlelight. \nGeneral Info\n\n📍 Venue: Florida Repertory Theatre\n⏳ Duration: 60 minutes. Doors open 60 minutes before the show and close 5 minutes prior to the start. Late arrivals will not be permitted\n👤 Age requirement: 8 years old or older. Anyone under the age of 16 must be accompanied by an adult\n♿ Accessibility: this venue is ADA compliant\n🪑 Seating: assigned on a first come first served basis in each zone\n\nTentative Program\n\nHello\nRumour Has It\nMake You Feel My Love\nWater Under the Bridge\nOh My God\nSomeone Like You\nSend My Love (To Your New Lover)\nChasing Pavements\nSkyfall\nWhen We Were Young\nSet Fire to the Rain\nEasy On Me\nRolling in the Deep\n\nPerformers\n🎻 Listeso String Quartet \nBook a Private Event\nLooking to create an unforgettable experience for your wedding\, or special occasion? We offer private event bookings with customized programs tailored to your needs. \nGet a quote
URL:https://www.listeso.com/concert/2025-11-07-florida-repertory-theatre-candlelight-tribute-to-adele/
LOCATION:Florida Repertory Theatre\, Fort Myers\, FL\, United States
CATEGORIES:Fort Myers, FL
ATTACH;FMTTYPE=image/jpeg:https://www.listeso.com/wp-content/uploads/2025/10/a9430c14-6280-11f0-8664-ae8f95c7ce7e-x4wNWT.jpg
END:VEVENT
BEGIN:VEVENT
DTSTART;TZID=America/New_York:20251107T203000
DTEND;TZID=America/New_York:20251107T213000
DTSTAMP:20260421T051757
CREATED:20251005T160911Z
LAST-MODIFIED:20251005T160911Z
UID:10005080-1762547400-1762551000@www.listeso.com
SUMMARY:Candlelight: Vivaldi's Four Seasons
DESCRIPTION:Overview\nCandlelight concerts bring the magic of a live\, multi-sensory musical experience to awe-inspiring locations like never seen before in Fort Myers. Get your tickets now to discover the music of Vivaldi’s Four Seasons at Florida Repertory Theatre under the gentle glow of candlelight. \nGeneral Info\n\n📍 Venue: Florida Repertory Theatre\n⏳ Duration: 60 minutes. Doors open 60 minutes before the show and close 5 minutes prior to the start. Late arrivals will not be permitted\n👤 Age requirement: 8 years old or older. Anyone under the age of 16 must be accompanied by an adult\n♿ Accessibility: This venue is ADA compliant\n🪑 Seating: Seating is assigned on a first come first served basis in each zone\n\nTentative Program\n\nThe Four Seasons\, Violin Concerto in G Minor\, Op. 8 No. 1 RV 269: Spring\nThe Four Seasons\, Violin Concerto in G Minor\, Op. 8 No. 2 RV 315: Summer\nThe Four Seasons\, Violin Concerto in G Minor\, Op. 8 No. 3 RV 293: Autumn\nThe Four Seasons\, Violin Concerto in G Minor\, Op. 8 No. 4 RV 297: Winter\nSonata n.12 in d-minor “La Follia” RV 63\n\nPerformers\n🎻 Listeso String Quartet \nBook a Private Event\nLooking to create an unforgettable experience for your wedding\, or special occasion? We offer private event bookings with customized programs tailored to your needs. \nGet a quote
URL:https://www.listeso.com/concert/2025-11-07-florida-repertory-theatre-vivaldis-four-seasons/
LOCATION:Florida Repertory Theatre\, Fort Myers\, FL\, United States
CATEGORIES:Fort Myers, FL
ATTACH;FMTTYPE=image/jpeg:https://www.listeso.com/wp-content/uploads/2025/10/9bdc2556-1ab4-11f0-8624-6e8226e0238e-WVrOeC.jpg
END:VEVENT
BEGIN:VEVENT
DTSTART;TZID=America/New_York:20251123T180000
DTEND;TZID=America/New_York:20251123T190000
DTSTAMP:20260421T051757
CREATED:20251005T160924Z
LAST-MODIFIED:20251005T160924Z
UID:10005081-1763920800-1763924400@www.listeso.com
SUMMARY:Candlelight: Tribute to Taylor Swift
DESCRIPTION:Overview\nCandlelight concerts bring the magic of a live\, multi-sensory musical experience to awe-inspiring locations like never seen before in Fort Myers. Get your tickets now to discover the music of Taylor Swift at Music & Arts Community Center – Gulf Coast Symphony under the gentle glow of candlelight. \nGeneral Info\n\n📍 Venue: Music & Arts Community Center – Gulf Coast Symphony\n📅 Dates and times: select your dates/times directly in the ticket selector\n⏳ Duration: 65 minutes. Doors open 45 minutes before the show and close 5 minutes prior to the start. Late arrivals will not be permitted\n👤 Age requirement: 8 years old or older. Anyone under the age of 16 must be accompanied by an adult\n♿ Accessibility: The venue is ADA compliant but only Zone C has accessible seating\n🪑 Seating: Seating is assigned on a first come first served basis in each zone\n\nTentative Program\n\n“Lavender Haze”\n“Love Story”\n“Cardigan”\n“Blank Space”\n“Enchanted”\n“Anti-Hero”\n“Snow on the Beach (ft. Lana Del Rey)”\n“We Are Never Ever Getting Back Together”\n“Lover”\n“I Knew You Were Trouble”\n“You Belong With Me”\n“Shake It Off”\n\nPerformers\n🎻 Listeso String Quartet \nBook a Private Event\nLooking to create an unforgettable experience for your wedding\, or special occasion? We offer private event bookings with customized programs tailored to your needs. \nGet a quote
URL:https://www.listeso.com/concert/2025-11-23-music-arts-community-center-gulf-coast-symphony-tribute-to-taylor-swift/
LOCATION:Music & Arts Community Center – Gulf Coast Symphony\, Fort Myers\, FL\, United States
CATEGORIES:Fort Myers, FL
ATTACH;FMTTYPE=image/jpeg:https://www.listeso.com/wp-content/uploads/2025/10/72fb8e18-69a3-11f0-8a85-7203fda2f6d8-VH6aSg.jpg
END:VEVENT
BEGIN:VEVENT
DTSTART;TZID=America/New_York:20251123T203000
DTEND;TZID=America/New_York:20251123T213000
DTSTAMP:20260421T051757
CREATED:20251005T160938Z
LAST-MODIFIED:20251005T160938Z
UID:10005082-1763929800-1763933400@www.listeso.com
SUMMARY:Candlelight: Tribute to The Beatles
DESCRIPTION:Overview\nCandlelight concerts bring the magic of a live\, multi-sensory musical experience to awe-inspiring locations like never seen before in Fort Myers. Get your tickets now to discover the music of The Beatles at Music & Arts Community Center – Gulf Coast Symphony under the gentle glow of candlelight. \nGeneral Info\n\n📍 Venue: Music & Arts Community Center – Gulf Coast Symphony\n⏳ Duration: 60 minutes. Doors open 45 minutes before the show and close 5 minutes prior to the start. Late arrivals will not be permitted\n👤 Age requirement: 8 years old or older. Anyone under the age of 16 must be accompanied by an adult\n♿ Accessibility: this venue is ADA compliant\n🪑 Seating: Seating is assigned on a first come first served basis in each zone\n\nTentative Program\n\nHere Comes The Sun\nI Want To Hold Your Hand\nHelp!\nMichelle\nPenny Lane\nCome Together\nWe Can Work It Out\nWhile My Guitar Gently Weeps\nLady Madonna\nBlackbird\nHere\, There\, and Everywhere\nEleanor Rigby\nLucy In The Sky With Diamonds\nYesterday\nWith A Little Help From My Friends\nHey Jude\n\nPerformers\n🎻 Listeso String Quartet \nBook a Private Event\nLooking to create an unforgettable experience for your wedding\, or special occasion? We offer private event bookings with customized programs tailored to your needs. \nGet a quote
URL:https://www.listeso.com/concert/2025-11-23-music-arts-community-center-gulf-coast-symphony-candlelight-tribute-to-the-beatles/
LOCATION:Music & Arts Community Center – Gulf Coast Symphony\, Fort Myers\, FL\, United States
CATEGORIES:Fort Myers, FL
ATTACH;FMTTYPE=image/jpeg:https://www.listeso.com/wp-content/uploads/2025/10/ed0a3082-1a8f-11f0-95bb-f62d5ea4b178-eeB8dc.jpg
END:VEVENT
END:VCALENDAR