BEGIN:VCALENDAR
VERSION:2.0
PRODID:-//Listeso Music Group - A Boutique String Quartet Agency - ECPv6.15.20//NONSGML v1.0//EN
CALSCALE:GREGORIAN
METHOD:PUBLISH
X-ORIGINAL-URL:https://www.listeso.com
X-WR-CALDESC:Events for Listeso Music Group - A Boutique String Quartet Agency
REFRESH-INTERVAL;VALUE=DURATION:PT1H
X-Robots-Tag:noindex
X-PUBLISHED-TTL:PT1H
BEGIN:VTIMEZONE
TZID:America/New_York
BEGIN:DAYLIGHT
TZOFFSETFROM:-0500
TZOFFSETTO:-0400
TZNAME:EDT
DTSTART:20250309T070000
END:DAYLIGHT
BEGIN:STANDARD
TZOFFSETFROM:-0400
TZOFFSETTO:-0500
TZNAME:EST
DTSTART:20251102T060000
END:STANDARD
BEGIN:DAYLIGHT
TZOFFSETFROM:-0500
TZOFFSETTO:-0400
TZNAME:EDT
DTSTART:20260308T070000
END:DAYLIGHT
BEGIN:STANDARD
TZOFFSETFROM:-0400
TZOFFSETTO:-0500
TZNAME:EST
DTSTART:20261101T060000
END:STANDARD
BEGIN:DAYLIGHT
TZOFFSETFROM:-0500
TZOFFSETTO:-0400
TZNAME:EDT
DTSTART:20270314T070000
END:DAYLIGHT
BEGIN:STANDARD
TZOFFSETFROM:-0400
TZOFFSETTO:-0500
TZNAME:EST
DTSTART:20271107T060000
END:STANDARD
END:VTIMEZONE
BEGIN:VEVENT
DTSTART;TZID=America/New_York:20260118T203000
DTEND;TZID=America/New_York:20260118T213000
DTSTAMP:20260421T014910
CREATED:20251120T120219Z
LAST-MODIFIED:20251120T120219Z
UID:10007279-1768768200-1768771800@www.listeso.com
SUMMARY:Candlelight: Queen vs. ABBA
DESCRIPTION:Overview\nCandlelight concerts bring the magic of a live\, multi-sensory musical experience to awe-inspiring locations like never seen before in Fort Myers. Get your tickets now to discover the music of Queen vs. ABBA at Music & Arts Community Center – Gulf Coast Symphony under the gentle glow of candlelight. \nGeneral Info\n\n📍 Venue: Music & Arts Community Center – Gulf Coast Symphony\n⏳ Duration: 60 minutes. Doors open 45 minutes before the show and close 5 minutes prior to the start. Late arrivals will not be permitted\n👤 Age requirement: 8 years old or older. Anyone under the age of 16 must be accompanied by an adult\n♿ Accessibility: ADA compliant\n🪑 Seating: Seating is assigned on a first come first served basis in each zone\n\nTentative Program\n\nDancing Queen – ABBA\nSOS – ABBA\nMoney\, Money\, Money – ABBA\nVoulez Vous – ABBA\nBohemian Rhapsody – Queen\nI Want to Break Free – Queen\nKiller Queen – Queen\nWaterloo – ABBA\nSuper Trouper – ABBA\nMamma Mia – ABBA\nDon’t Stop Me Now – Queen\nWe Will Rock You – Queen\nWe Are the Champions – Queen\nGimme Gimme Gimme – ABBA\n\nPerformers\n🎻 String Quartet – Listeso – Fort Myers \nBook a Private Event\nLooking to create an unforgettable experience for your wedding\, or special occasion? We offer private event bookings with customized programs tailored to your needs. \nGet a quote
URL:https://www.listeso.com/concert/2026-01-18-music-arts-community-center-gulf-coast-symphony-candlelight-queen-vs-abba/
LOCATION:Music & Arts Community Center – Gulf Coast Symphony\, Fort Myers\, FL\, United States
CATEGORIES:Fort Myers, FL
ATTACH;FMTTYPE=image/jpeg:https://www.listeso.com/wp-content/uploads/2025/10/66cd0d5a-1945-11f0-b4e1-16541c266220-gop1t7.jpg
END:VEVENT
BEGIN:VEVENT
DTSTART;TZID=America/New_York:20260123T180000
DTEND;TZID=America/New_York:20260123T190000
DTSTAMP:20260421T014910
CREATED:20251125T120542Z
LAST-MODIFIED:20251125T120542Z
UID:10007383-1769191200-1769194800@www.listeso.com
SUMMARY:Candlelight: Tribute to Taylor Swift
DESCRIPTION:Overview\nCandlelight concerts bring the magic of a live\, multi-sensory musical experience to awe-inspiring locations like never seen before in Fort Myers. Get your tickets now to discover the music of Taylor Swift at Music & Arts Community Center – Gulf Coast Symphony under the gentle glow of candlelight. \nGeneral Info\n\n⏳ Duration: 65 minutes. Doors open 45 minutes before the show and close 5 minutes prior to the start. Late arrivals will not be permitted\n👤 Age requirement: 8 years old or older. Anyone under the age of 16 must be accompanied by an adult\n♿ Accessibility: The venue is ADA compliant but only Zone C has accessible seating\n🪑 Seating: Seating is assigned on a first come first served basis in each zone\n\nTentative Program\n\n“Lavender Haze”\n“Love Story”\n“Cardigan”\n“Blank Space”\n“Enchanted”\n“Anti-Hero”\n“Snow on the Beach (ft. Lana Del Rey)”\n“We Are Never Ever Getting Back Together”\n“Lover”\n“I Knew You Were Trouble”\n“You Belong With Me”\n“Shake It Off”\n\nPerformers\n🎻 Listeso String Quartet \nBook a Private Event\nLooking to create an unforgettable experience for your wedding\, or special occasion? We offer private event bookings with customized programs tailored to your needs. \nGet a quote
URL:https://www.listeso.com/concert/2026-01-23-music-arts-community-center-gulf-coast-symphony-candlelight-tribute-to-taylor-swift/
LOCATION:Music & Arts Community Center – Gulf Coast Symphony\, Fort Myers\, FL\, United States
CATEGORIES:Fort Myers, FL
ATTACH;FMTTYPE=image/jpeg:https://www.listeso.com/wp-content/uploads/2025/10/72fb8e18-69a3-11f0-8a85-7203fda2f6d8-VH6aSg.jpg
END:VEVENT
BEGIN:VEVENT
DTSTART;TZID=America/New_York:20260125T180000
DTEND;TZID=America/New_York:20260125T190000
DTSTAMP:20260421T014910
CREATED:20251127T120335Z
LAST-MODIFIED:20251127T120335Z
UID:10007543-1769364000-1769367600@www.listeso.com
SUMMARY:Candlelight: Tribute to Adele
DESCRIPTION:Overview\nCandlelight concerts bring the magic of a live\, multi-sensory musical experience to awe-inspiring locations like never seen before in Fort Myers. Get your tickets now to discover the music of Adele at Florida Repertory Theatre under the gentle glow of candlelight. \nGeneral Info\n\n📍 Venue: Florida Repertory Theatre\n⏳ Duration: 60 minutes. Doors open 60 minutes before the show and close 5 minutes prior to the start. Late arrivals will not be permitted\n👤 Age requirement: 8 years old or older. Anyone under the age of 16 must be accompanied by an adult\n♿ Accessibility: this venue is ADA compliant\n🪑 Seating: assigned on a first come first served basis in each zone\n\nTentative Program\n\nHello\nRumour Has It\nMake You Feel My Love\nWater Under the Bridge\nOh My God\nSomeone Like You\nSend My Love (To Your New Lover)\nChasing Pavements\nSkyfall\nWhen We Were Young\nSet Fire to the Rain\nEasy On Me\nRolling in the Deep\n\nPerformers\n🎻 Listeso String Quartet \nBook a Private Event\nLooking to create an unforgettable experience for your wedding\, or special occasion? We offer private event bookings with customized programs tailored to your needs. \nGet a quote
URL:https://www.listeso.com/concert/2026-01-25-florida-repertory-theatre-candlelight-tribute-to-adele/
LOCATION:Florida Repertory Theatre\, Fort Myers\, FL\, United States
CATEGORIES:Fort Myers, FL
ATTACH;FMTTYPE=image/jpeg:https://www.listeso.com/wp-content/uploads/2025/10/a9430c14-6280-11f0-8664-ae8f95c7ce7e-x4wNWT.jpg
END:VEVENT
END:VCALENDAR