BEGIN:VCALENDAR
VERSION:2.0
PRODID:-//Listeso Music Group - A Boutique String Quartet Agency - ECPv6.15.20//NONSGML v1.0//EN
CALSCALE:GREGORIAN
METHOD:PUBLISH
X-ORIGINAL-URL:https://www.listeso.com
X-WR-CALDESC:Events for Listeso Music Group - A Boutique String Quartet Agency
REFRESH-INTERVAL;VALUE=DURATION:PT1H
X-Robots-Tag:noindex
X-PUBLISHED-TTL:PT1H
BEGIN:VTIMEZONE
TZID:America/New_York
BEGIN:DAYLIGHT
TZOFFSETFROM:-0500
TZOFFSETTO:-0400
TZNAME:EDT
DTSTART:20250309T070000
END:DAYLIGHT
BEGIN:STANDARD
TZOFFSETFROM:-0400
TZOFFSETTO:-0500
TZNAME:EST
DTSTART:20251102T060000
END:STANDARD
BEGIN:DAYLIGHT
TZOFFSETFROM:-0500
TZOFFSETTO:-0400
TZNAME:EDT
DTSTART:20260308T070000
END:DAYLIGHT
BEGIN:STANDARD
TZOFFSETFROM:-0400
TZOFFSETTO:-0500
TZNAME:EST
DTSTART:20261101T060000
END:STANDARD
BEGIN:DAYLIGHT
TZOFFSETFROM:-0500
TZOFFSETTO:-0400
TZNAME:EDT
DTSTART:20270314T070000
END:DAYLIGHT
BEGIN:STANDARD
TZOFFSETFROM:-0400
TZOFFSETTO:-0500
TZNAME:EST
DTSTART:20271107T060000
END:STANDARD
END:VTIMEZONE
BEGIN:VEVENT
DTSTART;TZID=America/New_York:20260430T203000
DTEND;TZID=America/New_York:20260430T213000
DTSTAMP:20260420T224616
CREATED:20260302T120153Z
LAST-MODIFIED:20260302T120153Z
UID:10008728-1777581000-1777584600@www.listeso.com
SUMMARY:Candlelight: The Music of The Beatles
DESCRIPTION:Overview\nCandlelight concerts bring the magic of a live\, multi-sensory musical experience to awe-inspiring locations like never seen before in Fort Myers. Get your tickets now to discover the music of The Beatles at Music & Arts Community Center – Gulf Coast Symphony under the gentle glow of candlelight. \n🌸 To celebrate Candlelight Spring\, a limited number of sessions feature a special floral setting. All other sessions follow the standard Candlelight setup. See the dates below. \nGeneral Info\n\n📍 Venue: Music & Arts Community Center – Gulf Coast Symphony\n⏳ Duration: 60 minutes. Doors open 45 minutes before the show. No entry once it starts.\n👤 Age requirement: 8 years old or older. Anyone under the age of 16 must be accompanied by an adult\n♿ Accessibility: this venue is ADA compliant\n🪑 Seating: Seating is assigned on a first come first served basis in each zone\n\nTentative Program\n\nHere Comes The Sun\nI Want To Hold Your Hand\nHelp!\nMichelle\nPenny Lane\nCome Together\nWe Can Work It Out\nWhile My Guitar Gently Weeps\nLady Madonna\nBlackbird\nHere\, There\, and Everywhere\nEleanor Rigby\nLucy In The Sky With Diamonds\nYesterday\nWith A Little Help From My Friends\nHey Jude\n\nSessions with Candlelight Spring Flower Setting\nApril 30 \nPerformers\n🎻 Listeso String Quartet \nBook a Private Event\nLooking to create an unforgettable experience for your wedding\, or special occasion? We offer private event bookings with customized programs tailored to your needs. \nGet a quote
URL:https://www.listeso.com/concert/2026-04-30-music-and-arts-community-center-gulf-coast-symphony-the-music-of-the-beatles/
LOCATION:Music & Arts Community Center – Gulf Coast Symphony\, Fort Myers\, FL\, United States
CATEGORIES:Fort Myers, FL
ATTACH;FMTTYPE=image/jpeg:https://www.listeso.com/wp-content/uploads/2025/10/ed0a3082-1a8f-11f0-95bb-f62d5ea4b178-eeB8dc.jpg
END:VEVENT
BEGIN:VEVENT
DTSTART;TZID=America/New_York:20260503T203000
DTEND;TZID=America/New_York:20260503T213000
DTSTAMP:20260420T224616
CREATED:20260305T120156Z
LAST-MODIFIED:20260305T120156Z
UID:10008760-1777840200-1777843800@www.listeso.com
SUMMARY:Candlelight: Tribute to Bad Bunny
DESCRIPTION:Overview\nCandlelight concerts bring the magic of a live\, multi-sensory musical experience to awe-inspiring locations like never seen before in Fort Myers. Get your tickets now to discover the music of Bad Bunny at Music & Arts Community Center – Gulf Coast Symphony under the gentle glow of candlelight. \nGeneral Info\n\n📍 Venue: Music & Arts Community Center – Gulf Coast Symphony\n⏳ Duration: 60 minutes. Doors open 45 minutes before the show and close 5 minutes prior to the start. Late arrivals will not be permitted\n👤 Age requirement: 8 years old or older. Anyone under the age of 16 must be accompanied by an adult\n♿ Accessibility: This venue is ADA compliant\n🪑 Seating: Seating is assigned on a first come first served basis in each zone\n\nTentative Program\n\nMoscow Mule\nDákiti (featuring Jhayco)\nLa Noche de Anoche (featuring Rosalía)\nSi Veo a Tu Mamá\nMIA (featuring Drake)\nSi Estuviésemos Juntos\nOtra Noche en Miami\nCallaíta (featuring Tainy)\nOjitos Lindos (featuring Bomba Estéreo)\nMe Porto Bonito (featuring Chencho Corleone)\nLa Canción\nYonaguni\nun 100xto (Grupo Frontera featuring Bad Bunny)\nTití Me Preguntó\n\nPerformers\n🎻 Listeso String Quartet – Fort Myers \nBook a Private Event\nLooking to create an unforgettable experience for your wedding\, or special occasion? We offer private event bookings with customized programs tailored to your needs. \nGet a quote
URL:https://www.listeso.com/concert/2026-05-03-music-arts-community-center-gulf-coast-symphony-tribute-to-bad-bunny/
LOCATION:Music & Arts Community Center – Gulf Coast Symphony\, Fort Myers\, FL\, United States
CATEGORIES:Fort Myers, FL
ATTACH;FMTTYPE=image/jpeg:https://www.listeso.com/wp-content/uploads/2025/10/0ff62b58-6862-11f0-97da-ee5a9ea828c9-UvN7vH.jpg
END:VEVENT
BEGIN:VEVENT
DTSTART;TZID=America/New_York:20260517T180000
DTEND;TZID=America/New_York:20260517T190000
DTSTAMP:20260420T224616
CREATED:20260319T110630Z
LAST-MODIFIED:20260319T110630Z
UID:10009605-1779040800-1779044400@www.listeso.com
SUMMARY:Candlelight: Tribute to Queen
DESCRIPTION:Overview\nCandlelight concerts bring the magic of a live\, multi-sensory musical experience to awe-inspiring locations like never seen before in Fort Myers. Get your tickets now to discover the music of Queen at Music & Arts Community Center – Gulf Coast Symphony under the gentle glow of candlelight. \nGeneral Info\n\n⏳ Duration: 60 minutes. Doors open 60 minutes before the show. No entry once it starts.\n👤 Age requirement: 8 years old or older. Anyone under the age of 16 must be accompanied by an adult\n♿ Accessibility: this venue is ADA compliant\n🪑 Seating: Seating is assigned on a first come first served basis in each zone\n\nTentative Program\n\nI Want to Break Free\nWe Will Rock You\nSomebody to Love\nRadio Ga Ga\nDon’t Stop Me Now\nKiller Queen\nCrazy Little Thing Called Love\nWho Wants to Live Forever\nBohemian Rhapsody\nLove of My Life\nWe Are the Champions\nAnother One Bites the Dust\n\nPerformers\n🎻 Listeso String Quartet \nBook a Private Event\nLooking to create an unforgettable experience for your wedding\, or special occasion? We offer private event bookings with customized programs tailored to your needs. \nGet a quote
URL:https://www.listeso.com/concert/2026-05-17-music-arts-community-center-gulf-coast-symphony-candlelight-tribute-to-queen/
LOCATION:Music & Arts Community Center – Gulf Coast Symphony\, Fort Myers\, FL\, United States
CATEGORIES:Fort Myers, FL
ATTACH;FMTTYPE=image/jpeg:https://www.listeso.com/wp-content/uploads/2026/03/8c45d84c-125e-11f1-bb5e-4a3002b561b0-5Ev2dI.jpg
END:VEVENT
END:VCALENDAR