BEGIN:VCALENDAR
VERSION:2.0
PRODID:-//Listeso Music Group - A Boutique String Quartet Agency - ECPv6.15.20//NONSGML v1.0//EN
CALSCALE:GREGORIAN
METHOD:PUBLISH
X-ORIGINAL-URL:https://www.listeso.com
X-WR-CALDESC:Events for Listeso Music Group - A Boutique String Quartet Agency
REFRESH-INTERVAL;VALUE=DURATION:PT1H
X-Robots-Tag:noindex
X-PUBLISHED-TTL:PT1H
BEGIN:VTIMEZONE
TZID:America/Chicago
BEGIN:DAYLIGHT
TZOFFSETFROM:-0600
TZOFFSETTO:-0500
TZNAME:CDT
DTSTART:20240310T080000
END:DAYLIGHT
BEGIN:STANDARD
TZOFFSETFROM:-0500
TZOFFSETTO:-0600
TZNAME:CST
DTSTART:20241103T070000
END:STANDARD
BEGIN:DAYLIGHT
TZOFFSETFROM:-0600
TZOFFSETTO:-0500
TZNAME:CDT
DTSTART:20250309T080000
END:DAYLIGHT
BEGIN:STANDARD
TZOFFSETFROM:-0500
TZOFFSETTO:-0600
TZNAME:CST
DTSTART:20251102T070000
END:STANDARD
BEGIN:DAYLIGHT
TZOFFSETFROM:-0600
TZOFFSETTO:-0500
TZNAME:CDT
DTSTART:20260308T080000
END:DAYLIGHT
BEGIN:STANDARD
TZOFFSETFROM:-0500
TZOFFSETTO:-0600
TZNAME:CST
DTSTART:20261101T070000
END:STANDARD
END:VTIMEZONE
BEGIN:VEVENT
DTSTART;TZID=America/Chicago:20251216T183000
DTEND;TZID=America/Chicago:20251216T193000
DTSTAMP:20260422T220108
CREATED:20251031T110155Z
LAST-MODIFIED:20251031T110155Z
UID:10006284-1765909800-1765913400@www.listeso.com
SUMMARY:Candlelight: Christmas Special Featuring "The Nutcracker" & More
DESCRIPTION:Overview\nCandlelight concerts bring the magic of a live\, multi-sensory musical experience to awe-inspiring locations like never seen before in Fort Worth. Get your tickets now to discover music inspired by the winter and the holiday spirit at Fort Worth Botanic Garden under the gentle glow of candlelight. \nGeneral Info\n\n📍 Venue: Fort Worth Botanic Garden\n⏳ Duration: 60 minutes. Doors open 45 minutes before the show and close 5 minutes prior to the start. Late arrivals will not be permitted\n👤 Age requirement: 8 years old or older. Anyone under the age of 16 must be accompanied by an adult\n♿ Accessibility: This venue is ADA compliant\n🪑 Seating: Seating is assigned on a first come first served basis in each zone\n\nTentative Program\n\nHoliday Medley – Various\nHark the Herald Angels Sing\nThe First Noël\nDeck the Halls\nO Holy Night – Adolphe Adam\nMa’oz Tzur – Traditional Hanukkah Song\nThe Snow is Dancing – Claude Debussy\nThe Seasons\, Op. 37a – Pyotr Ilyich Tchaikovsky\nI. January. By the Hearth\nXII. December. Christmas\nThe Skaters Waltz\, Op. 183 (Les Patineurs) – Émile Waldteufel\nGreensleeves (What Child is This) – Traditional\nHoliday Medley\nJoy to the World\nAngels We Have Heard on High\nAway in a Manger\nThe Nutcracker\, Op. 71 – Pyotr Ilyich Tchaikovsky\nMiniature Overture\nAct I\, Scene II: No. 2\, March\nAct II: No. 12d\, Divertissement. Trepak\, Russian Dance\nAct II: No. 13\, Waltz of the Flowers\nAct II: No. 14c\, Pas de Deux. Variation II\, Dance of the Sugar Plum Fairy\n\nPerformers\n🎻 Listeso String Quartet \nBook a Private Event\nLooking to create an unforgettable experience for your wedding\, or special occasion? We offer private event bookings with customized programs tailored to your needs. \nGet a quote
URL:https://www.listeso.com/concert/2025-12-16-fort-worth-botanic-garden-christmas-special-featuring-the-nutcracker-more/
LOCATION:Fort Worth Botanic Garden\, Fort Worth\, TX\, United States
CATEGORIES:Fort Worth, TX
ATTACH;FMTTYPE=image/jpeg:https://www.listeso.com/wp-content/uploads/2025/10/02f06fec-4128-11f0-9b47-c60a98054d8c-CUotVV.jpg
END:VEVENT
END:VCALENDAR