BEGIN:VCALENDAR
VERSION:2.0
PRODID:-//Listeso Music Group - A Boutique String Quartet Agency - ECPv6.15.20//NONSGML v1.0//EN
CALSCALE:GREGORIAN
METHOD:PUBLISH
X-ORIGINAL-URL:https://www.listeso.com
X-WR-CALDESC:Events for Listeso Music Group - A Boutique String Quartet Agency
REFRESH-INTERVAL;VALUE=DURATION:PT1H
X-Robots-Tag:noindex
X-PUBLISHED-TTL:PT1H
BEGIN:VTIMEZONE
TZID:America/Chicago
BEGIN:DAYLIGHT
TZOFFSETFROM:-0600
TZOFFSETTO:-0500
TZNAME:CDT
DTSTART:20240310T080000
END:DAYLIGHT
BEGIN:STANDARD
TZOFFSETFROM:-0500
TZOFFSETTO:-0600
TZNAME:CST
DTSTART:20241103T070000
END:STANDARD
BEGIN:DAYLIGHT
TZOFFSETFROM:-0600
TZOFFSETTO:-0500
TZNAME:CDT
DTSTART:20250309T080000
END:DAYLIGHT
BEGIN:STANDARD
TZOFFSETFROM:-0500
TZOFFSETTO:-0600
TZNAME:CST
DTSTART:20251102T070000
END:STANDARD
BEGIN:DAYLIGHT
TZOFFSETFROM:-0600
TZOFFSETTO:-0500
TZNAME:CDT
DTSTART:20260308T080000
END:DAYLIGHT
BEGIN:STANDARD
TZOFFSETFROM:-0500
TZOFFSETTO:-0600
TZNAME:CST
DTSTART:20261101T070000
END:STANDARD
BEGIN:DAYLIGHT
TZOFFSETFROM:-0600
TZOFFSETTO:-0500
TZNAME:CDT
DTSTART:20270314T080000
END:DAYLIGHT
BEGIN:STANDARD
TZOFFSETFROM:-0500
TZOFFSETTO:-0600
TZNAME:CST
DTSTART:20271107T070000
END:STANDARD
END:VTIMEZONE
BEGIN:VEVENT
DTSTART;TZID=America/Chicago:20260418T183000
DTEND;TZID=America/Chicago:20260418T193000
DTSTAMP:20260421T090029
CREATED:20260223T170736Z
LAST-MODIFIED:20260223T170736Z
UID:10008005-1776537000-1776540600@www.listeso.com
SUMMARY:Candlelight: Long Live the Rock Legends
DESCRIPTION:Overview\nCandlelight concerts bring the magic of a live\, multi-sensory musical experience to awe-inspiring locations like never seen before in Green Bay. Get your tickets now to discover the music of Queen at National Railroad Museum under the gentle glow of candlelight. \nGeneral Info\n\n📍 Venue: National Railroad Museum\n📅 Dates and times: select your dates/times directly in the ticket selector\n⏳ Duration: 60 minutes. Doors open 45 minutes before the show. No entry once it starts.\n👤 Age requirement: 8 years old or older. Anyone under the age of 16 must be accompanied by an adult\n♿ Accessibility: this venue is ADA compliant\n🪑 Seating: Seating is assigned on a first come first served basis in each zone\n\nTentative Program\n\nI Want to Break Free\nWe Will Rock You\nSomebody to Love\nRadio Ga Ga\nDon’t Stop Me Now\nKiller Queen\nCrazy Little Thing Called Love\nWho Wants to Live Forever\nBohemian Rhapsody\nLove of My Life\nWe Are the Champions\nAnother One Bites the Dust\n\nPerformers\n🎻 Listeso String Quartet \nBook a Private Event\nLooking to create an unforgettable experience for your wedding\, or special occasion? We offer private event bookings with customized programs tailored to your needs. \nGet a quote
URL:https://www.listeso.com/concert/2026-04-18-national-railroad-museum-candlelight-long-live-the-rock-legends/
LOCATION:National Railroad Museum\, Green Bay\, WI\, United States
CATEGORIES:Green Bay, WI
ATTACH;FMTTYPE=image/jpeg:https://www.listeso.com/wp-content/uploads/2025/10/9830311a-1940-11f0-90df-56c21721c770-2hG2Jj.jpg
END:VEVENT
BEGIN:VEVENT
DTSTART;TZID=America/Chicago:20260328T183000
DTEND;TZID=America/Chicago:20260328T193000
DTSTAMP:20260421T090029
CREATED:20260223T170723Z
LAST-MODIFIED:20260223T170723Z
UID:10008004-1774722600-1774726200@www.listeso.com
SUMMARY:Candlelight: 90s Hip-Hop on Strings
DESCRIPTION:Overview\nCandlelight concerts bring the magic of a live\, multi-sensory musical experience to awe-inspiring locations like never seen before in Green Bay. Get your tickets now to discover the music of 90s Hip-Hop on Strings at Birder Hall under the gentle glow of candlelight. \nGeneral Info\n\n⏳ Duration: 60 minutes. Doors open 45 minutes before the show. No entry once it starts.\n👤 Age requirement: 8 years old or older. Anyone under the age of 16 must be accompanied by an adult\n♿ Accessibility: This venue is ADA compliant\n🪑 Seating: Seating is assigned on a first come first served basis in each zone\n\nTentative Program\n\nFugees and Lauryn Hill Medley (Ready or Not\, Doo-Wop\, Fu-Gee-La\, and Killing Me Softly)\nJay-Z Medley (Can I Get A…\, Big Pimpin\, Money Ain’t a Thing\, and More)\nNas Medley (It Ain’t Hard to Tell\, N.Y. State of Mind\, The World Is Yours\, and More)\nOutkast Medley (Rosa Parks\, Elevators (Me & You)\, SpottieOttieDopaliscious\, and More)\nMissy ‘Misdemeanor’ Elliott Medley (The Rain (Supa Dupa Fly)\, Sock It to Me\, and More)\nA Tribe Called Quest Medley (Can I Kick It\, Check the Rhime\, Scenario\, and More)\nWu Tang Clan Medley (C.R.E.A.M. (Cash Rules Everything Around Me)\, Wu-Tang Clan Ain’t Nuthing Ta F’ Wit\, Protect Ya Neck\, and More)\n2Pac Medley (Dear Mama\, California Love\, and more)\nThe Notorious B.I.G. Medley (Juicy\, Big Poppa\, Hypnotize\, and More)\nDr. Dre Medley (Still D.R.E.\, Forgot About Dre\, Nuthin’ but a ‘G’ Thang\, and More)\nGin and Juice – Snoop Dogg\n\nPerformers\n🎻 String Quartet – Listeso – Green Bay \nBook a Private Event\nLooking to create an unforgettable experience for your wedding\, or special occasion? We offer private event bookings with customized programs tailored to your needs. \nGet a quote
URL:https://www.listeso.com/concert/2026-03-28-birder-hall-90s-hip-hop-on-strings/
LOCATION:Birder Hall\, Green Bay\, WI\, United States
CATEGORIES:Green Bay, WI
ATTACH;FMTTYPE=image/jpeg:https://www.listeso.com/wp-content/uploads/2025/10/0333ea26-1516-11f0-a637-fad4b74c3ddb-2HI2sy.jpg
END:VEVENT
BEGIN:VEVENT
DTSTART;TZID=America/Chicago:20260321T203000
DTEND;TZID=America/Chicago:20260321T213000
DTSTAMP:20260421T090029
CREATED:20260223T170657Z
LAST-MODIFIED:20260223T170657Z
UID:10008002-1774125000-1774128600@www.listeso.com
SUMMARY:Candlelight: 90s Hip-Hop on Strings
DESCRIPTION:Overview\nCandlelight concerts bring the magic of a live\, multi-sensory musical experience to awe-inspiring locations like never seen before in Green Bay. Get your tickets now to discover the music of 90s Hip-Hop on Strings at Birder Hall under the gentle glow of candlelight. \nGeneral Info\n\n⏳ Duration: 60 minutes. Doors open 45 minutes before the show. No entry once it starts.\n👤 Age requirement: 8 years old or older. Anyone under the age of 16 must be accompanied by an adult\n♿ Accessibility: This venue is ADA compliant\n🪑 Seating: Seating is assigned on a first come first served basis in each zone\n\nTentative Program\n\nFugees and Lauryn Hill Medley (Ready or Not\, Doo-Wop\, Fu-Gee-La\, and Killing Me Softly)\nJay-Z Medley (Can I Get A…\, Big Pimpin\, Money Ain’t a Thing\, and More)\nNas Medley (It Ain’t Hard to Tell\, N.Y. State of Mind\, The World Is Yours\, and More)\nOutkast Medley (Rosa Parks\, Elevators (Me & You)\, SpottieOttieDopaliscious\, and More)\nMissy ‘Misdemeanor’ Elliott Medley (The Rain (Supa Dupa Fly)\, Sock It to Me\, and More)\nA Tribe Called Quest Medley (Can I Kick It\, Check the Rhime\, Scenario\, and More)\nWu Tang Clan Medley (C.R.E.A.M. (Cash Rules Everything Around Me)\, Wu-Tang Clan Ain’t Nuthing Ta F’ Wit\, Protect Ya Neck\, and More)\n2Pac Medley (Dear Mama\, California Love\, and more)\nThe Notorious B.I.G. Medley (Juicy\, Big Poppa\, Hypnotize\, and More)\nDr. Dre Medley (Still D.R.E.\, Forgot About Dre\, Nuthin’ but a ‘G’ Thang\, and More)\nGin and Juice – Snoop Dogg\n\nPerformers\n🎻 String Quartet – Listeso – Green Bay \nBook a Private Event\nLooking to create an unforgettable experience for your wedding\, or special occasion? We offer private event bookings with customized programs tailored to your needs. \nGet a quote
URL:https://www.listeso.com/concert/2026-03-21-birder-hall-90s-hip-hop-on-strings/
LOCATION:Birder Hall\, Green Bay\, WI\, United States
CATEGORIES:Green Bay, WI
ATTACH;FMTTYPE=image/jpeg:https://www.listeso.com/wp-content/uploads/2025/10/0333ea26-1516-11f0-a637-fad4b74c3ddb-2HI2sy.jpg
END:VEVENT
BEGIN:VEVENT
DTSTART;TZID=America/Chicago:20260321T183000
DTEND;TZID=America/Chicago:20260321T193000
DTSTAMP:20260421T090029
CREATED:20260223T170710Z
LAST-MODIFIED:20260223T170710Z
UID:10008003-1774117800-1774121400@www.listeso.com
SUMMARY:Candlelight: Coldplay & Imagine Dragons
DESCRIPTION:Overview\nCandlelight concerts bring the magic of a live\, multi-sensory musical experience to awe-inspiring locations like never seen before in Green Bay. Get your tickets now to discover the music of Coldplay & Imagine Dragons at Birder Hall under the gentle glow of candlelight. \nGeneral Info\n\n📍 Venue: Birder Hall\n📅 Dates and times: select your dates/times directly in the ticket selector\n⏳ Duration: 60 minutes. Doors open 45 minutes before the show. No entry once it starts.\n👤 Age requirement: 8 years old or older. Anyone under the age of 16 must be accompanied by an adult\n♿ Accessibility: this venue is ADA compliant\n🪑 Seating: Seating is assigned on a first come first served basis in each zone\n\nTentative Program\n\nColdplay – Clocks\nImagine Dragons – Radioactive\nColdplay – Adventure of a Lifetime\nColdplay – Fix You\nImagine Dragons – Eyes Closed\nImagine Dragons – Nice to Meet You\nColdplay – The Scientist\nColdplay – feelslikeimfallinginlove\nImagine Dragons – Follow You\nImagine Dragons – Bad Liar\nImagine Dragons – Believer\nColdplay – Sky Full of Stars\nColdplay – Viva la Vida\n\nPerformers\n🎻 String Quartet – Listeso – Green Bay \nBook a Private Event\nLooking to create an unforgettable experience for your wedding\, or special occasion? We offer private event bookings with customized programs tailored to your needs. \nGet a quote
URL:https://www.listeso.com/concert/2026-03-21-birder-hall-coldplay-imagine-dragons/
LOCATION:Birder Hall\, Green Bay\, WI\, United States
CATEGORIES:Green Bay, WI
ATTACH;FMTTYPE=image/jpeg:https://www.listeso.com/wp-content/uploads/2025/09/4d0ae4c2-1158-11f0-90ef-86af2e2df509-Yt0a9U.jpg
END:VEVENT
BEGIN:VEVENT
DTSTART;TZID=America/Chicago:20260117T204500
DTEND;TZID=America/Chicago:20260117T214500
DTSTAMP:20260421T090029
CREATED:20251119T121706Z
LAST-MODIFIED:20251119T121706Z
UID:10007166-1768682700-1768686300@www.listeso.com
SUMMARY:Candlelight: Coldplay & Imagine Dragons
DESCRIPTION:Overview\nCandlelight concerts bring the magic of a live\, multi-sensory musical experience to awe-inspiring locations like never seen before in Green Bay. Get your tickets now to discover the music of Coldplay & Imagine Dragons at National Railroad Museum under the gentle glow of candlelight. \nGeneral Info\n\n📍 Venue: National Railroad Museum\n⏳ Duration: 60 minutes. Doors open 45 minutes before the show and close 5 minutes prior to the start. Late arrivals will not be permitted\n👤 Age requirement: 8 years old or older. Anyone under the age of 16 must be accompanied by an adult\n♿ Accessibility: This venue is ADA compliant\n🪑 Seating: Seating is assigned on a first come first served basis in each zone\n\nTentative Program\n\nColdplay – Clocks\nImagine Dragons – Radioactive\nColdplay – Adventure of a Lifetime\nColdplay – Fix You\nImagine Dragons – Eyes Closed\nImagine Dragons – Nice to Meet You\nColdplay – The Scientist\nColdplay – feelslikeimfallinginlove\nImagine Dragons – Follow You\nImagine Dragons – Bad Liar\nImagine Dragons – Believer\nColdplay – Sky Full of Stars\nColdplay – Viva la Vida\n\nPerformers\n🎻 Listeso String Quartet \nBook a Private Event\nLooking to create an unforgettable experience for your wedding\, or special occasion? We offer private event bookings with customized programs tailored to your needs. \nGet a quote
URL:https://www.listeso.com/concert/2026-01-17-national-railroad-museum-coldplay-imagine-dragons/
LOCATION:National Railroad Museum\, Green Bay\, WI\, United States
CATEGORIES:Green Bay, WI
ATTACH;FMTTYPE=image/jpeg:https://www.listeso.com/wp-content/uploads/2025/09/4d0ae4c2-1158-11f0-90ef-86af2e2df509-Yt0a9U.jpg
END:VEVENT
BEGIN:VEVENT
DTSTART;TZID=America/Chicago:20260117T183000
DTEND;TZID=America/Chicago:20260117T193000
DTSTAMP:20260421T090029
CREATED:20251119T121720Z
LAST-MODIFIED:20251119T121720Z
UID:10007167-1768674600-1768678200@www.listeso.com
SUMMARY:Candlelight: Tribute to Queen
DESCRIPTION:Overview\nCandlelight concerts bring the magic of a live\, multi-sensory musical experience to awe-inspiring locations like never seen before in Green Bay. Get your tickets now to discover the music of Queen at National Railroad Museum under the gentle glow of candlelight. \nGeneral Info\n\n📍 Venue: National Railroad Museum\n⏳ Duration: 60 minutes. Doors open 45 minutes before the show and close 5 minutes prior to the start. Late arrivals will not be permitted\n👤 Age requirement: 8 years old or older. Anyone under the age of 16 must be accompanied by an adult\n♿ Accessibility: This venue is ADA compliant\n🪑 Seating: Seating is assigned on a first come first served basis in each zone\n\nTentative Program\n\nI Want to Break Free\nWe Will Rock You\nSomebody to Love\nRadio Ga Ga\nDon’t Stop Me Now\nKiller Queen\nCrazy Little Thing Called Love\nWho Wants to Live Forever\nBohemian Rhapsody\nLove of My Life\nWe Are the Champions\nAnother One Bites the Dust\n\nPerformers\n🎻 Listeso String Quartet \nBook a Private Event\nLooking to create an unforgettable experience for your wedding\, or special occasion? We offer private event bookings with customized programs tailored to your needs. \nGet a quote
URL:https://www.listeso.com/concert/2026-01-17-national-railroad-museum-tribute-to-queen/
LOCATION:National Railroad Museum\, Green Bay\, WI\, United States
CATEGORIES:Green Bay, WI
ATTACH;FMTTYPE=image/jpeg:https://www.listeso.com/wp-content/uploads/2025/10/9830311a-1940-11f0-90df-56c21721c770-2hG2Jj.jpg
END:VEVENT
BEGIN:VEVENT
DTSTART;TZID=America/Chicago:20251206T183000
DTEND;TZID=America/Chicago:20251206T193000
DTSTAMP:20260421T090029
CREATED:20251105T120641Z
LAST-MODIFIED:20251105T120641Z
UID:10006458-1765045800-1765049400@www.listeso.com
SUMMARY:Candlelight: Christmas Carols on Strings
DESCRIPTION:Overview\nCandlelight concerts bring the magic of a live\, multi-sensory musical experience to awe-inspiring locations like never seen before in Green Bay. Get your tickets now to discover the music of Christmas Carols on Strings at Birder Hall under the gentle glow of candlelight. \nGeneral Info\n\n📍 Venue: Birder Hall\n⏳ Duration: 60 minutes. Doors open 45 minutes before the show and close 5 minutes prior to the start. Late arrivals will not be permitted\n👤 Age requirement: 8 years old or older. Anyone under the age of 16 must be accompanied by an adult\n♿ Accessibility: This venue is ADA compliant\n🪑 Seating: Seating is assigned on a first come first served basis in each zone\n\nTentative Program\n\n12 Days of Christmas\nAngels from the Realms of Glory\nAngels We Have Heard On High\nAway in a Manger\nCarol of the Bells\nDeck the Halls\nDing Dong! Merrily on High\nDo You Hear What I Hear\nGod Rest Ye Merry Gentlemen\nGood King Wenceslas\nGreensleeves (What Child Is This)\nHark! The Herald Angels Sing\nIn the Bleak Mid-Winter\nJoy to the World\nO Christmas Tree (O Tannenbaum)\nO Come All Ye Faithful\nO Holy Night\nO Little Town of Bethlehem\nSilent Night\nThe First Noël\n\nPerformers\n🎻 Listeso String Quartet \nBook a Private Event\nLooking to create an unforgettable experience for your wedding\, or special occasion? We offer private event bookings with customized programs tailored to your needs. \nGet a quote
URL:https://www.listeso.com/concert/2025-12-06-birder-hall-christmas-carols-on-strings/
LOCATION:Birder Hall\, Green Bay\, WI\, United States
CATEGORIES:Green Bay, WI
ATTACH;FMTTYPE=image/jpeg:https://www.listeso.com/wp-content/uploads/2025/10/52a3d270-3f95-11f0-8e93-ca060e10daed-hFlre5.jpg
END:VEVENT
BEGIN:VEVENT
DTSTART;TZID=America/Chicago:20251206T163000
DTEND;TZID=America/Chicago:20251206T173000
DTSTAMP:20260421T090029
CREATED:20251119T121651Z
LAST-MODIFIED:20251119T121651Z
UID:10007165-1765038600-1765042200@www.listeso.com
SUMMARY:Candlelight: Christmas Carols on Strings
DESCRIPTION:Overview\nCandlelight concerts bring the magic of a live\, multi-sensory musical experience to awe-inspiring locations like never seen before in Green Bay. Get your tickets now to discover the music of Christmas Carols on Strings at Birder Hall under the gentle glow of candlelight. \nGeneral Info\n\n📍 Venue: Birder Hall\n⏳ Duration: 60 minutes. Doors open 45 minutes before the show and close 5 minutes prior to the start. Late arrivals will not be permitted\n👤 Age requirement: 8 years old or older. Anyone under the age of 16 must be accompanied by an adult\n♿ Accessibility: this venue is ADA compliant\n🪑 Seating: Seating is assigned on a first come first served basis in each zone\n\nTentative Program\n\n12 Days of Christmas\nAngels from the Realms of Glory\nAngels We Have Heard On High\nAway in a Manger\nCarol of the Bells\nDeck the Halls\nDing Dong! Merrily on High\nDo You Hear What I Hear\nGod Rest Ye Merry Gentlemen\nGood King Wenceslas\nGreensleeves (What Child Is This)\nHark! The Herald Angels Sing\nIn the Bleak Mid-Winter\nJoy to the World\nO Christmas Tree (O Tannenbaum)\nO Come All Ye Faithful\nO Holy Night\nO Little Town of Bethlehem\nSilent Night\nThe First Noël\n\nPerformers\n🎻 Listeso String Quartet \nBook a Private Event\nLooking to create an unforgettable experience for your wedding\, or special occasion? We offer private event bookings with customized programs tailored to your needs. \nGet a quote
URL:https://www.listeso.com/concert/2025-12-06-birder-hall-christmas-carols-on-strings-2/
LOCATION:Birder Hall\, Green Bay\, WI\, United States
CATEGORIES:Green Bay, WI
ATTACH;FMTTYPE=image/jpeg:https://www.listeso.com/wp-content/uploads/2025/10/52a3d270-3f95-11f0-8e93-ca060e10daed-hFlre5.jpg
END:VEVENT
BEGIN:VEVENT
DTSTART;TZID=America/Chicago:20251205T203000
DTEND;TZID=America/Chicago:20251205T213000
DTSTAMP:20260421T090029
CREATED:20251029T110545Z
LAST-MODIFIED:20251029T110545Z
UID:10006207-1764966600-1764970200@www.listeso.com
SUMMARY:Candlelight: Tribute to Adele
DESCRIPTION:Overview\nCandlelight concerts bring the magic of a live\, multi-sensory musical experience to awe-inspiring locations like never seen before in Green Bay. Get your tickets now to discover the music of Adele at Birder Hall under the gentle glow of candlelight. \nGeneral Info\n\n📍 Venue: Birder Hall\n⏳ Duration: 60 minutes. Doors open 45 minutes before the show and close 5 minutes prior to the start. Late arrivals will not be permitted\n👤 Age requirement: 8 years old or older. Anyone under the age of 16 must be accompanied by an adult\n♿ Accessibility: This venue is ADA compliant\n🪑 Seating: Seating is assigned on a first come first served basis in each zone\n\nTentative Program\n\nHello\nRumour Has It\nMake You Feel My Love\nWater Under the Bridge\nOh My God\nSomeone Like You\nSend My Love (To Your New Lover)\nChasing Pavements\nSkyfall\nWhen We Were Young\nSet Fire to the Rain\nEasy On Me\nRolling in the Deep\n\nPerformers\n🎻 Listeso String Quartet \nBook a Private Event\nLooking to create an unforgettable experience for your wedding\, or special occasion? We offer private event bookings with customized programs tailored to your needs. \nGet a quote
URL:https://www.listeso.com/concert/2025-12-05-birder-hall-tribute-to-adele/
LOCATION:Birder Hall\, Green Bay\, WI\, United States
CATEGORIES:Green Bay, WI
ATTACH;FMTTYPE=image/jpeg:https://www.listeso.com/wp-content/uploads/2025/10/a9430c14-6280-11f0-8664-ae8f95c7ce7e-x4wNWT.jpg
END:VEVENT
BEGIN:VEVENT
DTSTART;TZID=America/Chicago:20251205T183000
DTEND;TZID=America/Chicago:20251205T193000
DTSTAMP:20260421T090029
CREATED:20251125T120607Z
LAST-MODIFIED:20251125T120607Z
UID:10007384-1764959400-1764963000@www.listeso.com
SUMMARY:Candlelight: Tribute to Queen
DESCRIPTION:Overview\nCandlelight concerts bring the magic of a live\, multi-sensory musical experience to awe-inspiring locations like never seen before in Green Bay. Get your tickets now to discover the music of Queen at Birder Hall under the gentle glow of candlelight. \nGeneral Info\n\n📍 Venue: Birder Hall\n⏳ Duration: 60 minutes. Doors open 45 minutes before the show and close 5 minutes prior to the start. Late arrivals will not be permitted\n👤 Age requirement: 8 years old or older. Anyone under the age of 16 must be accompanied by an adult\n♿ Accessibility: This venue is ADA compliant\n🪑 Seating: Seating is assigned on a first come first served basis in each zone\n\nTentative Program\n\nI Want to Break Free\nWe Will Rock You\nSomebody to Love\nRadio Ga Ga\nDon’t Stop Me Now\nKiller Queen\nCrazy Little Thing Called Love\nWho Wants to Live Forever\nBohemian Rhapsody\nLove of My Life\nWe Are the Champions\nAnother One Bites the Dust\n\nPerformers\n🎻 Listeso String Quartet \nBook a Private Event\nLooking to create an unforgettable experience for your wedding\, or special occasion? We offer private event bookings with customized programs tailored to your needs. \nGet a quote
URL:https://www.listeso.com/concert/2025-12-05-birder-hall-tribute-to-queen/
LOCATION:Birder Hall\, Green Bay\, WI\, United States
CATEGORIES:Green Bay, WI
ATTACH;FMTTYPE=image/jpeg:https://www.listeso.com/wp-content/uploads/2025/10/02d31cfe-1940-11f0-a825-56c21721c770-2MNiXj.jpg
END:VEVENT
BEGIN:VEVENT
DTSTART;TZID=America/Chicago:20251026T183000
DTEND;TZID=America/Chicago:20251026T193000
DTSTAMP:20260421T090029
CREATED:20251005T161736Z
LAST-MODIFIED:20251005T161736Z
UID:10005118-1761503400-1761507000@www.listeso.com
SUMMARY:Candlelight: A Haunted Evening of Halloween Classics
DESCRIPTION:Overview\nCandlelight concerts bring the magic of a live\, multi-sensory musical experience to awe-inspiring locations like never seen before in Green Bay. Get your tickets now to discover music inspired by Halloween at Birder Hall under the gentle glow of candlelight. \n🎃🚨 Spooky season is almost here! Halloween special concerts are selling fast. Get your tickets before they fully SELL OUT! 🚨🎃 \nGeneral Info\n\n📍 Venue: Birder Hall\n⏳ Duration: 60 minutes. Doors open 45 minutes before the show and close 5 minutes prior to the start. Late arrivals will not be permitted\n👤 Age requirement: 8 years old or older. Anyone under the age of 16 must be accompanied by an adult\n♿ Accessibility: this venue is ADA compliant\n🪑 Seating: Seating is assigned on a first come first served basis in each zone\n\nTentative Program\n\nThriller – Michael Jackson\nFuneral March of a Marionette – Charles Gounod\nString Quartet No. 8 in C Minor (Dresden Quartet)\, Op. 110: II. Allegro Molto – Dmitri Shostakovich\nTubular Bells (Theme from The Exorcist) – Mike Oldfield\nStranger Things (Theme) – S U R V I V E\nBeetlejuice (Theme) – Danny Elfman\nThe Addams Family (Theme) – Vic Mizzy\nHalloween (Theme) – John Carpenter\nPrelude from Psycho – Bernard Herrmann\nGhostbusters (Theme) – Ray Parker Jr.\nDanse Macabre – Camille Saint-Saëns\nNight on Bald Mountain – Modest Mussorgsky\nTime Warp from The Rocky Horror Picture Show – Richard O’Brien and Richard Hartley\nMedley from The Nightmare Before Christmas – Danny Elfman\n\nPerformers\n🎻 Listeso String Quartet \nBook a Private Event\nLooking to create an unforgettable experience for your wedding\, or special occasion? We offer private event bookings with customized programs tailored to your needs. \nGet a quote
URL:https://www.listeso.com/concert/2025-10-26-birder-hall-a-haunted-evening-of-halloween-classics/
LOCATION:Birder Hall\, Green Bay\, WI\, United States
CATEGORIES:Green Bay, WI
ATTACH;FMTTYPE=image/jpeg:https://www.listeso.com/wp-content/uploads/2025/10/f00273f8-3f8d-11f0-b57f-eaa359e93904-CUZejB.jpg
END:VEVENT
BEGIN:VEVENT
DTSTART;TZID=America/Chicago:20251025T203000
DTEND;TZID=America/Chicago:20251025T213000
DTSTAMP:20260421T090029
CREATED:20251005T161723Z
LAST-MODIFIED:20251005T161723Z
UID:10005117-1761424200-1761427800@www.listeso.com
SUMMARY:Candlelight: A Haunted Evening of Halloween Classics
DESCRIPTION:Overview\nCandlelight concerts bring the magic of a live\, multi-sensory musical experience to awe-inspiring locations like never seen before in Green Bay. Get your tickets now to discover music inspired by Halloween at Birder Hall under the gentle glow of candlelight. \n🎃🚨 Spooky season is almost here! Halloween special concerts are selling fast. Get your tickets before they fully SELL OUT! 🚨🎃 \nGeneral Info\n\n📍 Venue: Birder Hall\n⏳ Duration: 60 minutes. Doors open 45 minutes before the show and close 5 minutes prior to the start. Late arrivals will not be permitted\n👤 Age requirement: 8 years old or older. Anyone under the age of 16 must be accompanied by an adult\n♿ Accessibility: this venue is ADA compliant\n🪑 Seating: Seating is assigned on a first come first served basis in each zone\n\nTentative Program\n\nThriller – Michael Jackson\nFuneral March of a Marionette – Charles Gounod\nString Quartet No. 8 in C Minor (Dresden Quartet)\, Op. 110: II. Allegro Molto – Dmitri Shostakovich\nTubular Bells (Theme from The Exorcist) – Mike Oldfield\nStranger Things (Theme) – S U R V I V E\nBeetlejuice (Theme) – Danny Elfman\nThe Addams Family (Theme) – Vic Mizzy\nHalloween (Theme) – John Carpenter\nPrelude from Psycho – Bernard Herrmann\nGhostbusters (Theme) – Ray Parker Jr.\nDanse Macabre – Camille Saint-Saëns\nNight on Bald Mountain – Modest Mussorgsky\nTime Warp from The Rocky Horror Picture Show – Richard O’Brien and Richard Hartley\nMedley from The Nightmare Before Christmas – Danny Elfman\n\nPerformers\n🎻 Listeso String Quartet \nBook a Private Event\nLooking to create an unforgettable experience for your wedding\, or special occasion? We offer private event bookings with customized programs tailored to your needs. \nGet a quote
URL:https://www.listeso.com/concert/2025-10-25-birder-hall-a-haunted-evening-of-halloween-classics/
LOCATION:Birder Hall\, Green Bay\, WI\, United States
CATEGORIES:Green Bay, WI
ATTACH;FMTTYPE=image/jpeg:https://www.listeso.com/wp-content/uploads/2025/10/f00273f8-3f8d-11f0-b57f-eaa359e93904-CUZejB.jpg
END:VEVENT
BEGIN:VEVENT
DTSTART;TZID=America/Chicago:20251025T183000
DTEND;TZID=America/Chicago:20251025T193000
DTSTAMP:20260421T090029
CREATED:20251005T161708Z
LAST-MODIFIED:20251005T161708Z
UID:10005116-1761417000-1761420600@www.listeso.com
SUMMARY:Candlelight: Tribute to Coldplay
DESCRIPTION:Overview\nCandlelight concerts bring the magic of a live\, multi-sensory musical experience to awe-inspiring locations like never seen before in Green Bay. Get your tickets now to discover the music of Coldplay at Birder Hall under the gentle glow of candlelight. \nGeneral Info\n\n📍 Venue: Birder Hall\n⏳ Duration: 60 minutes. Doors open 45 minutes before the show and close 5 minutes prior to the start. Late arrivals will not be permitted\n👤 Age requirement: 8 years old or older. Anyone under the age of 16 must be accompanied by an adult\n♿ Accessibility: This venue is ADA compliant\n🪑 Seating: Seating is assigned on a first come first served basis in each zone\n\nTentative Program\n\nClocks\nMy Universe\nSpeed of Sound\nTrouble\nFix You\nParadise\nShiver\nYellow\nSomething Just Like This\nThe Scientist\nA Sky Full of Stars\n\nPerformers\n🎻 Listeso String Quartet \nBook a Private Event\nLooking to create an unforgettable experience for your wedding\, or special occasion? We offer private event bookings with customized programs tailored to your needs. \nGet a quote
URL:https://www.listeso.com/concert/2025-10-25-birder-hall-tribute-to-coldplay/
LOCATION:Birder Hall\, Green Bay\, WI\, United States
CATEGORIES:Green Bay, WI
ATTACH;FMTTYPE=image/jpeg:https://www.listeso.com/wp-content/uploads/2025/10/97190232-139d-11f0-bbfb-96ac2d7e16d1-xFQt6f.jpg
END:VEVENT
END:VCALENDAR