BEGIN:VCALENDAR
VERSION:2.0
PRODID:-//Listeso Music Group - A Boutique String Quartet Agency - ECPv6.15.20//NONSGML v1.0//EN
CALSCALE:GREGORIAN
METHOD:PUBLISH
X-WR-CALNAME:Listeso Music Group - A Boutique String Quartet Agency
X-ORIGINAL-URL:https://www.listeso.com
X-WR-CALDESC:Events for Listeso Music Group - A Boutique String Quartet Agency
REFRESH-INTERVAL;VALUE=DURATION:PT1H
X-Robots-Tag:noindex
X-PUBLISHED-TTL:PT1H
BEGIN:VTIMEZONE
TZID:America/New_York
BEGIN:DAYLIGHT
TZOFFSETFROM:-0500
TZOFFSETTO:-0400
TZNAME:EDT
DTSTART:20240310T070000
END:DAYLIGHT
BEGIN:STANDARD
TZOFFSETFROM:-0400
TZOFFSETTO:-0500
TZNAME:EST
DTSTART:20241103T060000
END:STANDARD
BEGIN:DAYLIGHT
TZOFFSETFROM:-0500
TZOFFSETTO:-0400
TZNAME:EDT
DTSTART:20250309T070000
END:DAYLIGHT
BEGIN:STANDARD
TZOFFSETFROM:-0400
TZOFFSETTO:-0500
TZNAME:EST
DTSTART:20251102T060000
END:STANDARD
BEGIN:DAYLIGHT
TZOFFSETFROM:-0500
TZOFFSETTO:-0400
TZNAME:EDT
DTSTART:20260308T070000
END:DAYLIGHT
BEGIN:STANDARD
TZOFFSETFROM:-0400
TZOFFSETTO:-0500
TZNAME:EST
DTSTART:20261101T060000
END:STANDARD
BEGIN:DAYLIGHT
TZOFFSETFROM:-0500
TZOFFSETTO:-0400
TZNAME:EDT
DTSTART:20270314T070000
END:DAYLIGHT
BEGIN:STANDARD
TZOFFSETFROM:-0400
TZOFFSETTO:-0500
TZNAME:EST
DTSTART:20271107T060000
END:STANDARD
END:VTIMEZONE
BEGIN:VEVENT
DTSTART;TZID=America/New_York:20251227T204500
DTEND;TZID=America/New_York:20251227T214500
DTSTAMP:20260422T021737
CREATED:20251108T123350Z
LAST-MODIFIED:20251108T123350Z
UID:10006666-1766868300-1766871900@www.listeso.com
SUMMARY:Candlelight: Queen vs. ABBA
DESCRIPTION:Overview\nCandlelight concerts bring the magic of a live\, multi-sensory musical experience to awe-inspiring locations like never seen before in Greenville. Get your tickets now to discover the music of Queen vs. ABBA at The Westin Poinsett\, Greenville under the gentle glow of candlelight. \nGeneral Info\n\n📍 Venue: The Westin Poinsett\, Greenville\n⏳ Duration: 60 minutes. Doors open 45 minutes before the show and close 5 minutes prior to the start. Late arrivals will not be permitted\n👤 Age requirement: 8 years old or older. Anyone under the age of 16 must be accompanied by an adult\n♿ Accessibility: This venue is ADA compliant\n🪑 Seating: Seating is assigned on a first come first served basis in each zone\n\nTentative Program\n\nDancing Queen\nSOS\nMoney\, Money\, Money\nBohemian Rhapsody\nI Want to Break Free\nWaterloo\nSuper Trouper\nMamma Mia\nDon’t Stop Me Now\nWe Will Rock You\nWe Are the Champions\n\nPerformers\n🎻 Listeso String Quartet \nBook a Private Event\nLooking to create an unforgettable experience for your wedding\, or special occasion? We offer private event bookings with customized programs tailored to your needs. \nGet a quote
URL:https://www.listeso.com/concert/2025-12-27-the-westin-poinsett-candlelight-queen-vs-abba/
LOCATION:The Westin Poinsett\, Greenville\, SC\, United States
CATEGORIES:Greenville, SC
ATTACH;FMTTYPE=image/jpeg:https://www.listeso.com/wp-content/uploads/2025/10/ad60b410-1945-11f0-bf40-961efeb2b763-xrNulH.jpg
END:VEVENT
BEGIN:VEVENT
DTSTART;TZID=America/New_York:20260110T183000
DTEND;TZID=America/New_York:20260110T193000
DTSTAMP:20260422T021737
CREATED:20251112T120650Z
LAST-MODIFIED:20251112T120650Z
UID:10006890-1768069800-1768073400@www.listeso.com
SUMMARY:Candlelight: The Best of Hans Zimmer
DESCRIPTION:Overview\nCandlelight concerts bring the magic of a live\, multi-sensory musical experience to awe-inspiring locations like never seen before in Greenville. Get your tickets now to discover the music of Hans Zimmer at The Westin Poinsett\, Greenville under the gentle glow of candlelight. \nGeneral Info\n\n📍 Venue: The Westin Poinsett\, Greenville\n⏳ Duration: 60 minutes. Doors open 45 minutes before the show and close 5 minutes prior to the start. Late arrivals will not be permitted\n👤 Age requirement: 8 years old or older. Anyone under the age of 16 must be accompanied by an adult\n♿ Accessibility: this venue is ADA compliant\n🪑 Seating: Seating is assigned on a first come first served basis in each zone\n\nTentative Program\n\nTime – Inception\nThis Land – The Lion King\nZooster’s Breakout – Madagascar\nSupermarine – Dunkirk\nHonor – The Pacific\nA Dark Knight – The Dark Knight\nWonder Woman Suite\nGladiator Suite\nCornfield Chase – Interstellar\nDune Suite\nDiscombobulate – Sherlock Holmes\nPirates of the Caribbean Suite\n\nPerformers\n🎻 Listeso String Quartet \nBook a Private Event\nLooking to create an unforgettable experience for your wedding\, or special occasion? We offer private event bookings with customized programs tailored to your needs. \nGet a quote
URL:https://www.listeso.com/concert/2026-01-10-the-westin-poinsett-the-best-of-hans-zimmer/
LOCATION:The Westin Poinsett\, Greenville\, SC\, United States
CATEGORIES:Greenville, SC
ATTACH;FMTTYPE=image/jpeg:https://www.listeso.com/wp-content/uploads/2025/10/5c755a1c-0b29-11f0-827c-a2cfe8261701-XYlYMo.jpg
END:VEVENT
BEGIN:VEVENT
DTSTART;TZID=America/New_York:20260110T204500
DTEND;TZID=America/New_York:20260110T214500
DTSTAMP:20260422T021737
CREATED:20251125T120624Z
LAST-MODIFIED:20251125T120624Z
UID:10007385-1768077900-1768081500@www.listeso.com
SUMMARY:Candlelight: Coldplay vs. Imagine Dragons
DESCRIPTION:Overview\nCandlelight concerts bring the magic of a live\, multi-sensory musical experience to awe-inspiring locations like never seen before in Greenville. Get your tickets now to discover the music of Coldplay vs. Imagine Dragons at The Westin Poinsett – Greenville under the gentle glow of candlelight. \nGeneral Info\n\n⏳ Duration: 60 minutes. Doors open 45 minutes before the show and close 5 minutes prior to the start. Late arrivals will not be permitted\n👤 Age requirement: 8 years old or older. Anyone under the age of 16 must be accompanied by an adult\n♿ Accessibility: This venue is ADA compliant\n🪑 Seating: Seating is assigned on a first come first served basis in each zone\n\nTentative Program\n\nColdplay – Clocks\nColdplay – Something Just Like This\nImagine Dragons – Radioactive\nColdplay – Adventure of a Lifetime\nColdplay – Fix You\nImagine Dragons – Eyes Closed\nImagine Dragons – Nice to Meet You\nColdplay – The Scientist\nColdplay – feelslikeimfallinginlove\nImagine Dragons – Follow You\nImagine Dragons – Bad Liar\nColdplay – Viva la Vida\nImagine Dragons – Believer\nColdplay – Sky Full of Stars\n\nPerformers\n🎻 Listeso String Quartet \nBook a Private Event\nLooking to create an unforgettable experience for your wedding\, or special occasion? We offer private event bookings with customized programs tailored to your needs. \nGet a quote
URL:https://www.listeso.com/concert/2026-01-10-the-westin-poinsett-greenville-candlelight-coldplay-vs-imagine-dragons/
LOCATION:The Westin Poinsett – Greenville\, Greenville\, SC\, United States
CATEGORIES:Greenville, SC
ATTACH;FMTTYPE=image/jpeg:https://www.listeso.com/wp-content/uploads/2025/10/55ef9d82-1156-11f0-b5b0-0ee885ccc32f-OlscRd.jpg
END:VEVENT
BEGIN:VEVENT
DTSTART;TZID=America/New_York:20260116T183000
DTEND;TZID=America/New_York:20260116T193000
DTSTAMP:20260422T021737
CREATED:20251119T121750Z
LAST-MODIFIED:20251119T121750Z
UID:10007169-1768588200-1768591800@www.listeso.com
SUMMARY:Candlelight: Tribute to Fleetwood Mac
DESCRIPTION:Overview\nCandlelight concerts bring the magic of a live\, multi-sensory musical experience to awe-inspiring locations like never seen before in Greenville. Get your tickets now to discover the music of Fleetwood Mac at The Westin Poinsett – Greenville under the gentle glow of candlelight. \nGeneral Info\n\n📍 Venue: The Westin Poinsett – Greenville\n⏳ Duration: 60 minutes. Doors open 45 minutes before the show and close 5 minutes prior to the start. Late arrivals will not be permitted\n👤 Age requirement: 8 years old or older. Anyone under the age of 16 must be accompanied by an adult\n♿ Accessibility: ADA compliant\n🪑 Seating: Seating is assigned on a first come first served basis in each zone\n\nTentative Program\n\nEverywhere\nGypsy\nYou Make Loving Fun\nNever Going Back Again\nDon’t Stop\nGold Dust Woman\nGo Your Own Way\nLandslide\nLittle Lies\nSongbird\nRhiannon\nThe Chain\n\nPerformers\n🎻 Listeso String Quartet \nBook a Private Event\nLooking to create an unforgettable experience for your wedding\, or special occasion? We offer private event bookings with customized programs tailored to your needs. \nGet a quote
URL:https://www.listeso.com/concert/2026-01-16-the-westin-poinsett-greenville-tribute-to-fleetwood-mac/
LOCATION:The Westin Poinsett – Greenville\, Greenville\, SC\, United States
CATEGORIES:Greenville, SC
ATTACH;FMTTYPE=image/jpeg:https://www.listeso.com/wp-content/uploads/2025/10/5c2e82a6-1f77-11f0-9fc3-b6302f1836c4-3Gs8kb.jpg
END:VEVENT
BEGIN:VEVENT
DTSTART;TZID=America/New_York:20260116T204500
DTEND;TZID=America/New_York:20260116T214500
DTSTAMP:20260422T021737
CREATED:20251119T121736Z
LAST-MODIFIED:20251119T121736Z
UID:10007168-1768596300-1768599900@www.listeso.com
SUMMARY:Candlelight: Queen vs. ABBA
DESCRIPTION:Overview\nCandlelight concerts bring the magic of a live\, multi-sensory musical experience to awe-inspiring locations like never seen before in Greenville. Get your tickets now to discover the music of Queen vs. ABBA at The Westin Poinsett\, Greenville under the gentle glow of candlelight. \nGeneral Info\n\n📍 Venue: The Westin Poinsett\, Greenville\n⏳ Duration: 60 minutes. Doors open 45 minutes before the show and close 5 minutes prior to the start. Late arrivals will not be permitted\n👤 Age requirement: 8 years old or older. Anyone under the age of 16 must be accompanied by an adult\n♿ Accessibility: this venue is ADA compliant\n🪑 Seating: assigned on a first come first served basis in each zone\n\nTentative Program\n\nDancing Queen\nSOS\nMoney\, Money\, Money\nBohemian Rhapsody\nI Want to Break Free\nWaterloo\nSuper Trouper\nMamma Mia\nDon’t Stop Me Now\nWe Will Rock You\nWe Are the Champions\n\nPerformers\n🎻 Listeso String Quartet \nBook a Private Event\nLooking to create an unforgettable experience for your wedding\, or special occasion? We offer private event bookings with customized programs tailored to your needs. \nGet a quote
URL:https://www.listeso.com/concert/2026-01-16-the-westin-poinsett-candlelight-queen-vs-abba/
LOCATION:The Westin Poinsett\, Greenville\, SC\, United States
CATEGORIES:Greenville, SC
ATTACH;FMTTYPE=image/jpeg:https://www.listeso.com/wp-content/uploads/2025/10/ad60b410-1945-11f0-bf40-961efeb2b763-xrNulH.jpg
END:VEVENT
BEGIN:VEVENT
DTSTART;TZID=America/New_York:20260117T183000
DTEND;TZID=America/New_York:20260117T193000
DTSTAMP:20260422T021737
CREATED:20251119T121821Z
LAST-MODIFIED:20251119T121821Z
UID:10007171-1768674600-1768678200@www.listeso.com
SUMMARY:Candlelight: Featuring Vivaldi's Four Seasons & More
DESCRIPTION:Overview\nCandlelight concerts bring the magic of a live\, multi-sensory musical experience to awe-inspiring locations like never seen before in Greenville. Get your tickets now to discover Vivaldi and more at The Westin Poinsett\, Greenville under the gentle glow of candlelight. \nGeneral Info\n\n⏳ Duration: 60 minutes. Doors open 45 minutes before the show and close 5 minutes prior to the start. Late arrivals will not be permitted\n👤 Age requirement: 8 years old or older. Anyone under the age of 16 must be accompanied by an adult\n♿ Accessibility: This venue is ADA compliant\n🪑 Seating: Seating is assigned on a first come first served basis in each zone\n\nTentative Program\n\n“The Four Seasons\, Violin Concerto in G Minor\, Op. 8 No. 1 RV 269: Spring” – Vivaldi\n“The Four Seasons\, Violin Concerto in G Minor\, Op. 8 No. 2 RV 315: Summer” – Vivaldi\n“Thaïs: Méditation” – Jules Massenet\n“The Cuatro Estaciones Porteñas: Verano Porteño” – Astor Piazzolla\n“The Four Seasons\, Violin Concerto in G Minor\, Op. 8 No. 3 RV 293: Autumn” – Vivaldi\n“The Four Seasons\, Violin Concerto in G Minor\, Op. 8 No. 4 RV 297: Winter” – Vivaldi\n\nPerformers\n🎻 Listeso String Quartet \nBook a Private Event\nLooking to create an unforgettable experience for your wedding\, or special occasion? We offer private event bookings with customized programs tailored to your needs. \nGet a quote
URL:https://www.listeso.com/concert/2026-01-17-the-westin-poinsett-candlelight-featuring-vivaldis-four-seasons-and-more/
LOCATION:The Westin Poinsett\, Greenville\, SC\, United States
CATEGORIES:Greenville, SC
ATTACH;FMTTYPE=image/jpeg:https://www.listeso.com/wp-content/uploads/2025/09/a6458ad6-1ab5-11f0-ae39-428e7df71db3-PiozRZ.jpg
END:VEVENT
BEGIN:VEVENT
DTSTART;TZID=America/New_York:20260117T204500
DTEND;TZID=America/New_York:20260117T214500
DTSTAMP:20260422T021737
CREATED:20251119T121806Z
LAST-MODIFIED:20251119T121806Z
UID:10007170-1768682700-1768686300@www.listeso.com
SUMMARY:Candlelight: Tribute to Adele
DESCRIPTION:Overview\nCandlelight concerts bring the magic of a live\, multi-sensory musical experience to awe-inspiring locations like never seen before in Greenville. Get your tickets now to discover the music of Adele at The Westin Poinsett\, Greenville under the gentle glow of candlelight. \nGeneral Info\n\n📍 Venue: The Westin Poinsett\, Greenville\n⏳ Duration: 60 minutes. Doors open 45 minutes before the show and close 5 minutes prior to the start. Late arrivals will not be permitted\n👤 Age requirement: 8 years old or older. Anyone under the age of 16 must be accompanied by an adult\n♿ Accessibility: This venue is ADA compliant\n🪑 Seating: Seating is assigned on a first come first served basis in each zone\n\nTentative Program\n\nHello\nRumour Has It\nMake You Feel My Love\nWater Under the Bridge\nOh My God\nSomeone Like You\nSend My Love (To Your New Lover)\nChasing Pavements\nSkyfall\nWhen We Were Young\nSet Fire to the Rain\nEasy On Me\nRolling in the Deep\n\nPerformers\n🎻 The Listeso String Quartet \nBook a Private Event\nLooking to create an unforgettable experience for your wedding\, or special occasion? We offer private event bookings with customized programs tailored to your needs. \nGet a quote
URL:https://www.listeso.com/concert/2026-01-17-the-westin-poinsett-candlelight-tribute-to-adele/
LOCATION:The Westin Poinsett\, Greenville\, SC\, United States
CATEGORIES:Greenville, SC
ATTACH;FMTTYPE=image/jpeg:https://www.listeso.com/wp-content/uploads/2025/10/a9430c14-6280-11f0-8664-ae8f95c7ce7e-x4wNWT.jpg
END:VEVENT
BEGIN:VEVENT
DTSTART;TZID=America/New_York:20260328T183000
DTEND;TZID=America/New_York:20260328T193000
DTSTAMP:20260422T021737
CREATED:20260223T170749Z
LAST-MODIFIED:20260223T170749Z
UID:10008006-1774722600-1774726200@www.listeso.com
SUMMARY:Candlelight: Featuring Vivaldi's Four Seasons & More
DESCRIPTION:Overview\nCandlelight concerts bring the magic of a live\, multi-sensory musical experience to awe-inspiring locations like never seen before in Greenville. Get your tickets now to discover Vivaldi and more at The Westin Poinsett\, Greenville under the gentle glow of candlelight. \nGeneral Info\n\n⏳ Duration: 60 minutes. Doors open 45 minutes before the show. No entry once it starts.\n👤 Age requirement: 8 years old or older. Anyone under the age of 16 must be accompanied by an adult\n♿ Accessibility: This venue is ADA compliant\n🪑 Seating: Seating is assigned on a first come first served basis in each zone\n\nTentative Program\n\n“The Four Seasons\, Violin Concerto in G Minor\, Op. 8 No. 1 RV 269: Spring” – Vivaldi\n“The Four Seasons\, Violin Concerto in G Minor\, Op. 8 No. 2 RV 315: Summer” – Vivaldi\n“Thaïs: Méditation” – Jules Massenet\n“The Cuatro Estaciones Porteñas: Verano Porteño” – Astor Piazzolla\n“The Four Seasons\, Violin Concerto in G Minor\, Op. 8 No. 3 RV 293: Autumn” – Vivaldi\n“The Four Seasons\, Violin Concerto in G Minor\, Op. 8 No. 4 RV 297: Winter” – Vivaldi\n\nPerformers\n🎻 Listeso String Quartet \nBook a Private Event\nLooking to create an unforgettable experience for your wedding\, or special occasion? We offer private event bookings with customized programs tailored to your needs. \nGet a quote
URL:https://www.listeso.com/concert/2026-03-28-the-westin-poinsett-candlelight-featuring-vivaldis-four-seasons-and-more/
LOCATION:The Westin Poinsett\, Greenville\, SC\, United States
CATEGORIES:Greenville, SC
ATTACH;FMTTYPE=image/jpeg:https://www.listeso.com/wp-content/uploads/2025/09/a6458ad6-1ab5-11f0-ae39-428e7df71db3-PiozRZ.jpg
END:VEVENT
BEGIN:VEVENT
DTSTART;TZID=America/New_York:20260328T183000
DTEND;TZID=America/New_York:20260328T193000
DTSTAMP:20260422T021737
CREATED:20260321T110616Z
LAST-MODIFIED:20260321T110616Z
UID:10009839-1774722600-1774726200@www.listeso.com
SUMMARY:Candlelight: Tribute to Fleetwood Mac
DESCRIPTION:Overview\nCandlelight concerts bring the magic of a live\, multi-sensory musical experience to awe-inspiring locations like never seen before in Greenville. Get your tickets now to discover the music of Fleetwood Mac at The Westin Poinsett – Greenville under the gentle glow of candlelight. \nGeneral Info\n\n📍 Venue: The Westin Poinsett\n⏳ Duration: 60 minutes. Doors open 45 minutes before the show. No entry once it starts.\n👤 Age requirement: 8 years old or older. Anyone under the age of 16 must be accompanied by an adult\n♿ Accessibility: ADA compliant\n🪑 Seating: Assigned on a first come first served basis in each zone\n\nTentative Program\n\nEverywhere\nGypsy\nYou Make Loving Fun\nNever Going Back Again\nDon’t Stop\nGold Dust Woman\nGo Your Own Way\nLandslide\nLittle Lies\nSongbird\nRhiannon\nThe Chain\n\nPerformers\n🎻 Listeso String Quartet \nBook a Private Event\nLooking to create an unforgettable experience for your wedding\, or special occasion? We offer private event bookings with customized programs tailored to your needs. \nGet a quote
URL:https://www.listeso.com/concert/2026-03-28-the-westin-poinsett-candlelight-tribute-to-fleetwood-mac/
LOCATION:The Westin Poinsett\, Greenville\, SC\, United States
CATEGORIES:Greenville, SC
ATTACH;FMTTYPE=image/jpeg:https://www.listeso.com/wp-content/uploads/2025/10/5c2e82a6-1f77-11f0-9fc3-b6302f1836c4-3Gs8kb.jpg
END:VEVENT
END:VCALENDAR