BEGIN:VCALENDAR
VERSION:2.0
PRODID:-//Listeso Music Group - A Boutique String Quartet Agency - ECPv6.15.20//NONSGML v1.0//EN
CALSCALE:GREGORIAN
METHOD:PUBLISH
X-WR-CALNAME:Listeso Music Group - A Boutique String Quartet Agency
X-ORIGINAL-URL:https://www.listeso.com
X-WR-CALDESC:Events for Listeso Music Group - A Boutique String Quartet Agency
REFRESH-INTERVAL;VALUE=DURATION:PT1H
X-Robots-Tag:noindex
X-PUBLISHED-TTL:PT1H
BEGIN:VTIMEZONE
TZID:America/Toronto
BEGIN:DAYLIGHT
TZOFFSETFROM:-0500
TZOFFSETTO:-0400
TZNAME:EDT
DTSTART:20240310T070000
END:DAYLIGHT
BEGIN:STANDARD
TZOFFSETFROM:-0400
TZOFFSETTO:-0500
TZNAME:EST
DTSTART:20241103T060000
END:STANDARD
BEGIN:DAYLIGHT
TZOFFSETFROM:-0500
TZOFFSETTO:-0400
TZNAME:EDT
DTSTART:20250309T070000
END:DAYLIGHT
BEGIN:STANDARD
TZOFFSETFROM:-0400
TZOFFSETTO:-0500
TZNAME:EST
DTSTART:20251102T060000
END:STANDARD
BEGIN:DAYLIGHT
TZOFFSETFROM:-0500
TZOFFSETTO:-0400
TZNAME:EDT
DTSTART:20260308T070000
END:DAYLIGHT
BEGIN:STANDARD
TZOFFSETFROM:-0400
TZOFFSETTO:-0500
TZNAME:EST
DTSTART:20261101T060000
END:STANDARD
END:VTIMEZONE
BEGIN:VEVENT
DTSTART;TZID=America/Toronto:20251025T183000
DTEND;TZID=America/Toronto:20251025T193000
DTSTAMP:20260421T201513
CREATED:20251005T161917Z
LAST-MODIFIED:20251005T161917Z
UID:10005125-1761417000-1761420600@www.listeso.com
SUMMARY:Candlelight: Tribute to Adele
DESCRIPTION:Overview\nCandlelight concerts bring the magic of a live\, multi-sensory musical experience to awe-inspiring locations like never seen before in Guelph. Get your tickets now to discover the music of Adele at Royal City Mission Church under the gentle glow of candlelight. \nGeneral Info\n\n📍 Venue: Royal City Mission Church\n⏳ Duration: 60 minutes. Doors open 45 minutes before the show and close 5 minutes prior to the start. Late arrivals will not be permitted\n👤 Age requirement: 8 years old or older. Anyone under the age of 16 must be accompanied by an adult\n♿ Accessibility: This venue is accessible for people with reduced mobility\n🪑 Seating: Seating is assigned on a first come first served basis in each zone\n\nTentative Program\n\nHello\nRumour Has It\nMake You Feel My Love\nWater Under the Bridge\nOh My God\nSomeone Like You\nSend My Love (To Your New Lover)\nChasing Pavements\nSkyfall\nWhen We Were Young\nSet Fire to the Rain\nEasy On Me\nRolling in the Deep\n\nPerformers\n🎻 Listeso String Quartet \nBook a Private Event\nLooking to create an unforgettable experience for your wedding\, or special occasion? We offer private event bookings with customized programs tailored to your needs. \nGet a quote
URL:https://www.listeso.com/concert/2025-10-25-royal-city-mission-church-tribute-to-adele/
LOCATION:Royal City Mission Church\, Guelph\, Canada
CATEGORIES:Guelph, ON
ATTACH;FMTTYPE=image/jpeg:https://www.listeso.com/wp-content/uploads/2025/10/0810a33c-0f98-11f0-a7ed-c201363fcc44-exOHXZ.jpg
END:VEVENT
BEGIN:VEVENT
DTSTART;TZID=America/Toronto:20251025T163000
DTEND;TZID=America/Toronto:20251025T173000
DTSTAMP:20260421T201513
CREATED:20251005T161931Z
LAST-MODIFIED:20251005T161931Z
UID:10005126-1761409800-1761413400@www.listeso.com
SUMMARY:Candlelight: A Haunted Evening of Halloween Classics
DESCRIPTION:Overview\n🎃🚨 Spooky season is almost here! Candlelight concerts bring the magic of a live\, multi-sensory musical experience to awe-inspiring locations like never seen before in Guelph. Get your tickets now to discover music inspired by Halloween at Royal City Mission Church under the gentle glow of candlelight. Halloween special concerts are selling fast. Get your tickets before they fully SELL OUT! 🚨🎃 \nGeneral Info\n\n📍 Venue: Royal City Mission Church\n⏳ Duration: 60 minutes. Doors open 45 minutes before the show and close 5 minutes prior to the start. Late arrivals will not be permitted\n👤 Age requirement: 8 years old or older. Anyone under the age of 16 must be accompanied by an adult\n♿ Accessibility: This venue is accessible for people with reduced mobility\n🪑 Seating: Seating is assigned on a first come first served basis in each zone\n\nTentative Program\n\nThriller – Michael Jackson\nFuneral March of a Marionette – Charles Gounod\nString Quartet No. 8 in C Minor (Dresden Quartet)\, Op. 110: II. Allegro Molto – Dmitri Shostakovich\nTubular Bells (Theme from The Exorcist) – Mike Oldfield\nStranger Things (Theme) – S U R V I V E\nBeetlejuice (Theme) – Danny Elfman\nThe Addams Family (Theme) – Vic Mizzy\nHalloween (Theme) – John Carpenter\nPrelude from Psycho – Bernard Herrmann\nGhostbusters (Theme) – Ray Parker Jr.\nDanse Macabre – Camille Saint-Saëns\nNight on Bald Mountain – Modest Mussorgsky\nTime Warp from The Rocky Horror Picture Show – Richard O’Brien and Richard Hartley\nMedley from The Nightmare Before Christmas – Danny Elfman\n\nPerformers\n🎻 Listeso String Quartet \nBook a Private Event\nLooking to create an unforgettable experience for your wedding\, or special occasion? We offer private event bookings with customized programs tailored to your needs. \nGet a quote
URL:https://www.listeso.com/concert/2025-10-25-royal-city-mission-church-a-haunted-evening-of-halloween-classics-2/
LOCATION:Royal City Mission Church\, Guelph\, Canada
CATEGORIES:Guelph, ON
ATTACH;FMTTYPE=image/jpeg:https://www.listeso.com/wp-content/uploads/2025/10/ae57a272-3ba8-11f0-8b80-4a5160eaefc9-7Jl9Ro.jpg
END:VEVENT
END:VCALENDAR