BEGIN:VCALENDAR
VERSION:2.0
PRODID:-//Listeso Music Group - A Boutique String Quartet Agency - ECPv6.15.20//NONSGML v1.0//EN
CALSCALE:GREGORIAN
METHOD:PUBLISH
X-WR-CALNAME:Listeso Music Group - A Boutique String Quartet Agency
X-ORIGINAL-URL:https://www.listeso.com
X-WR-CALDESC:Events for Listeso Music Group - A Boutique String Quartet Agency
REFRESH-INTERVAL;VALUE=DURATION:PT1H
X-Robots-Tag:noindex
X-PUBLISHED-TTL:PT1H
BEGIN:VTIMEZONE
TZID:America/Chicago
BEGIN:DAYLIGHT
TZOFFSETFROM:-0600
TZOFFSETTO:-0500
TZNAME:CDT
DTSTART:20240310T080000
END:DAYLIGHT
BEGIN:STANDARD
TZOFFSETFROM:-0500
TZOFFSETTO:-0600
TZNAME:CST
DTSTART:20241103T070000
END:STANDARD
BEGIN:DAYLIGHT
TZOFFSETFROM:-0600
TZOFFSETTO:-0500
TZNAME:CDT
DTSTART:20250309T080000
END:DAYLIGHT
BEGIN:STANDARD
TZOFFSETFROM:-0500
TZOFFSETTO:-0600
TZNAME:CST
DTSTART:20251102T070000
END:STANDARD
BEGIN:DAYLIGHT
TZOFFSETFROM:-0600
TZOFFSETTO:-0500
TZNAME:CDT
DTSTART:20260308T080000
END:DAYLIGHT
BEGIN:STANDARD
TZOFFSETFROM:-0500
TZOFFSETTO:-0600
TZNAME:CST
DTSTART:20261101T070000
END:STANDARD
BEGIN:DAYLIGHT
TZOFFSETFROM:-0600
TZOFFSETTO:-0500
TZNAME:CDT
DTSTART:20270314T080000
END:DAYLIGHT
BEGIN:STANDARD
TZOFFSETFROM:-0500
TZOFFSETTO:-0600
TZNAME:CST
DTSTART:20271107T070000
END:STANDARD
END:VTIMEZONE
BEGIN:VEVENT
DTSTART;TZID=America/Chicago:20260419T204500
DTEND;TZID=America/Chicago:20260419T214500
DTSTAMP:20260421T050551
CREATED:20260223T171620Z
LAST-MODIFIED:20260223T171620Z
UID:10008038-1776631500-1776635100@www.listeso.com
SUMMARY:Candlelight: Tribute to Fleetwood Mac
DESCRIPTION:Overview\nCandlelight concerts bring the magic of a live\, multi-sensory musical experience to awe-inspiring locations like never seen before in Huntsville. Get your tickets now to discover the music of Fleetwood Mac at The Royal at Stovehouse Event Center under the gentle glow of candlelight. \nGeneral Info\n\n📍 Venue: The Royal at Stovehouse Event Center\n⏳ Duration: 60 minutes. Doors open 45 minutes before the show. No entry once it starts.\n👤 Age requirement: 8 years old or older. Anyone under the age of 16 must be accompanied by an adult\n♿ Accessibility: ADA compliant\n🪑 Seating: Seating is assigned on a first come first served basis in each zone\n\nTentative Program\n\nEverywhere\nGypsy\nYou Make Loving Fun\nNever Going Back Again\nDon’t Stop\nGold Dust Woman\nGo Your Own Way\nLandslide\nLittle Lies\nSongbird\nRhiannon\nThe Chain\n\nPerformers\n🎻 Listeso String Quartet \nBook a Private Event\nLooking to create an unforgettable experience for your wedding\, or special occasion? We offer private event bookings with customized programs tailored to your needs. \nGet a quote
URL:https://www.listeso.com/concert/2026-04-19-the-royal-at-stovehouse-event-center-tribute-to-fleetwood-mac/
LOCATION:The Royal at Stovehouse Event Center\, Huntsville\, AL\, United States
CATEGORIES:Huntsville, AL
ATTACH;FMTTYPE=image/jpeg:https://www.listeso.com/wp-content/uploads/2025/10/5c2e82a6-1f77-11f0-9fc3-b6302f1836c4-3Gs8kb.jpg
END:VEVENT
BEGIN:VEVENT
DTSTART;TZID=America/Chicago:20260419T184500
DTEND;TZID=America/Chicago:20260419T194500
DTSTAMP:20260421T050551
CREATED:20260223T171608Z
LAST-MODIFIED:20260223T171608Z
UID:10008037-1776624300-1776627900@www.listeso.com
SUMMARY:Candlelight: The Best of Hans Zimmer
DESCRIPTION:Overview\nCandlelight concerts bring the magic of a live\, multi-sensory musical experience to awe-inspiring locations like never seen before in Huntsville. Get your tickets now to discover the music of Hans Zimmer at The Royal at Stovehouse Event Center under the gentle glow of candlelight. \nGeneral Info\n\n📍 Venue: The Royal at Stovehouse Event Center\n⏳ Duration: 60 minutes. Doors open 45 minutes before the show. No entry once it starts.\n👤 Age requirement: 8 years old or older. Anyone under the age of 16 must be accompanied by an adult\n♿ Accessibility: This venue is ADA compliant\n🪑 Seating: Seating is assigned on a first come first served basis in each zone\n\nTentative Program\n\nTime – Inception\nThis Land – The Lion King\nZooster’s Breakout – Madagascar\nSupermarine – Dunkirk\nHonor – The Pacific\nA Dark Knight – The Dark Knight\nWonder Woman Suite\nGladiator Suite\nCornfield Chase – Interstellar\nDune Suite\nDiscombobulate – Sherlock Holmes\nPirates of the Caribbean Suite\n\nPerformers\n🎻 String Quartet – Listeso – Huntsville \nBook a Private Event\nLooking to create an unforgettable experience for your wedding\, or special occasion? We offer private event bookings with customized programs tailored to your needs. \nGet a quote
URL:https://www.listeso.com/concert/2026-04-19-the-royal-at-stovehouse-event-center-candlelight-the-best-of-hans-zimmer/
LOCATION:The Royal at Stovehouse Event Center\, Huntsville\, AL\, United States
CATEGORIES:Huntsville, AL
ATTACH;FMTTYPE=image/jpeg:https://www.listeso.com/wp-content/uploads/2026/02/41f339a2-1399-11f0-818f-1eae066fd587-Dn2GYw.jpg
END:VEVENT
BEGIN:VEVENT
DTSTART;TZID=America/Chicago:20260111T204500
DTEND;TZID=America/Chicago:20260111T214500
DTSTAMP:20260421T050551
CREATED:20251113T120331Z
LAST-MODIFIED:20251113T120331Z
UID:10007007-1768164300-1768167900@www.listeso.com
SUMMARY:Candlelight: Neo-Soul and Hip-Hop Favorites
DESCRIPTION:Overview\nCandlelight concerts bring the magic of a live\, multi-sensory musical experience to awe-inspiring locations like never seen before in Huntsville. Get your tickets now to discover the music of Neo-Soul and Hip-Hop Favorites at The Belle at Stovehouse Event Center under the gentle glow of candlelight. \nGeneral Info\n\n⏳ Duration: 60 minutes. Doors open 45 minutes before the show and close 5 minutes prior to the start. Late arrivals will not be permitted\n👤 Age requirement: 8 years old or older. Anyone under the age of 16 must be accompanied by an adult\n♿ Accessibility: ADA compliant\n🪑 Seating: Seating is assigned on a first come first served basis in each zone\n\nTentative Program\n\nSZA – Good Days\nLauryn Hill – Ex-Factor\nSolange – Don’t Touch My Hair\nMiguel – Adorn\nFrank Ocean – Thinkin Bout You\nPrince – Purple Rain\nSade – Smooth Operator\nD’Angelo – Untitled (How Does It Feel)\nChildish Gambino – Redbone\nH.E.R. – The Best Part\nAlicia Keys – You Don’t Know My Name\nBoyz II Men – End of the Road\n\nPerformers\n🎻 Listeso String Quartet \nBook a Private Event\nLooking to create an unforgettable experience for your wedding\, or special occasion? We offer private event bookings with customized programs tailored to your needs. \nGet a quote
URL:https://www.listeso.com/concert/2026-01-11-the-belle-at-stovehouse-event-center-candlelight-neo-soul-and-hip-hop-favorites/
LOCATION:The Belle at Stovehouse Event Center\, Huntsville\, AL\, United States
CATEGORIES:Huntsville, AL
ATTACH;FMTTYPE=image/jpeg:https://www.listeso.com/wp-content/uploads/2025/10/850e7bec-146c-11f0-8c20-560fcd616747-zSYn3n.jpg
END:VEVENT
BEGIN:VEVENT
DTSTART;TZID=America/Chicago:20260111T184500
DTEND;TZID=America/Chicago:20260111T194500
DTSTAMP:20260421T050551
CREATED:20251113T120317Z
LAST-MODIFIED:20251113T120317Z
UID:10007006-1768157100-1768160700@www.listeso.com
SUMMARY:Candlelight: Coldplay & Imagine Dragons
DESCRIPTION:Overview\nCandlelight concerts bring the magic of a live\, multi-sensory musical experience to awe-inspiring locations like never seen before in Huntsville. Get your tickets now to discover the music of Coldplay & Imagine Dragons at The Belle at Stovehouse Event Center under the gentle glow of candlelight. \nGeneral Info\n\n⏳ Duration: 60 minutes. Doors open 45 minutes before the show and close 5 minutes prior to the start. Late arrivals will not be permitted\n👤 Age requirement: 8 years old or older. Anyone under the age of 16 must be accompanied by an adult\n♿ Accessibility: ADA compliant\n🪑 Seating: Seating is assigned on a first come first served basis in each zone\n\nTentative Program\n\nColdplay – Clocks\nColdplay – Something Just Like This\nImagine Dragons – Radioactive\nColdplay – Adventure of a Lifetime\nColdplay – Fix You\nImagine Dragons – Eyes Closed\nImagine Dragons – Nice to Meet You\nColdplay – The Scientist\nColdplay – feelslikeimfallinginlove\nImagine Dragons – Follow You\nImagine Dragons – Bad Liar\nColdplay – Viva la Vida\nImagine Dragons – Believer\nColdplay – Sky Full of Stars\n\nPerformers\n🎻 Listeso String Quartet \nBook a Private Event\nLooking to create an unforgettable experience for your wedding\, or special occasion? We offer private event bookings with customized programs tailored to your needs. \nGet a quote
URL:https://www.listeso.com/concert/2026-01-11-the-belle-at-stovehouse-event-center-candlelight-coldplay-imagine-dragons/
LOCATION:The Belle at Stovehouse Event Center\, Huntsville\, AL\, United States
CATEGORIES:Huntsville, AL
ATTACH;FMTTYPE=image/jpeg:https://www.listeso.com/wp-content/uploads/2025/10/55ef9d82-1156-11f0-b5b0-0ee885ccc32f-OlscRd.jpg
END:VEVENT
BEGIN:VEVENT
DTSTART;TZID=America/Chicago:20251228T204500
DTEND;TZID=America/Chicago:20251228T214500
DTSTAMP:20260421T050551
CREATED:20251108T123759Z
LAST-MODIFIED:20251108T123759Z
UID:10006682-1766954700-1766958300@www.listeso.com
SUMMARY:Candlelight: Queen vs. ABBA
DESCRIPTION:Overview\nCandlelight concerts bring the magic of a live\, multi-sensory musical experience to awe-inspiring locations like never seen before in Huntsville. Get your tickets now to discover the music of Queen vs. ABBA at The Royal at Stovehouse Event Center under the gentle glow of candlelight. \nGeneral Info\n\n📍 Venue: The Royal at Stovehouse Event Center\n⏳ Duration: 60 minutes. Doors open 45 minutes before the show and close 5 minutes prior to the start. Late arrivals will not be permitted\n👤 Age requirement: 8 years old or older. Anyone under the age of 16 must be accompanied by an adult\n♿ Accessibility: ADA compliant\n🪑 Seating: Seating is assigned on a first come first served basis in each zone\n\nTentative Program\n\nDancing Queen – ABBA\nSOS – ABBA\nMoney\, Money\, Money – ABBA\nVoulez Vous – ABBA\nBohemian Rhapsody – Queen\nI Want to Break Free – Queen\nKiller Queen – Queen\nWaterloo – ABBA\nSuper Trouper – ABBA\nMamma Mia – ABBA\nDon’t Stop Me Now – Queen\nWe Will Rock You – Queen\nWe Are the Champions – Queen\nGimme Gimme Gimme – ABBA\n\nPerformers\n🎻 Listeso String Quartet \nBook a Private Event\nLooking to create an unforgettable experience for your wedding\, or special occasion? We offer private event bookings with customized programs tailored to your needs. \nGet a quote
URL:https://www.listeso.com/concert/2025-12-28-the-royal-at-stovehouse-event-center-candlelight-queen-vs-abba/
LOCATION:The Royal at Stovehouse Event Center\, Huntsville\, AL\, United States
CATEGORIES:Huntsville, AL
ATTACH;FMTTYPE=image/jpeg:https://www.listeso.com/wp-content/uploads/2025/10/66cd0d5a-1945-11f0-b4e1-16541c266220-gop1t7.jpg
END:VEVENT
BEGIN:VEVENT
DTSTART;TZID=America/Chicago:20251228T184500
DTEND;TZID=America/Chicago:20251228T194500
DTSTAMP:20260421T050551
CREATED:20251108T123812Z
LAST-MODIFIED:20251108T123812Z
UID:10006683-1766947500-1766951100@www.listeso.com
SUMMARY:Candlelight: Tribute to Fleetwood Mac
DESCRIPTION:Overview\nCandlelight concerts bring the magic of a live\, multi-sensory musical experience to awe-inspiring locations like never seen before in Huntsville. Get your tickets now to discover the music of Fleetwood Mac at The Royal at Stovehouse Event Center under the gentle glow of candlelight. \nGeneral Info\n\n📍 Venue: The Royal at Stovehouse Event Center\n⏳ Duration: 60 minutes. Doors open 45 minutes before the show and close 5 minutes prior to the start. Late arrivals will not be permitted\n👤 Age requirement: 8 years old or older. Anyone under the age of 16 must be accompanied by an adult\n♿ Accessibility: ADA compliant\n🪑 Seating: Seating is assigned on a first come first served basis in each zone\n\nTentative Program\n\nEverywhere\nGypsy\nYou Make Loving Fun\nNever Going Back Again\nDon’t Stop\nGold Dust Woman\nGo Your Own Way\nLandslide\nLittle Lies\nSongbird\nRhiannon\nThe Chain\n\nPerformers\n🎻 Listeso String Quartet \nBook a Private Event\nLooking to create an unforgettable experience for your wedding\, or special occasion? We offer private event bookings with customized programs tailored to your needs. \nGet a quote
URL:https://www.listeso.com/concert/2025-12-28-the-royal-at-stovehouse-event-center-tribute-to-fleetwood-mac/
LOCATION:The Royal at Stovehouse Event Center\, Huntsville\, AL\, United States
CATEGORIES:Huntsville, AL
ATTACH;FMTTYPE=image/jpeg:https://www.listeso.com/wp-content/uploads/2025/10/5c2e82a6-1f77-11f0-9fc3-b6302f1836c4-3Gs8kb.jpg
END:VEVENT
BEGIN:VEVENT
DTSTART;TZID=America/Chicago:20251221T184500
DTEND;TZID=America/Chicago:20251221T194500
DTSTAMP:20260421T050551
CREATED:20251108T123745Z
LAST-MODIFIED:20251108T123745Z
UID:10006681-1766342700-1766346300@www.listeso.com
SUMMARY:Candlelight: Christmas Carols on Strings
DESCRIPTION:Overview\nCandlelight concerts bring the magic of a live\, multi-sensory musical experience to awe-inspiring locations like never seen before in Huntsville. Get your tickets now to discover the music of Christmas Carols on Strings at The Royal at Stovehouse Event Center under the gentle glow of candlelight. \nGeneral Info\n\n⏳ Duration: 60 minutes. Doors open 45 minutes before the show and close 5 minutes prior to the start. Late arrivals will not be permitted\n👤 Age requirement: 8 years old or older. Anyone under the age of 16 must be accompanied by an adult\n♿ Accessibility: ADA compliant\n🪑 Seating: Seating is assigned on a first come first served basis in each zone\n\nTentative Program\n\n12 Days of Christmas\nAngels from the Realms of Glory\nAngels We Have Heard On High\nAway in a Manger\nCarol of the Bells\nDeck the Halls\nDing Dong! Merrily on High\nDo You Hear What I Hear\nGod Rest Ye Merry Gentlemen\nGood King Wenceslas\nGreensleeves (What Child Is This)\nHark! The Herald Angels Sing\nIn the Bleak Mid-Winter\nJoy to the World\nO Christmas Tree (O Tannenbaum)\nO Come All Ye Faithful\nO Holy Night\nO Little Town of Bethlehem\nSilent Night\nThe First Noël\n\nPerformers\n🎻 Listeso String Quartet \nBook a Private Event\nLooking to create an unforgettable experience for your wedding\, or special occasion? We offer private event bookings with customized programs tailored to your needs. \nGet a quote
URL:https://www.listeso.com/concert/2025-12-21-the-royal-at-stovehouse-event-center-christmas-carols-on-strings/
LOCATION:The Royal at Stovehouse Event Center\, Huntsville\, AL\, United States
CATEGORIES:Huntsville, AL
ATTACH;FMTTYPE=image/jpeg:https://www.listeso.com/wp-content/uploads/2025/10/29d9039a-3f97-11f0-a133-ba224b2289eb-bEzYxk.jpg
END:VEVENT
BEGIN:VEVENT
DTSTART;TZID=America/Chicago:20251221T164500
DTEND;TZID=America/Chicago:20251221T174500
DTSTAMP:20260421T050551
CREATED:20251120T120253Z
LAST-MODIFIED:20251120T120253Z
UID:10007280-1766335500-1766339100@www.listeso.com
SUMMARY:Candlelight: Christmas Carols on Strings
DESCRIPTION:Overview\nCandlelight concerts bring the magic of a live\, multi-sensory musical experience to awe-inspiring locations like never seen before in Huntsville. Get your tickets now to discover the music of Christmas Carols on Strings at The Royal at Stovehouse Event Center under the gentle glow of candlelight. \nGeneral Info\n\n⏳ Duration: 60 minutes. Doors open 45 minutes before the show and close 5 minutes prior to the start. Late arrivals will not be permitted\n👤 Age requirement: 8 years old or older. Anyone under the age of 16 must be accompanied by an adult\n♿ Accessibility: ADA compliant\n🪑 Seating: Seating is assigned on a first come first served basis in each zone\n\nTentative Program\n\n12 Days of Christmas\nAngels from the Realms of Glory\nAngels We Have Heard On High\nAway in a Manger\nCarol of the Bells\nDeck the Halls\nDing Dong! Merrily on High\nDo You Hear What I Hear\nGod Rest Ye Merry Gentlemen\nGood King Wenceslas\nGreensleeves (What Child Is This)\nHark! The Herald Angels Sing\nIn the Bleak Mid-Winter\nJoy to the World\nO Christmas Tree (O Tannenbaum)\nO Come All Ye Faithful\nO Holy Night\nO Little Town of Bethlehem\nSilent Night\nThe First Noël\n\nPerformers\n🎻 Listeso String Quartet \nBook a Private Event\nLooking to create an unforgettable experience for your wedding\, or special occasion? We offer private event bookings with customized programs tailored to your needs. \nGet a quote
URL:https://www.listeso.com/concert/2025-12-21-the-royal-at-stovehouse-event-center-christmas-carols-on-strings-2/
LOCATION:The Royal at Stovehouse Event Center\, Huntsville\, AL\, United States
CATEGORIES:Huntsville, AL
ATTACH;FMTTYPE=image/jpeg:https://www.listeso.com/wp-content/uploads/2025/10/29d9039a-3f97-11f0-a133-ba224b2289eb-bEzYxk.jpg
END:VEVENT
BEGIN:VEVENT
DTSTART;TZID=America/Chicago:20251109T203000
DTEND;TZID=America/Chicago:20251109T213000
DTSTAMP:20260421T050551
CREATED:20251009T110320Z
LAST-MODIFIED:20251009T110320Z
UID:10005697-1762720200-1762723800@www.listeso.com
SUMMARY:Candlelight: Tribute to Adele
DESCRIPTION:Overview\nCandlelight concerts bring the magic of a live\, multi-sensory musical experience to awe-inspiring locations like never seen before in Huntsville. Get your tickets now to discover the music of Adele at The Belle at Stovehouse Event Center under the gentle glow of candlelight. \nGeneral Info\n\n📍 Venue: The Belle at Stovehouse Event Center\n⏳ Duration: 60 minutes. Doors open 45 minutes before the show and close 5 minutes prior to the start. Late arrivals will not be permitted\n👤 Age requirement: 8 years old or older. Anyone under the age of 16 must be accompanied by an adult\n♿ Accessibility: This venue is ADA compliant\n🪑 Seating: Seating is assigned on a first come first served basis in each zone\n\nTentative Program\n\nHello\nRumour Has It\nMake You Feel My Love\nWater Under the Bridge\nOh My God\nSomeone Like You\nSend My Love (To Your New Lover)\nChasing Pavements\nSkyfall\nWhen We Were Young\nSet Fire to the Rain\nEasy On Me\nRolling in the Deep\n\nPerformers\n🎻 Listeso String Quartet \nBook a Private Event\nLooking to create an unforgettable experience for your wedding\, or special occasion? We offer private event bookings with customized programs tailored to your needs. \nGet a quote
URL:https://www.listeso.com/concert/2025-11-09-the-belle-at-stovehouse-event-center-tribute-to-adele/
LOCATION:The Belle at Stovehouse Event Center\, Huntsville\, AL\, United States
CATEGORIES:Huntsville, AL
ATTACH;FMTTYPE=image/jpeg:https://www.listeso.com/wp-content/uploads/2025/10/a9430c14-6280-11f0-8664-ae8f95c7ce7e-x4wNWT.jpg
END:VEVENT
BEGIN:VEVENT
DTSTART;TZID=America/Chicago:20251109T183000
DTEND;TZID=America/Chicago:20251109T193000
DTSTAMP:20260421T050551
CREATED:20251009T110334Z
LAST-MODIFIED:20251009T110334Z
UID:10005698-1762713000-1762716600@www.listeso.com
SUMMARY:Candlelight: Coldplay & Imagine Dragons
DESCRIPTION:Overview\nCandlelight concerts bring the magic of a live\, multi-sensory musical experience to awe-inspiring locations like never seen before in Huntsville. Get your tickets now to discover the music of Coldplay & Imagine Dragons at The Belle at Stovehouse Event Center under the gentle glow of candlelight. \nGeneral Info\n\n📍 Venue: The Belle at Stovehouse Event Center\n⏳ Duration: 60 minutes. Doors open 45 minutes before the show and close 5 minutes prior to the start. Late arrivals will not be permitted\n👤 Age requirement: 8 years old or older. Anyone under the age of 16 must be accompanied by an adult\n♿ Accessibility: ADA compliant\n🪑 Seating: Seating is assigned on a first come first served basis in each zone\n\nTentative Program\n\nColdplay – Clocks\nColdplay – Something Just Like This\nImagine Dragons – Radioactive\nColdplay – Adventure of a Lifetime\nColdplay – Fix You\nImagine Dragons – Eyes Closed\nImagine Dragons – Nice to Meet You\nColdplay – The Scientist\nColdplay – feelslikeimfallinginlove\nImagine Dragons – Follow You\nImagine Dragons – Bad Liar\nColdplay – Viva la Vida\nImagine Dragons – Believer\nColdplay – Sky Full of Stars\n\nPerformers\n🎻 Listeso String Quartet \nBook a Private Event\nLooking to create an unforgettable experience for your wedding\, or special occasion? We offer private event bookings with customized programs tailored to your needs. \nGet a quote
URL:https://www.listeso.com/concert/2025-11-09-the-belle-at-stovehouse-event-center-coldplay-imagine-dragons/
LOCATION:The Belle at Stovehouse Event Center\, Huntsville\, AL\, United States
CATEGORIES:Huntsville, AL
ATTACH;FMTTYPE=image/jpeg:https://www.listeso.com/wp-content/uploads/2025/10/55ef9d82-1156-11f0-b5b0-0ee885ccc32f-OlscRd.jpg
END:VEVENT
END:VCALENDAR