BEGIN:VCALENDAR
VERSION:2.0
PRODID:-//Listeso Music Group - A Boutique String Quartet Agency - ECPv6.15.20//NONSGML v1.0//EN
CALSCALE:GREGORIAN
METHOD:PUBLISH
X-ORIGINAL-URL:https://www.listeso.com
X-WR-CALDESC:Events for Listeso Music Group - A Boutique String Quartet Agency
REFRESH-INTERVAL;VALUE=DURATION:PT1H
X-Robots-Tag:noindex
X-PUBLISHED-TTL:PT1H
BEGIN:VTIMEZONE
TZID:America/New_York
BEGIN:DAYLIGHT
TZOFFSETFROM:-0500
TZOFFSETTO:-0400
TZNAME:EDT
DTSTART:20240310T070000
END:DAYLIGHT
BEGIN:STANDARD
TZOFFSETFROM:-0400
TZOFFSETTO:-0500
TZNAME:EST
DTSTART:20241103T060000
END:STANDARD
BEGIN:DAYLIGHT
TZOFFSETFROM:-0500
TZOFFSETTO:-0400
TZNAME:EDT
DTSTART:20250309T070000
END:DAYLIGHT
BEGIN:STANDARD
TZOFFSETFROM:-0400
TZOFFSETTO:-0500
TZNAME:EST
DTSTART:20251102T060000
END:STANDARD
BEGIN:DAYLIGHT
TZOFFSETFROM:-0500
TZOFFSETTO:-0400
TZNAME:EDT
DTSTART:20260308T070000
END:DAYLIGHT
BEGIN:STANDARD
TZOFFSETFROM:-0400
TZOFFSETTO:-0500
TZNAME:EST
DTSTART:20261101T060000
END:STANDARD
END:VTIMEZONE
BEGIN:VEVENT
DTSTART;TZID=America/New_York:20251107T183000
DTEND;TZID=America/New_York:20251107T193000
DTSTAMP:20260422T011111
CREATED:20251006T134403Z
LAST-MODIFIED:20251006T134403Z
UID:10005172-1762540200-1762543800@www.listeso.com
SUMMARY:Candlelight: Tribute to Adele
DESCRIPTION:Overview\nCandlelight concerts bring the magic of a live\, multi-sensory musical experience to awe-inspiring locations like never seen before in Jacksonville. Get your tickets now to discover the music of Adele at Hicks Auditorium under the gentle glow of candlelight. \nGeneral Info\n\n📍 Venue: Jacksonville Public Library held in the Ann & David Hicks Auditorium\n⏳ Duration: 60 minutes. Doors open 45 minutes before the show and close 5 minutes prior to the start. Late arrivals will not be permitted\n👤 Age requirement: 8 years old or older. Anyone under the age of 16 must be accompanied by an adult\n♿ Accessibility: This venue is ADA compliant\n🪑 Seating: Seating is assigned on a first come first served basis in each zone\n\nTentative Program\n\n“Hello”\n“Rumour Has It”\n“Make You Feel My Love”\n“Water Under the Bridge”\n“Oh My God”\n“Someone Like You”\n“Send My Love (to Your New Lover)”\n“Chasing Pavements”\n“Skyfall”\n“When We Were Young”\n“Set Fire to the Rain”\n“Easy On Me”\n“Rolling in the Deep”\n\nPerformers\n🎻 Listeso String Quartet \nBook a Private Event\nLooking to create an unforgettable experience for your wedding\, or special occasion? We offer private event bookings with customized programs tailored to your needs. \nGet a quote
URL:https://www.listeso.com/concert/2025-11-07-jacksonville-public-library-ann-david-hicks-auditorium-candlelight-tribute-to-adele/
LOCATION:Jacksonville Public Library – Ann & David Hicks Auditorium\, 303 N Laura St\, Jacksonville\, FL\, 32202\, United States
CATEGORIES:Jacksonville, FL
ATTACH;FMTTYPE=image/jpeg:https://www.listeso.com/wp-content/uploads/2025/10/a9430c14-6280-11f0-8664-ae8f95c7ce7e-x4wNWT.jpg
END:VEVENT
BEGIN:VEVENT
DTSTART;TZID=America/New_York:20251107T204500
DTEND;TZID=America/New_York:20251107T214500
DTSTAMP:20260422T011111
CREATED:20251006T134417Z
LAST-MODIFIED:20251006T134417Z
UID:10005173-1762548300-1762551900@www.listeso.com
SUMMARY:Candlelight: Tribute to Queen & More
DESCRIPTION:Overview\nCandlelight concerts bring the magic of a live\, multi-sensory musical experience to awe-inspiring locations like never seen before in Jacksonville. Get your tickets now to discover the music of Queen at Jacksonville Public Library held in the Ann & David Hicks Auditorium under the gentle glow of candlelight. \nGeneral Info\n\n📍 Venue: Jacksonville Public Library held in the Ann & David Hicks Auditorium\n⏳ Duration: 60 minutes. Doors open 45 minutes before the show and close 5 minutes prior to the start. Late arrivals will not be permitted\n👤 Age requirement: 8 years old or older. Anyone under the age of 16 must be accompanied by an adult\n♿ Accessibility: This venue is ADA compliant\n🪑 Seating: Seating is assigned on a first come first served basis in each zone\n\nTentative Program\nQueen: \n\n“Don’t Stop Me Now”\n“Killer Queen”\n“Somebody to Love”\n“Love of My Life”\n“Crazy Little Thing Called Love”\n“Under Pressure” (Queen and David Bowie)\n“Bohemian Rhapsody”\n“Fat Bottomed Girls”\n“We Will Rock You”\n“Another One Bites the Dust”\n“We Are the Champions”\n\nOther Works: \n\nGianni Schicchi\, “O Mio Babbino Caro” – Giacomo Puccini\nLa Boheme\, SC 67\, Act 2: “Quando m’en Vo’ (Musetta’s Waltz)” – Giacomo Puccini\nDie Zauberflöte (The Magic Flute)\, K. 620\, Act 2: “Der Hölle Rache Kocht in Meinem Herzen (Queen of the Night Aria)” – W. A. Mozart\n\nPerformers\n🎻 Listeso String Quartet \nBook a Private Event\nLooking to create an unforgettable experience for your wedding\, or special occasion? We offer private event bookings with customized programs tailored to your needs. \nGet a quote
URL:https://www.listeso.com/concert/2025-11-07-jacksonville-public-library-held-in-the-ann-david-hicks-auditorium-candlelight-tribute-to-queen-more/
LOCATION:Jacksonville Public Library held in the Ann & David Hicks Auditorium\, Jacksonville\, FL\, United States
CATEGORIES:Jacksonville, FL
ATTACH;FMTTYPE=image/jpeg:https://www.listeso.com/wp-content/uploads/2025/10/dc08a85a-193f-11f0-9a0a-16541c266220-0NfvcU.jpg
END:VEVENT
BEGIN:VEVENT
DTSTART;TZID=America/New_York:20251121T183000
DTEND;TZID=America/New_York:20251121T193000
DTSTAMP:20260422T011111
CREATED:20251006T134446Z
LAST-MODIFIED:20251006T134446Z
UID:10005175-1763749800-1763753400@www.listeso.com
SUMMARY:Candlelight: Tribute to Bad Bunny
DESCRIPTION:Overview\nCandlelight concerts bring the magic of a live\, multi-sensory musical experience to awe-inspiring locations like never seen before in Jacksonville. Get your tickets now to discover the music of Bad Bunny at Jacksonville Public Library held in the Ann & David Hicks Auditorium under the gentle glow of candlelight. \nGeneral Info\n\n📍 Venue: Jacksonville Public Library held in the Ann & David Hicks Auditorium\n📅 Dates and times: select your dates/times directly in the ticket selector\n⏳ Duration: 60 minutes. Doors open 45 minutes before the show and close 5 minutes prior to the start. Late arrivals will not be permitted\n👤 Age requirement: 8 years old or older. Anyone under the age of 16 must be accompanied by an adult\n♿ Accessibility: ADA compliant\n🪑 Seating: Seating is assigned on a first come first served basis in each zone\n\nTentative Program\n\nNUEVAYol\nSi Estuviésemos Juntos\nLa Canción\nLa Noche de Anoche\nYonaguni\nMoscow Mule\nCallaíta\nOjitos Lindos\nMe Porto Bonito\nTití Me Preguntó\nun 100xto\nBAILE INoLVIDABLE\nDtMF – LA MuDANZA medley\n\nPerformers\n🎻 Listeso String Quartet \nBook a Private Event\nLooking to create an unforgettable experience for your wedding\, or special occasion? We offer private event bookings with customized programs tailored to your needs. \nGet a quote
URL:https://www.listeso.com/concert/2025-11-21-jacksonville-public-library-ann-david-hicks-auditorium-candlelight-tribute-to-bad-bunny/
LOCATION:Jacksonville Public Library – Ann & David Hicks Auditorium\, 303 N Laura St\, Jacksonville\, FL\, 32202\, United States
CATEGORIES:Jacksonville, FL
ATTACH;FMTTYPE=image/jpeg:https://www.listeso.com/wp-content/uploads/2025/10/52c8b748-6862-11f0-b24e-028657a42e43-ScI6q7.jpg
END:VEVENT
BEGIN:VEVENT
DTSTART;TZID=America/New_York:20251121T210000
DTEND;TZID=America/New_York:20251121T220000
DTSTAMP:20260422T011111
CREATED:20251006T134430Z
LAST-MODIFIED:20251006T134430Z
UID:10005174-1763758800-1763762400@www.listeso.com
SUMMARY:Candlelight: Coldplay & Imagine Dragons
DESCRIPTION:Overview\nCandlelight concerts bring the magic of a live\, multi-sensory musical experience to awe-inspiring locations like never seen before in Jacksonville. Get your tickets now to discover the music of Coldplay & Imagine Dragons at Jacksonville Public Library held in the Ann & David Hicks Auditorium under the gentle glow of candlelight. \nGeneral Info\n\n📍 Venue: Jacksonville Public Library held in the Ann & David Hicks Auditorium\n⏳ Duration: 60 minutes. Doors open 45 minutes before the show and close 5 minutes prior to the start. Late arrivals will not be permitted\n👤 Age requirement: 8 years old or older. Anyone under the age of 16 must be accompanied by an adult\n♿ Accessibility: This venue is ADA compliant\n🪑 Seating: Seating is assigned on a first come first served basis in each zone\n\nTentative Program\n\nColdplay – Clocks\nColdplay – Something Just Like This\nImagine Dragons – Radioactive\nColdplay – Adventure of a Lifetime\nColdplay – Fix You\nImagine Dragons – Eyes Closed\nImagine Dragons – Nice to Meet You\nColdplay – The Scientist\nColdplay – feelslikeimfallinginlove\nImagine Dragons – Follow You\nImagine Dragons – Bad Liar\nColdplay – Viva la Vida\nImagine Dragons – Believer\nColdplay – Sky Full of Stars\n\nPerformers\n🎻 String Quartet – Listeso – Jacksonville \nBook a Private Event\nLooking to create an unforgettable experience for your wedding\, or special occasion? We offer private event bookings with customized programs tailored to your needs. \nGet a quote
URL:https://www.listeso.com/concert/2025-11-21-jacksonville-public-library-held-in-the-ann-david-hicks-auditorium-coldplay-imagine-dragons/
LOCATION:Jacksonville Public Library held in the Ann & David Hicks Auditorium\, Jacksonville\, FL\, United States
CATEGORIES:Jacksonville, FL
ATTACH;FMTTYPE=image/jpeg:https://www.listeso.com/wp-content/uploads/2025/09/4d0ae4c2-1158-11f0-90ef-86af2e2df509-Yt0a9U.jpg
END:VEVENT
END:VCALENDAR