BEGIN:VCALENDAR
VERSION:2.0
PRODID:-//Listeso Music Group - A Boutique String Quartet Agency - ECPv6.15.20//NONSGML v1.0//EN
CALSCALE:GREGORIAN
METHOD:PUBLISH
X-ORIGINAL-URL:https://www.listeso.com
X-WR-CALDESC:Events for Listeso Music Group - A Boutique String Quartet Agency
REFRESH-INTERVAL;VALUE=DURATION:PT1H
X-Robots-Tag:noindex
X-PUBLISHED-TTL:PT1H
BEGIN:VTIMEZONE
TZID:America/New_York
BEGIN:DAYLIGHT
TZOFFSETFROM:-0500
TZOFFSETTO:-0400
TZNAME:EDT
DTSTART:20250309T070000
END:DAYLIGHT
BEGIN:STANDARD
TZOFFSETFROM:-0400
TZOFFSETTO:-0500
TZNAME:EST
DTSTART:20251102T060000
END:STANDARD
BEGIN:DAYLIGHT
TZOFFSETFROM:-0500
TZOFFSETTO:-0400
TZNAME:EDT
DTSTART:20260308T070000
END:DAYLIGHT
BEGIN:STANDARD
TZOFFSETFROM:-0400
TZOFFSETTO:-0500
TZNAME:EST
DTSTART:20261101T060000
END:STANDARD
BEGIN:DAYLIGHT
TZOFFSETFROM:-0500
TZOFFSETTO:-0400
TZNAME:EDT
DTSTART:20270314T070000
END:DAYLIGHT
BEGIN:STANDARD
TZOFFSETFROM:-0400
TZOFFSETTO:-0500
TZNAME:EST
DTSTART:20271107T060000
END:STANDARD
END:VTIMEZONE
BEGIN:VEVENT
DTSTART;TZID=America/New_York:20260403T181500
DTEND;TZID=America/New_York:20260403T191500
DTSTAMP:20260422T220141
CREATED:20260223T172200Z
LAST-MODIFIED:20260223T172200Z
UID:10008058-1775240100-1775243700@www.listeso.com
SUMMARY:Candlelight: 90s Hip-Hop on Strings
DESCRIPTION:Overview\nCandlelight concerts bring the magic of a live\, multi-sensory musical experience to awe-inspiring locations like never seen before in Jacksonville. Get your tickets now to discover the music of 90s Hip-Hop on Strings at Jacksonville Public Library held in the Ann & David Hicks Auditorium under the gentle glow of candlelight. \nGeneral Info\n\n📍 Venue: Jacksonville Public Library held in the Ann & David Hicks Auditorium\n⏳ Duration: 60 minutes. Doors open 45 minutes before the show. No entry once it starts.\n👤 Age requirement: 8 years old or older. Anyone under the age of 16 must be accompanied by an adult\n♿ Accessibility: This venue is ADA compliant\n🪑 Seating: Seating is assigned on a first come first served basis in each zone\n\nTentative Program\n\nFugees and Lauryn Hill Medley (Ready or Not\, Doo-Wop\, Fu-Gee-La\, and Killing Me Softly)\nJay-Z Medley (Can I Get A…\, Big Pimpin\, Money Ain’t a Thing\, and More)\nNas Medley (It Ain’t Hard to Tell\, N.Y. State of Mind\, The World Is Yours\, and More)\nOutkast Medley (Rosa Parks\, Elevators (Me & You)\, SpottieOttieDopaliscious\, and More)\nMissy ‘Misdemeanor’ Elliott Medley (The Rain (Supa Dupa Fly)\, Sock It to Me\, and More)\nA Tribe Called Quest Medley (Can I Kick It\, Check the Rhime\, Scenario\, and More)\nWu Tang Clan Medley (C.R.E.A.M. (Cash Rules Everything Around Me)\, Wu-Tang Clan Ain’t Nuthing Ta F’ Wit\, Protect Ya Neck\, and More)\n2Pac Medley (Dear Mama\, California Love\, and more)\nThe Notorious B.I.G. Medley (Juicy\, Big Poppa\, Hypnotize\, and More)\nDr. Dre Medley (Still D.R.E.\, Forgot About Dre\, Nuthin’ but a ‘G’ Thang\, and More)\nGin and Juice – Snoop Dogg\n\nPerformers\n🎻 Listeso String Quartet \nBook a Private Event\nLooking to create an unforgettable experience for your wedding\, or special occasion? We offer private event bookings with customized programs tailored to your needs. \nGet a quote
URL:https://www.listeso.com/concert/2026-04-03-jacksonville-public-library-held-in-the-ann-david-hicks-auditorium-candlelight-90s-hip-hop-on-strings/
LOCATION:Jacksonville Public Library held in the Ann & David Hicks Auditorium\, Jacksonville\, FL\, United States
CATEGORIES:Jacksonville, FL
ATTACH;FMTTYPE=image/jpeg:https://www.listeso.com/wp-content/uploads/2025/10/4380b5d2-1516-11f0-9156-560324ce043d-LKCEhn.jpg
END:VEVENT
BEGIN:VEVENT
DTSTART;TZID=America/New_York:20260417T160000
DTEND;TZID=America/New_York:20260417T170000
DTSTAMP:20260422T220141
CREATED:20260303T120138Z
LAST-MODIFIED:20260303T120138Z
UID:10008735-1776441600-1776445200@www.listeso.com
SUMMARY:Candlelight: Coldplay & Imagine Dragons
DESCRIPTION:Overview\nCandlelight concerts bring the magic of a live\, multi-sensory musical experience to awe-inspiring locations like never seen before in Jacksonville. Get your tickets now to discover the music of Coldplay & Imagine Dragons at Jacksonville Public Library held in the Ann & David Hicks Auditorium under the gentle glow of candlelight. \n🌸 To celebrate Candlelight Spring\, a limited number of sessions feature a special floral setting. All other sessions follow the standard Candlelight setup. See the dates below. \nGeneral Info\n\n📍 Venue: Jacksonville Public Library held in the Ann & David Hicks Auditorium\n⏳ Duration: 60 minutes. Doors open 45 minutes before the show. No entry once it starts.\n👤 Age requirement: 8 years old or older. Anyone under the age of 16 must be accompanied by an adult\n♿ Accessibility: this venue is ADA compliant\n🪑 Seating: assigned on a first come first served basis in each zone\n\nTentative Program\n\nColdplay – Clocks\nColdplay – Something Just Like This\nImagine Dragons – Radioactive\nColdplay – Adventure of a Lifetime\nColdplay – Fix You\nImagine Dragons – Eyes Closed\nImagine Dragons – Nice to Meet You\nColdplay – The Scientist\nColdplay – feelslikeimfallinginlove\nImagine Dragons – Follow You\nImagine Dragons – Bad Liar\nColdplay – Viva la Vida\nImagine Dragons – Believer\nColdplay – Sky Full of Stars\n\nPerformers\n🎻 Listeso String Quartet \nBook a Private Event\nLooking to create an unforgettable experience for your wedding\, or special occasion? We offer private event bookings with customized programs tailored to your needs. \nGet a quote
URL:https://www.listeso.com/concert/2026-04-17-jacksonville-public-library-held-in-the-ann-david-hicks-auditorium-candlelight-coldplay-imagine-dragons/
LOCATION:Jacksonville Public Library held in the Ann & David Hicks Auditorium\, Jacksonville\, FL\, United States
CATEGORIES:Jacksonville, FL
ATTACH;FMTTYPE=image/jpeg:https://www.listeso.com/wp-content/uploads/2025/09/4d0ae4c2-1158-11f0-90ef-86af2e2df509-Yt0a9U.jpg
END:VEVENT
BEGIN:VEVENT
DTSTART;TZID=America/New_York:20260417T181500
DTEND;TZID=America/New_York:20260417T191500
DTSTAMP:20260422T220141
CREATED:20260223T172226Z
LAST-MODIFIED:20260223T172226Z
UID:10008060-1776449700-1776453300@www.listeso.com
SUMMARY:Candlelight: Tribute to Adele
DESCRIPTION:Overview\nCandlelight concerts bring the magic of a live\, multi-sensory musical experience to awe-inspiring locations like never seen before in Jacksonville. Get your tickets now to discover the music of Adele at Hicks Auditorium under the gentle glow of candlelight. \nGeneral Info\n\n📍 Venue: Jacksonville Public Library held in the Ann & David Hicks Auditorium\n⏳ Duration: 60 minutes. Doors open 45 minutes before the show. No entry once it starts.\n👤 Age requirement: 8 years old or older. Anyone under the age of 16 must be accompanied by an adult\n♿ Accessibility: this venue is ADA compliant\n🪑 Seating: Seating is assigned on a first come first served basis in each zone\n\nTentative Program\n\n“Hello”\n“Rumour Has It”\n“Make You Feel My Love”\n“Water Under the Bridge”\n“Oh My God”\n“Someone Like You”\n“Send My Love (to Your New Lover)”\n“Chasing Pavements”\n“Skyfall”\n“When We Were Young”\n“Set Fire to the Rain”\n“Easy On Me”\n“Rolling in the Deep”\n\nPerformers\n🎻 Listeso String Quartet \nBook a Private Event\nLooking to create an unforgettable experience for your wedding\, or special occasion? We offer private event bookings with customized programs tailored to your needs. \nGet a quote
URL:https://www.listeso.com/concert/2026-04-17-jacksonville-public-library-ann-david-hicks-auditorium-tribute-to-adele/
LOCATION:Jacksonville Public Library – Ann & David Hicks Auditorium\, 303 N Laura St\, Jacksonville\, FL\, 32202\, United States
CATEGORIES:Jacksonville, FL
ATTACH;FMTTYPE=image/jpeg:https://www.listeso.com/wp-content/uploads/2025/10/a9430c14-6280-11f0-8664-ae8f95c7ce7e-x4wNWT.jpg
END:VEVENT
BEGIN:VEVENT
DTSTART;TZID=America/New_York:20260502T160000
DTEND;TZID=America/New_York:20260502T170000
DTSTAMP:20260422T220141
CREATED:20260304T120325Z
LAST-MODIFIED:20260304T120325Z
UID:10008746-1777737600-1777741200@www.listeso.com
SUMMARY:Candlelight: Coldplay & Imagine Dragons
DESCRIPTION:Overview\nCandlelight concerts bring the magic of a live\, multi-sensory musical experience to awe-inspiring locations like never seen before in Jacksonville. Get your tickets now to discover the music of Coldplay & Imagine Dragons at Jacksonville Public Library held in the Ann & David Hicks Auditorium under the gentle glow of candlelight. \n🌸 To celebrate Candlelight Spring\, a limited number of sessions feature a special floral setting. All other sessions follow the standard Candlelight setup. \nGeneral Info\n\n📍 Venue: Jacksonville Public Library held in the Ann & David Hicks Auditorium\n⏳ Duration: 60 minutes. Doors open 45 minutes before the show. No entry once it starts.\n👤 Age requirement: 8 years old or older. Anyone under the age of 16 must be accompanied by an adult\n♿ Accessibility: This venue is ADA compliant\n🪑 Seating: Assigned on a first come first served basis in each zone\n\nTentative Program\n\nColdplay – Clocks\nColdplay – Something Just Like This\nImagine Dragons – Radioactive\nColdplay – Adventure of a Lifetime\nColdplay – Fix You\nImagine Dragons – Eyes Closed\nImagine Dragons – Nice to Meet You\nColdplay – The Scientist\nColdplay – feelslikeimfallinginlove\nImagine Dragons – Follow You\nImagine Dragons – Bad Liar\nColdplay – Viva la Vida\nImagine Dragons – Believer\nColdplay – Sky Full of Stars\n\nSessions with Candlelight Spring Flower Setting\nApril 17 \nPerformers\n🎻 Listeso String Quartet \nBook a Private Event\nLooking to create an unforgettable experience for your wedding\, or special occasion? We offer private event bookings with customized programs tailored to your needs. \nGet a quote
URL:https://www.listeso.com/concert/2026-05-02-jacksonville-public-library-ann-david-hicks-auditorium-coldplay-imagine-dragons/
LOCATION:Jacksonville Public Library – Ann & David Hicks Auditorium\, 303 N Laura St\, Jacksonville\, FL\, 32202\, United States
CATEGORIES:Jacksonville, FL
ATTACH;FMTTYPE=image/jpeg:https://www.listeso.com/wp-content/uploads/2025/09/4d0ae4c2-1158-11f0-90ef-86af2e2df509-Yt0a9U.jpg
END:VEVENT
BEGIN:VEVENT
DTSTART;TZID=America/New_York:20260502T181500
DTEND;TZID=America/New_York:20260502T191500
DTSTAMP:20260422T220141
CREATED:20260304T120340Z
LAST-MODIFIED:20260304T120340Z
UID:10008747-1777745700-1777749300@www.listeso.com
SUMMARY:Candlelight: Tribute to Queen vs. ABBA
DESCRIPTION:Overview\nCandlelight concerts bring the magic of a live\, multi-sensory musical experience to awe-inspiring locations like never seen before in Jacksonville. Get your tickets now to discover the music of Queen vs. ABBA at Jacksonville Public Library held in the Ann & David Hicks Auditorium under the gentle glow of candlelight. \nGeneral Info\n\n📍 Venue: Jacksonville Public Library held in the Ann & David Hicks Auditorium\n⏳ Duration: 60 minutes. Doors open 45 minutes before the show. No entry once it starts.\n👤 Age requirement: 8 years old or older. Anyone under the age of 16 must be accompanied by an adult\n♿ Accessibility: ADA compliant\n🪑 Seating: Seating is assigned on a first come first served basis in each zone\n\nTentative Program\n\nDancing Queen\nSOS\nMoney\, Money\, Money\nVoulez Vous\nBohemian Rhapsody\nI Want to Break Free\nKiller Queen\nWaterloo\nSuper Trouper\nMamma Mia\nDon’t Stop Me Now\nWe Will Rock You\nWe Are the Champions\nGimme Gimme Gimme\n\nPerformers\n🎻 Listeso String Quartet \nBook a Private Event\nLooking to create an unforgettable experience for your wedding\, or special occasion? We offer private event bookings with customized programs tailored to your needs. \nGet a quote
URL:https://www.listeso.com/concert/2026-05-02-jacksonville-public-library-ann-david-hicks-auditorium-candlelight-tribute-to-queen-vs-abba/
LOCATION:Jacksonville Public Library – Ann & David Hicks Auditorium\, 303 N Laura St\, Jacksonville\, FL\, 32202\, United States
CATEGORIES:Jacksonville, FL
ATTACH;FMTTYPE=image/jpeg:https://www.listeso.com/wp-content/uploads/2025/10/cfc3a094-1945-11f0-a825-56c21721c770-kB4CaB.jpg
END:VEVENT
BEGIN:VEVENT
DTSTART;TZID=America/New_York:20260515T183000
DTEND;TZID=America/New_York:20260515T193000
DTSTAMP:20260422T220141
CREATED:20260318T113629Z
LAST-MODIFIED:20260318T113629Z
UID:10009571-1778869800-1778873400@www.listeso.com
SUMMARY:Candlelight: Tribute to Bad Bunny
DESCRIPTION:Overview\nCandlelight concerts bring the magic of a live\, multi-sensory musical experience to awe-inspiring locations like never seen before in Jacksonville. Get your tickets now to discover the music of Bad Bunny at Friday Musicale Inc under the gentle glow of candlelight. \nGeneral Info\n\n📍 Venue: Friday Musicale Inc\n⏳ Duration: 60 minutes. Doors open 45 minutes before the show and close 5 minutes prior to the start. Late arrivals will not be permitted\n👤 Age requirement: 8 years old or older. Anyone under the age of 16 must be accompanied by an adult\n♿ Accessibility: This venue is ADA compliant\n🪑 Seating: Seating is assigned on a first come first served basis in each zone\n\nTentative Program\n\nMoscow Mule\nDákiti (featuring Jhayco)\nLa Noche de Anoche (featuring Rosalía)\nSi Veo a Tu Mamá\nMIA (featuring Drake)\nSi Estuviésemos Juntos\nOtra Noche en Miami\nCallaíta (featuring Tainy)\nOjitos Lindos (featuring Bomba Estéreo)\nMe Porto Bonito (featuring Chencho Corleone)\nLa Canción\nYonaguni\nun 100xto (Grupo Frontera featuring Bad Bunny)\nTití Me Preguntó\n\nPerformers\n🎻 String Quartet Listeso \nBook a Private Event\nLooking to create an unforgettable experience for your wedding\, or special occasion? We offer private event bookings with customized programs tailored to your needs. \nGet a quote
URL:https://www.listeso.com/concert/2026-05-15-friday-musicale-inc-candlelight-tribute-to-bad-bunny/
LOCATION:Friday Musicale Inc\, Jacksonville\, FL\, United States
CATEGORIES:Jacksonville, FL
ATTACH;FMTTYPE=image/jpeg:https://www.listeso.com/wp-content/uploads/2025/10/d2fdb95a-0a24-11f0-af8a-3aaf730b12c1-10tCHK.jpg
END:VEVENT
END:VCALENDAR