BEGIN:VCALENDAR
VERSION:2.0
PRODID:-//Listeso Music Group - A Boutique String Quartet Agency - ECPv6.15.20//NONSGML v1.0//EN
CALSCALE:GREGORIAN
METHOD:PUBLISH
X-WR-CALNAME:Listeso Music Group - A Boutique String Quartet Agency
X-ORIGINAL-URL:https://www.listeso.com
X-WR-CALDESC:Events for Listeso Music Group - A Boutique String Quartet Agency
REFRESH-INTERVAL;VALUE=DURATION:PT1H
X-Robots-Tag:noindex
X-PUBLISHED-TTL:PT1H
BEGIN:VTIMEZONE
TZID:America/Chicago
BEGIN:DAYLIGHT
TZOFFSETFROM:-0600
TZOFFSETTO:-0500
TZNAME:CDT
DTSTART:20250309T080000
END:DAYLIGHT
BEGIN:STANDARD
TZOFFSETFROM:-0500
TZOFFSETTO:-0600
TZNAME:CST
DTSTART:20251102T070000
END:STANDARD
BEGIN:DAYLIGHT
TZOFFSETFROM:-0600
TZOFFSETTO:-0500
TZNAME:CDT
DTSTART:20260308T080000
END:DAYLIGHT
BEGIN:STANDARD
TZOFFSETFROM:-0500
TZOFFSETTO:-0600
TZNAME:CST
DTSTART:20261101T070000
END:STANDARD
BEGIN:DAYLIGHT
TZOFFSETFROM:-0600
TZOFFSETTO:-0500
TZNAME:CDT
DTSTART:20270314T080000
END:DAYLIGHT
BEGIN:STANDARD
TZOFFSETFROM:-0500
TZOFFSETTO:-0600
TZNAME:CST
DTSTART:20271107T070000
END:STANDARD
END:VTIMEZONE
BEGIN:VEVENT
DTSTART;TZID=America/Chicago:20260117T183000
DTEND;TZID=America/Chicago:20260117T193000
DTSTAMP:20260421T184544
CREATED:20251119T122405Z
LAST-MODIFIED:20251119T122405Z
UID:10007194-1768674600-1768678200@www.listeso.com
SUMMARY:Candlelight: Neo-Soul Favorites ft. Songs by Prince\, Childish Gambino\, & More
DESCRIPTION:Overview\nCandlelight concerts bring the magic of a live\, multi-sensory musical experience to awe-inspiring locations like never seen before in Little Rock. Get your tickets now to discover the music of Neo-Soul Favorites ft. Songs by Prince\, Childish Gambino\, & More at Albert Pike Masonic Center under the gentle glow of candlelight. \nGeneral Info\n\n📍 Venue: Albert Pike Masonic Center\n⏳ Duration: 60 minutes. Doors open 45 minutes before the show and close 5 minutes prior to the start. Late arrivals will not be permitted\n👤 Age requirement: 8 years old or older. Anyone under the age of 16 must be accompanied by an adult\n♿ Accessibility: This venue is ADA compliant\n🪑 Seating: Seating is assigned on a first come first served basis in each zone\n\nTentative Program\n\nSZA – Good Days\nLauryn Hill – Ex-Factor\nSolange – Don’t Touch My Hair\nMiguel – Adorn\nFrank Ocean – Thinkin Bout You\nPrince – Purple Rain\nSade – Smooth Operator\nD’Angelo – Untitled (How Does It Feel)\nChildish Gambino – Redbone\nH.E.R. – The Best Part\nAlicia Keys – You Don’t Know My Name\nBoyz II Men – End of the Road\n\nPerformers\n🎻 Listeso String Quartet \nBook a Private Event\nLooking to create an unforgettable experience for your wedding\, or special occasion? We offer private event bookings with customized programs tailored to your needs. \nGet a quote
URL:https://www.listeso.com/concert/2026-01-17-albert-pike-masonic-center-neo-soul-favorites/
LOCATION:Albert Pike Masonic Center\, Little Rock\, AR\, United States
CATEGORIES:Little Rock, AR
ATTACH;FMTTYPE=image/jpeg:https://www.listeso.com/wp-content/uploads/2025/10/850e7bec-146c-11f0-8c20-560fcd616747-zSYn3n.jpg
END:VEVENT
BEGIN:VEVENT
DTSTART;TZID=America/Chicago:20260117T204500
DTEND;TZID=America/Chicago:20260117T214500
DTSTAMP:20260421T184544
CREATED:20251119T122351Z
LAST-MODIFIED:20251119T122351Z
UID:10007193-1768682700-1768686300@www.listeso.com
SUMMARY:Candlelight: Tribute to Adele
DESCRIPTION:Overview\nCandlelight concerts bring the magic of a live\, multi-sensory musical experience to awe-inspiring locations like never seen before in Little Rock. Get your tickets now to discover the music of Adele at Albert Pike Memorial Center under the gentle glow of candlelight. \nGeneral Info\n\n📍 Venue: Albert Pike Memorial Center\n⏳ Duration: 60 minutes. Doors open 60 minutes before the show and close 5 minutes prior to the start. Late arrivals will not be permitted\n👤 Age requirement: 8 years old or older. Anyone under the age of 16 must be accompanied by an adult\n♿ Accessibility: This venue is ADA compliant\n🪑 Seating: Seating is assigned on a first come first served basis in each zone\n\nTentative Program\n\nHello\nRumour Has It\nMake You Feel My Love\nWater Under the Bridge\nOh My God\nSomeone Like You\nSend My Love (To Your New Lover)\nChasing Pavements\nSkyfall\nWhen We Were Young\nSet Fire to the Rain\nEasy On Me\nRolling in the Deep\n\nPerformers\n🎻 LIsteso String Quartet \nBook a Private Event\nLooking to create an unforgettable experience for your wedding\, or special occasion? We offer private event bookings with customized programs tailored to your needs. \nGet a quote
URL:https://www.listeso.com/concert/2026-01-17-albert-pike-memorial-center-tribute-to-adele/
LOCATION:Albert Pike Memorial Center\, Little Rock\, AR\, United States
CATEGORIES:Little Rock, AR
ATTACH;FMTTYPE=image/jpeg:https://www.listeso.com/wp-content/uploads/2025/10/c691a5b2-2128-11f0-ac95-e67227f9b810-FWgYmZ.jpg
END:VEVENT
END:VCALENDAR