BEGIN:VCALENDAR
VERSION:2.0
PRODID:-//Listeso Music Group - A Boutique String Quartet Agency - ECPv6.15.20//NONSGML v1.0//EN
CALSCALE:GREGORIAN
METHOD:PUBLISH
X-ORIGINAL-URL:https://www.listeso.com
X-WR-CALDESC:Events for Listeso Music Group - A Boutique String Quartet Agency
REFRESH-INTERVAL;VALUE=DURATION:PT1H
X-Robots-Tag:noindex
X-PUBLISHED-TTL:PT1H
BEGIN:VTIMEZONE
TZID:America/Toronto
BEGIN:DAYLIGHT
TZOFFSETFROM:-0500
TZOFFSETTO:-0400
TZNAME:EDT
DTSTART:20240310T070000
END:DAYLIGHT
BEGIN:STANDARD
TZOFFSETFROM:-0400
TZOFFSETTO:-0500
TZNAME:EST
DTSTART:20241103T060000
END:STANDARD
BEGIN:DAYLIGHT
TZOFFSETFROM:-0500
TZOFFSETTO:-0400
TZNAME:EDT
DTSTART:20250309T070000
END:DAYLIGHT
BEGIN:STANDARD
TZOFFSETFROM:-0400
TZOFFSETTO:-0500
TZNAME:EST
DTSTART:20251102T060000
END:STANDARD
BEGIN:DAYLIGHT
TZOFFSETFROM:-0500
TZOFFSETTO:-0400
TZNAME:EDT
DTSTART:20260308T070000
END:DAYLIGHT
BEGIN:STANDARD
TZOFFSETFROM:-0400
TZOFFSETTO:-0500
TZNAME:EST
DTSTART:20261101T060000
END:STANDARD
BEGIN:DAYLIGHT
TZOFFSETFROM:-0500
TZOFFSETTO:-0400
TZNAME:EDT
DTSTART:20270314T070000
END:DAYLIGHT
BEGIN:STANDARD
TZOFFSETFROM:-0400
TZOFFSETTO:-0500
TZNAME:EST
DTSTART:20271107T060000
END:STANDARD
END:VTIMEZONE
BEGIN:VEVENT
DTSTART;TZID=America/Toronto:20260301T204500
DTEND;TZID=America/Toronto:20260301T214500
DTSTAMP:20260421T184823
CREATED:20260224T121159Z
LAST-MODIFIED:20260224T121159Z
UID:10008127-1772397900-1772401500@www.listeso.com
SUMMARY:Candlelight: Tribute to British Rock Legends
DESCRIPTION:Overview\nCandlelight concerts bring the magic of a live\, multi-sensory musical experience to awe-inspiring locations like never seen before in London. Get your tickets now to discover the music of Queen and The Beatles at Metropolitan United Church under the gentle glow of candlelight. \nGeneral Info\n\n📍 Venue: Metropolitan United Church\n⏳ Duration: 60 minutes. Doors open 45 minutes before the show. No entry once it starts.\n👤 Age recommendation: The experience is recommended for those who are 8+. To preserve the experience\, disruptive behaviour may result in being asked to step outside. Anyone under the age of 16 must be accompanied by an adult.\n♿ Accessibility: This venue is accessible for people with reduced mobility\n🪑 Seating: Seating is assigned on a first come first served basis in each zone\n\nTentative Program\n\nHere Comes the Sun – The Beatles\nBlackbird – The Beatles\nHelp! – The Beatles\nCome Together – The Beatles\nYesterday – The Beatles\nAll You Need Is Love – The Beatles\nLove of My Life – Queen\nAnother One Bites the Dust – Queen\nI Want to Break Free – Queen\nWe Are the Champions – Queen\nWe Will Rock You – Queen\nRadio Ga-Ga – Queen\nBohemian Rhapsody – Queen\n\nPerformers\n🎻 String Quartet: 2 violins\, 1 viola\, 1 cello \nBook a Private Event\nLooking to create an unforgettable experience for your wedding\, or special occasion? We offer private event bookings with customized programs tailored to your needs. \nGet a quote
URL:https://www.listeso.com/concert/2026-03-01-metropolitan-united-church-tribute-to-british-rock-legends/
LOCATION:Metropolitan United Church\, London\, Canada
CATEGORIES:London, ON
ATTACH;FMTTYPE=image/jpeg:https://www.listeso.com/wp-content/uploads/2025/10/675fe2d2-1a9f-11f0-8be7-b25552496a35-0vaxuo.jpg
END:VEVENT
BEGIN:VEVENT
DTSTART;TZID=America/Toronto:20260301T183000
DTEND;TZID=America/Toronto:20260301T193000
DTSTAMP:20260421T184823
CREATED:20260224T121146Z
LAST-MODIFIED:20260224T121146Z
UID:10008126-1772389800-1772393400@www.listeso.com
SUMMARY:Candlelight: Tribute to ABBA
DESCRIPTION:Overview\nCandlelight concerts bring the magic of a live\, multi-sensory musical experience to awe-inspiring locations like never seen before in London. Get your tickets now to discover the music of ABBA at Metropolitan United Church under the gentle glow of candlelight. \nGeneral Info\n\n📍 Venue: Metropolitan United Church\n⏳ Duration: 60 minutes. Doors open 45 minutes before the show and close 5 minutes prior to the start. Late arrivals will not be permitted\n👤 Age requirement: 8 years old or older. Anyone under the age of 16 must be accompanied by an adult\n♿ Accessibility: this venue is accessible for people with reduced mobility\n🪑 Seating: Seating is assigned on a first come first served basis in each zone\n\nTentative Program\n\nDancing Queen\nSOS\nMoney\, Money\, Money\nThe Winner Takes it All\nVoulez-Vous\nAngeleyes\nWaterloo\nFernando\nKnowing Me\, Knowing You\nChiquitita\nLay All Your Love On Me\nSuper Trouper\nMamma Mia\n\nPerformers\n🎻 String Quartet: 2 violins\, 1 viola\, 1 cello \nBook a Private Event\nLooking to create an unforgettable experience for your wedding\, or special occasion? We offer private event bookings with customized programs tailored to your needs. \nGet a quote
URL:https://www.listeso.com/concert/2026-03-01-metropolitan-united-church-tribute-to-abba/
LOCATION:Metropolitan United Church\, London\, Canada
CATEGORIES:London, ON
ATTACH;FMTTYPE=image/jpeg:https://www.listeso.com/wp-content/uploads/2025/10/27f39c9e-0f94-11f0-8078-762b521a76e7-z37WUb.jpg
END:VEVENT
BEGIN:VEVENT
DTSTART;TZID=America/Toronto:20260124T204500
DTEND;TZID=America/Toronto:20260124T214500
DTSTAMP:20260421T184823
CREATED:20251126T121007Z
LAST-MODIFIED:20251126T121007Z
UID:10007482-1769287500-1769291100@www.listeso.com
SUMMARY:Candlelight: Tribute to ABBA
DESCRIPTION:Overview\nCandlelight concerts bring the magic of a live\, multi-sensory musical experience to awe-inspiring locations like never seen before in London. Get your tickets now to discover the music of ABBA at Palace Theatre under the gentle glow of candlelight. \nGeneral Info\n\n📍 Venue: Palace Theatre\n⏳ Duration: 60 minutes. Doors open 45 minutes before the show and close 5 minutes prior to the start. Late arrivals will not be permitted\n👤 Age requirement: 8 years old or older. Anyone under the age of 16 must be accompanied by an adult\n♿ Accessibility: This venue is accessible for people with reduced mobility\n🪑 Seating: Seating is assigned on a first come first served basis in each zone\n\nTentative Program\n\nDancing Queen\nSOS\nMoney\, Money\, Money\nThe Winner Takes It All\nVoulez-Vous\nAngeleyes\nWaterloo\nFernando\nKnowing Me\, Knowing You\nChiquitita\nLay All Your Love On Me\nSuper Trouper\nMamma Mia\n\nPerformers\n🎻 String Quartet: 2 violins\, 1 viola\, 1 cello \nBook a Private Event\nLooking to create an unforgettable experience for your wedding\, or special occasion? We offer private event bookings with customized programs tailored to your needs. \nGet a quote
URL:https://www.listeso.com/concert/2026-01-24-palace-theatre-tribute-to-abba/
LOCATION:Palace Theatre\, London\, Canada
CATEGORIES:London, ON
ATTACH;FMTTYPE=image/jpeg:https://www.listeso.com/wp-content/uploads/2025/10/9cfd2bf4-2128-11f0-afc3-de998c2bf0ff-zj4U0g.jpg
END:VEVENT
BEGIN:VEVENT
DTSTART;TZID=America/Toronto:20251227T204500
DTEND;TZID=America/Toronto:20251227T214500
DTSTAMP:20260421T184823
CREATED:20251102T120549Z
LAST-MODIFIED:20251102T120549Z
UID:10006326-1766868300-1766871900@www.listeso.com
SUMMARY:Candlelight: Christmas Classics
DESCRIPTION:Overview\nCandlelight concerts bring the magic of a live\, multi-sensory musical experience to awe-inspiring locations like never seen before in London. Get your tickets now to discover the music of Christmas Classics at Palace Theatre under the gentle glow of candlelight. \nGeneral Info\n\n📍 Venue: Palace Theatre\n⏳ Duration: 60 minutes. Doors open 45 minutes before the show and close 5 minutes prior to the start. Late arrivals will not be permitted\n👤 Age requirement: 8 years old or older. Anyone under the age of 16 must be accompanied by an adult\n♿ Accessibility: This venue is accessible for people with reduced mobility\n🪑 Seating: Seating is assigned on a first come first served basis in each zone\n\nTentative Program\n\nDance of the Sugar Plum Fairy from The Nutcracker – Tchaikovsky\nGreensleeves\nCarol of the Bells\nO Holy Night\nO Tannenbaum\nWe Wish You a Merry Christmas\nLet It Snow! Let It Snow! Let It Snow!\nFeliz Navidad – José Feliciano\nJingle Bells\nRockin’ Around the Christmas Tree – Brenda Lee\nLove Is All Around – Wet Wet Wet\nLet It Go from Frozen\nOnce Upon a December from Anastasia – Stephen Flaherty\nMaestro from The Holiday – Hans Zimmer\nIt’s Beginning to Look a Lot Like Christmas – Michael Bublé\nLast Christmas – Wham!\nAll I Want for Christmas Is You – Mariah Carey\n\nPerformers\n🎻 String Quartet – Listeso – London \nBook a Private Event\nLooking to create an unforgettable experience for your wedding\, or special occasion? We offer private event bookings with customized programs tailored to your needs. \nGet a quote
URL:https://www.listeso.com/concert/2025-12-27-palace-theatre-christmas-classics/
LOCATION:Palace Theatre\, London\, Canada
CATEGORIES:London, ON
ATTACH;FMTTYPE=image/jpeg:https://www.listeso.com/wp-content/uploads/2025/10/db5e6616-3f9a-11f0-9af7-a6a57dea6d84-eMG6MO.jpg
END:VEVENT
BEGIN:VEVENT
DTSTART;TZID=America/Toronto:20251227T183000
DTEND;TZID=America/Toronto:20251227T193000
DTSTAMP:20260421T184823
CREATED:20251102T120603Z
LAST-MODIFIED:20251102T120603Z
UID:10006327-1766860200-1766863800@www.listeso.com
SUMMARY:Candlelight: Featuring Vivaldi's Four Seasons and More
DESCRIPTION:Overview\nCandlelight concerts bring the magic of a live\, multi-sensory musical experience to awe-inspiring locations like never seen before in London. Get your tickets now to discover the music of Vivaldi’s Four Seasons and More at Palace Theatre under the gentle glow of candlelight. \nGeneral Info\n\n📍 Venue: Palace Theatre\n⏳ Duration: 60 minutes. Doors open 45 minutes before the show and close 5 minutes prior to the start. Late arrivals will not be permitted\n👤 Age requirement: 8 years old or older. Anyone under the age of 16 must be accompanied by an adult\n♿ Accessibility: This venue is accessible for people with reduced mobility\n🪑 Seating: Seating is assigned on a first come first served basis in each zone\n\nTentative Program\n\nThe Four Seasons\, Violin Concerto in G Minor\, Op. 8 No. 1 RV 269: Spring\nThe Four Seasons\, Violin Concerto in G Minor\, Op. 8 No. 2 RV 315: Summer\nThe Four Seasons\, Violin Concerto in G Minor\, Op. 8 No. 3 RV 293: Autumn\nThe Four Seasons\, Violin Concerto in G Minor\, Op. 8 No. 4 RV 297: Winter\nSonata n.12 in d-minor “La Follia” RV 63\n\nPerformers\n🎻 String Quartet – Listeso – London \nBook a Private Event\nLooking to create an unforgettable experience for your wedding\, or special occasion? We offer private event bookings with customized programs tailored to your needs. \nGet a quote
URL:https://www.listeso.com/concert/2025-12-27-palace-theatre-featuring-vivaldis-four-seasons-and-more/
LOCATION:Palace Theatre\, London\, Canada
CATEGORIES:London, ON
ATTACH;FMTTYPE=image/jpeg:https://www.listeso.com/wp-content/uploads/2025/10/9bdc2556-1ab4-11f0-8624-6e8226e0238e-WVrOeC.jpg
END:VEVENT
BEGIN:VEVENT
DTSTART;TZID=America/Toronto:20251221T204500
DTEND;TZID=America/Toronto:20251221T214500
DTSTAMP:20260421T184823
CREATED:20251102T120521Z
LAST-MODIFIED:20251102T120521Z
UID:10006324-1766349900-1766353500@www.listeso.com
SUMMARY:Candlelight: Tribute to Taylor Swift
DESCRIPTION:Overview\nCandlelight concerts bring the magic of a live\, multi-sensory musical experience to awe-inspiring locations like never seen before in London\, ON. Get your tickets now to discover the music of Taylor Swift at Metropolitan United Church under the gentle glow of candlelight. \nGeneral Info\n\n📍 Venue: Metropolitan United Church\n⏳ Duration: 60 minutes. Doors open 45 minutes before the show and close 5 minutes prior to the start. Late arrivals will not be permitted\n👤 Age requirement: 8 years old or older. Anyone under the age of 16 must be accompanied by an adult\n♿ Accessibility: This venue is accessible for people with reduced mobility\n🪑 Seating: Seating is assigned on a first come first served basis in each zone\n\nTentative Program\n\nShake It Off\nRed Medley\nEnchanted\n1989 Medley\nAnti Hero\nBlank Space\nReputation Medley\nI Can Do It With a Broken Heart\nFolklore Medley\nEvermore Medley\nCruel Summer\nYou Belong with Me\n\nPerformers\n🎻 Listeso String Quartet \nBook a Private Event\nLooking to create an unforgettable experience for your wedding\, or special occasion? We offer private event bookings with customized programs tailored to your needs. \nGet a quote
URL:https://www.listeso.com/concert/2025-12-21-metropolitan-united-church-tribute-to-taylor-swift/
LOCATION:Metropolitan United Church\, London\, Canada
CATEGORIES:London, ON
ATTACH;FMTTYPE=image/jpeg:https://www.listeso.com/wp-content/uploads/2025/10/ee89a0dc-1aa8-11f0-87b3-ba3a3d0c034e-fP0xsQ.jpg
END:VEVENT
BEGIN:VEVENT
DTSTART;TZID=America/Toronto:20251221T183000
DTEND;TZID=America/Toronto:20251221T193000
DTSTAMP:20260421T184823
CREATED:20251102T120534Z
LAST-MODIFIED:20251102T120534Z
UID:10006325-1766341800-1766345400@www.listeso.com
SUMMARY:Candlelight: Tribute to Queen and The Beatles
DESCRIPTION:Overview\nCandlelight concerts bring the magic of a live\, multi-sensory musical experience to awe-inspiring locations like never seen before in London. Get your tickets now to discover the music of Queen and The Beatles at Metropolitan United Church under the gentle glow of candlelight. \nGeneral Info\n\n📍 Venue: Metropolitan United Church\n⏳ Duration: 60 minutes. Doors open 45 minutes before the show and close 5 minutes prior to the start. Late arrivals will not be permitted\n👤 Age requirement: 8 years old or older. Anyone under the age of 16 must be accompanied by an adult\n♿ Accessibility: this venue is accessible for people with reduced mobility\n🪑 Seating: Seating is assigned on a first come first served basis in each zone\n\nTentative Program\n\nHere Comes the Sun – The Beatles\nBlackbird – The Beatles\nHelp! – The Beatles\nCome Together – The Beatles\nYesterday – The Beatles\nAll You Need Is Love – The Beatles\nLove of My Life – Queen\nAnother One Bites the Dust – Queen\nI Want to Break Free – Queen\nWe Are the Champions – Queen\nWe Will Rock You – Queen\nRadio Ga-Ga – Queen\nBohemian Rhapsody – Queen\n\nPerformers\n🎻 Listeso String Quartet \nBook a Private Event\nLooking to create an unforgettable experience for your wedding\, or special occasion? We offer private event bookings with customized programs tailored to your needs. \nGet a quote
URL:https://www.listeso.com/concert/2025-12-21-metropolitan-united-church-tribute-to-queen-and-the-beatles/
LOCATION:Metropolitan United Church\, London\, Canada
CATEGORIES:London, ON
ATTACH;FMTTYPE=image/jpeg:https://www.listeso.com/wp-content/uploads/2025/10/675fe2d2-1a9f-11f0-8be7-b25552496a35-0vaxuo.jpg
END:VEVENT
BEGIN:VEVENT
DTSTART;TZID=America/Toronto:20251024T190000
DTEND;TZID=America/Toronto:20251024T200000
DTSTAMP:20260421T184823
CREATED:20251009T110416Z
LAST-MODIFIED:20251009T110416Z
UID:10005701-1761332400-1761336000@www.listeso.com
SUMMARY:Candlelight: Tribute to ABBA
DESCRIPTION:Overview\nCandlelight concerts bring the magic of a live\, multi-sensory musical experience to awe-inspiring locations like never seen before in London. Get your tickets now to discover the music of ABBA at Metropolitan United Church under the gentle glow of candlelight. \nGeneral Info\n\n📍 Venue: Metropolitan United Church\n⏳ Duration: 60 minutes. Doors open 45 minutes before the show and close 5 minutes prior to the start. Late arrivals will not be permitted\n👤 Age requirement: 8 years old or older. Anyone under the age of 16 must be accompanied by an adult\n♿ Accessibility: this venue is accessible for people with reduced mobility\n🪑 Seating: Seating is assigned on a first come first served basis in each zone\n\nTentative Program\n\n“Dancing Queen”\n“SOS”\n“Money\, Money\, Money”\n“The Winner Takes it All”\n“Voulez-Vous”\n“Angeleyes”\n“Waterloo”\n“Fernando”\n“Knowing Me\, Knowing You”\n“Chiquitita”\n“Lay All Your Love On Me”\n“Super Trouper”\n“Mamma Mia”\n\nPerformers\n🎻 Listeso String Quartet \nBook a Private Event\nLooking to create an unforgettable experience for your wedding\, or special occasion? We offer private event bookings with customized programs tailored to your needs. \nGet a quote
URL:https://www.listeso.com/concert/2025-10-24-metropolitan-united-church-tribute-to-abba/
LOCATION:Metropolitan United Church\, London\, Canada
CATEGORIES:London, ON
ATTACH;FMTTYPE=image/jpeg:https://www.listeso.com/wp-content/uploads/2025/10/27f39c9e-0f94-11f0-8078-762b521a76e7-z37WUb.jpg
END:VEVENT
END:VCALENDAR