BEGIN:VCALENDAR
VERSION:2.0
PRODID:-//Listeso Music Group - A Boutique String Quartet Agency - ECPv6.15.20//NONSGML v1.0//EN
CALSCALE:GREGORIAN
METHOD:PUBLISH
X-ORIGINAL-URL:https://www.listeso.com
X-WR-CALDESC:Events for Listeso Music Group - A Boutique String Quartet Agency
REFRESH-INTERVAL;VALUE=DURATION:PT1H
X-Robots-Tag:noindex
X-PUBLISHED-TTL:PT1H
BEGIN:VTIMEZONE
TZID:America/New_York
BEGIN:DAYLIGHT
TZOFFSETFROM:-0500
TZOFFSETTO:-0400
TZNAME:EDT
DTSTART:20240310T070000
END:DAYLIGHT
BEGIN:STANDARD
TZOFFSETFROM:-0400
TZOFFSETTO:-0500
TZNAME:EST
DTSTART:20241103T060000
END:STANDARD
BEGIN:DAYLIGHT
TZOFFSETFROM:-0500
TZOFFSETTO:-0400
TZNAME:EDT
DTSTART:20250309T070000
END:DAYLIGHT
BEGIN:STANDARD
TZOFFSETFROM:-0400
TZOFFSETTO:-0500
TZNAME:EST
DTSTART:20251102T060000
END:STANDARD
BEGIN:DAYLIGHT
TZOFFSETFROM:-0500
TZOFFSETTO:-0400
TZNAME:EDT
DTSTART:20260308T070000
END:DAYLIGHT
BEGIN:STANDARD
TZOFFSETFROM:-0400
TZOFFSETTO:-0500
TZNAME:EST
DTSTART:20261101T060000
END:STANDARD
END:VTIMEZONE
BEGIN:VEVENT
DTSTART;TZID=America/New_York:20251107T180000
DTEND;TZID=America/New_York:20251107T190000
DTSTAMP:20260421T115418
CREATED:20251006T135404Z
LAST-MODIFIED:20251006T135404Z
UID:10005215-1762538400-1762542000@www.listeso.com
SUMMARY:Candlelight: Tribute to Fleetwood Mac
DESCRIPTION:Overview\nCandlelight concerts bring the magic of a live\, multi-sensory musical experience to awe-inspiring locations like never seen before in Long Island. Get your tickets now to discover the music of Fleetwood Mac at CM Performing Arts Center under the gentle glow of candlelight. \nGeneral Info\n\n📍 Venue: CM Performing Arts Center\n⏳ Duration: 60 minutes. Doors open 60 minutes before the show and close 5 minutes prior to the start. Late arrivals will not be permitted\n👤 Age requirement: 8 years old or older. Anyone under the age of 16 must be accompanied by an adult\n♿ Accessibility: This venue is ADA compliant\n🪑 Seating: Seating is assigned on a first come first served basis in each zone\n\nTentative Program\n\nEverywhere\nGypsy\nYou Make Loving Fun\nNever Going Back Again\nDon’t Stop\nGold Dust Woman\nGo Your Own Way\nLandslide\nLittle Lies\nSongbird\nRhiannon\nThe Chain\nDreams\nSay You Love Me\nSecond Hand News\n\nPerformers\n🎻 Highline String Quartet \nBook a Private Event\nLooking to create an unforgettable experience for your wedding\, or special occasion? We offer private event bookings with customized programs tailored to your needs. \nGet a quote
URL:https://www.listeso.com/concert/2025-11-07-cm-performing-arts-center-tribute-to-fleetwood-mac/
LOCATION:CM Performing Arts Center\, Long Island\, NY\, United States
CATEGORIES:Long Island, NY
ATTACH;FMTTYPE=image/jpeg:https://www.listeso.com/wp-content/uploads/2025/10/5c2e82a6-1f77-11f0-9fc3-b6302f1836c4-3Gs8kb.jpg
END:VEVENT
BEGIN:VEVENT
DTSTART;TZID=America/New_York:20251107T203000
DTEND;TZID=America/New_York:20251107T213000
DTSTAMP:20260421T115418
CREATED:20251006T135419Z
LAST-MODIFIED:20251006T135419Z
UID:10005216-1762547400-1762551000@www.listeso.com
SUMMARY:Candlelight: 90s Hip-Hop on Strings
DESCRIPTION:Overview\nCandlelight concerts bring the magic of a live\, multi-sensory musical experience to awe-inspiring locations like never seen before in Long Island. Get your tickets now to discover the music of 90s Hip-Hop on Strings at CM Performing Arts Center under the gentle glow of candlelight. \nGeneral Info\n\n⏳ Duration: 60 minutes. Doors open 60 minutes before the show and close 5 minutes prior to the start. Late arrivals will not be permitted\n👤 Age requirement: 8 years old or older. Anyone under the age of 16 must be accompanied by an adult\n♿ Accessibility: This venue is ADA compliant\n🪑 Seating: Seating is assigned on a first come first served basis in each zone\n\nTentative Program\n\nFugees and Lauryn Hill Medley (Ready or Not\, Doo-Wop\, Fu-Gee-La\, and Killing Me Softly)\nJay-Z Medley (Can I Get A…\, Big Pimpin\, Money Ain’t a Thing\, and More)\nNas Medley (It Ain’t Hard to Tell\, N.Y. State of Mind\, The World Is Yours\, and More)\nOutkast Medley (Rosa Parks\, Elevators (Me & You)\, SpottieOttieDopaliscious\, and More)\nMissy ‘Misdemeanor’ Elliott Medley (The Rain (Supa Dupa Fly)\, Sock It to Me\, and More)\nA Tribe Called Quest Medley (Can I Kick It\, Check the Rhime\, Scenario\, and More)\nWu Tang Clan Medley (C.R.E.A.M. (Cash Rules Everything Around Me)\, Wu-Tang Clan Ain’t Nuthing Ta F’ Wit\, Protect Ya Neck\, and More)\n2Pac Medley (Dear Mama\, California Love\, and more)\nThe Notorious B.I.G. Medley (Juicy\, Big Poppa\, Hypnotize\, and More)\nDr. Dre Medley (Still D.R.E.\, Forgot About Dre\, Nuthin’ but a ‘G’ Thang\, and More)\nGin and Juice – Snoop Dogg\n\nPerformers\n🎻 Highline String Quartet \nBook a Private Event\nLooking to create an unforgettable experience for your wedding\, or special occasion? We offer private event bookings with customized programs tailored to your needs. \nGet a quote
URL:https://www.listeso.com/concert/2025-11-07-cm-performing-arts-center-90s-hip-hop-on-strings/
LOCATION:CM Performing Arts Center\, Long Island\, NY\, United States
CATEGORIES:Long Island, NY
ATTACH;FMTTYPE=image/jpeg:https://www.listeso.com/wp-content/uploads/2025/10/0333ea26-1516-11f0-a637-fad4b74c3ddb-2HI2sy.jpg
END:VEVENT
BEGIN:VEVENT
DTSTART;TZID=America/New_York:20251121T180000
DTEND;TZID=America/New_York:20251121T190000
DTSTAMP:20260421T115418
CREATED:20251006T135433Z
LAST-MODIFIED:20251006T135433Z
UID:10005217-1763748000-1763751600@www.listeso.com
SUMMARY:Candlelight: From Bach to The Beatles
DESCRIPTION:Overview\nCandlelight concerts bring the magic of a live\, multi-sensory musical experience to awe-inspiring locations like never seen before in Long Island. Get your tickets now to discover the music of From Bach to The Beatles at CM Performing Arts Center under the gentle glow of candlelight. \nGeneral Info\n\n⏳ Duration: 60 minutes. Doors open 60 minutes before the show and close 5 minutes prior to the start. Late arrivals will not be permitted\n👤 Age requirement: 8 years old or older. Anyone under the age of 16 must be accompanied by an adult\n♿ Accessibility: This venue is ADA compliant\n🪑 Seating: Seating is assigned on a first come first served basis in each zone\n\nTentative Program\n\nHere Comes the Sun – Harrison (1969)\nBrandenburg Concerto No. 3 in G major\, BWV 1048 – J.S. Bach (1721)\nCello Suite No. 1 in G Major\, BWV 1007: I. Prelude – J.S. Bach\nConcerto for 2 Violins in D Minor\, BWV 1043: I. Vivace – J.S. Bach\nI Want To Hold Your Hand – Lennon/McCartney (1963)\nIn My Life – Lennon/McCartney (1965)\nStrawberry Fields Forever – Lennon/McCartney (1967)\nBlackbird – Lennon/McCartney (1968)\nWhen I’m Sixty Four – Lennon/McCartney (1967)\nBack in the USSR – Lennon/McCartney (1968)\nHelter Skelter – Lennon/McCartney (1968)\nThe Beatles Medley – Arranged by Kazuaki Kondo\nCome Together – Lennon/McCartney (1969) Arranged by Quatuor Ebene\n\nPerformers\n🎻 Highline String Quartet \nBook a Private Event\nLooking to create an unforgettable experience for your wedding\, or special occasion? We offer private event bookings with customized programs tailored to your needs. \nGet a quote
URL:https://www.listeso.com/concert/2025-11-21-cm-performing-arts-center-from-bach-to-the-beatles/
LOCATION:CM Performing Arts Center\, Long Island\, NY\, United States
CATEGORIES:Long Island, NY
ATTACH;FMTTYPE=image/jpeg:https://www.listeso.com/wp-content/uploads/2025/10/ed0a3082-1a8f-11f0-95bb-f62d5ea4b178-eeB8dc.jpg
END:VEVENT
BEGIN:VEVENT
DTSTART;TZID=America/New_York:20251121T203000
DTEND;TZID=America/New_York:20251121T213000
DTSTAMP:20260421T115418
CREATED:20251006T135446Z
LAST-MODIFIED:20251006T135446Z
UID:10005218-1763757000-1763760600@www.listeso.com
SUMMARY:Candlelight: Tribute to Queen
DESCRIPTION:Overview\nCandlelight concerts bring the magic of a live\, multi-sensory musical experience to awe-inspiring locations like never seen before in Long Island. Get your tickets now to discover the music of Queen at CM Performing Arts Center under the gentle glow of candlelight. \nGeneral Info\n\n📍 Venue: CM Performing Arts Center\n⏳ Duration: 60 minutes. Doors open 60 minutes before the show and close 5 minutes prior to the start. Late arrivals will not be permitted\n👤 Age requirement: 8 years old or older. Anyone under the age of 16 must be accompanied by an adult\n♿ Accessibility: This venue is ADA compliant\n🪑 Seating: Seating is assigned on a first come first served basis in each zone\n\nTentative Program\n\nI Want to Break Free\nWe Will Rock You\nSomebody to Love\nRadio Ga Ga\nDon’t Stop Me Now\nKiller Queen\nCrazy Little Thing Called Love\nWho Wants to Live Forever\nBohemian Rhapsody\nLove of My Life\nWe Are the Champions\nAnother One Bites the Dust\n\nPerformers\n🎻 Highline String Quartet \nBook a Private Event\nLooking to create an unforgettable experience for your wedding\, or special occasion? We offer private event bookings with customized programs tailored to your needs. \nGet a quote
URL:https://www.listeso.com/concert/2025-11-21-cm-performing-arts-center-tribute-to-queen/
LOCATION:CM Performing Arts Center\, Long Island\, NY\, United States
CATEGORIES:Long Island, NY
ATTACH;FMTTYPE=image/jpeg:https://www.listeso.com/wp-content/uploads/2025/10/dc08a85a-193f-11f0-9a0a-16541c266220-0NfvcU.jpg
END:VEVENT
END:VCALENDAR