BEGIN:VCALENDAR
VERSION:2.0
PRODID:-//Listeso Music Group - A Boutique String Quartet Agency - ECPv6.15.20//NONSGML v1.0//EN
CALSCALE:GREGORIAN
METHOD:PUBLISH
X-ORIGINAL-URL:https://www.listeso.com
X-WR-CALDESC:Events for Listeso Music Group - A Boutique String Quartet Agency
REFRESH-INTERVAL;VALUE=DURATION:PT1H
X-Robots-Tag:noindex
X-PUBLISHED-TTL:PT1H
BEGIN:VTIMEZONE
TZID:America/New_York
BEGIN:DAYLIGHT
TZOFFSETFROM:-0500
TZOFFSETTO:-0400
TZNAME:EDT
DTSTART:20250309T070000
END:DAYLIGHT
BEGIN:STANDARD
TZOFFSETFROM:-0400
TZOFFSETTO:-0500
TZNAME:EST
DTSTART:20251102T060000
END:STANDARD
BEGIN:DAYLIGHT
TZOFFSETFROM:-0500
TZOFFSETTO:-0400
TZNAME:EDT
DTSTART:20260308T070000
END:DAYLIGHT
BEGIN:STANDARD
TZOFFSETFROM:-0400
TZOFFSETTO:-0500
TZNAME:EST
DTSTART:20261101T060000
END:STANDARD
BEGIN:DAYLIGHT
TZOFFSETFROM:-0500
TZOFFSETTO:-0400
TZNAME:EDT
DTSTART:20270314T070000
END:DAYLIGHT
BEGIN:STANDARD
TZOFFSETFROM:-0400
TZOFFSETTO:-0500
TZNAME:EST
DTSTART:20271107T060000
END:STANDARD
END:VTIMEZONE
BEGIN:VEVENT
DTSTART;TZID=America/New_York:20260320T163000
DTEND;TZID=America/New_York:20260320T173000
DTSTAMP:20260421T064819
CREATED:20260224T121338Z
LAST-MODIFIED:20260224T121338Z
UID:10008135-1774024200-1774027800@www.listeso.com
SUMMARY:Candlelight: Tribute to Fleetwood Mac
DESCRIPTION:Overview\nCandlelight concerts bring the magic of a live\, multi-sensory musical experience to awe-inspiring locations like never seen before in Long Island. Get your tickets now to discover the music of Fleetwood Mac at CM Performing Arts Center under the gentle glow of candlelight. \nGeneral Info\n\n📍 Venue: CM Performing Arts Center\n⏳ Duration: 60 minutes. Doors open 60 minutes before the show. No entry once it starts.\n👤 Age requirement: 8 years old or older. Anyone under the age of 16 must be accompanied by an adult\n♿ Accessibility: This venue is ADA compliant\n🪑 Seating: Seating is assigned on a first come first served basis in each zone\n\nTentative Program\n\nEverywhere\nGypsy\nYou Make Loving Fun\nNever Going Back Again\nDon’t Stop\nGold Dust Woman\nGo Your Own Way\nLandslide\nLittle Lies\nSongbird\nRhiannon\nThe Chain\nDreams\nSay You Love Me\nSecond Hand News\n\nPerformers\n🎻 Highline String Quartet \nBook a Private Event\nLooking to create an unforgettable experience for your wedding\, or special occasion? We offer private event bookings with customized programs tailored to your needs. \nGet a quote
URL:https://www.listeso.com/concert/2026-03-20-cm-performing-arts-center-tribute-to-fleetwood-mac/
LOCATION:CM Performing Arts Center\, Long Island\, NY\, United States
CATEGORIES:Long Island, NY
ATTACH;FMTTYPE=image/jpeg:https://www.listeso.com/wp-content/uploads/2025/10/5c2e82a6-1f77-11f0-9fc3-b6302f1836c4-3Gs8kb.jpg
END:VEVENT
BEGIN:VEVENT
DTSTART;TZID=America/New_York:20260320T203000
DTEND;TZID=America/New_York:20260320T213000
DTSTAMP:20260421T064819
CREATED:20260224T121326Z
LAST-MODIFIED:20260224T121326Z
UID:10008134-1774038600-1774042200@www.listeso.com
SUMMARY:Candlelight: From Bach to The Beatles
DESCRIPTION:Overview\nCandlelight concerts bring the magic of a live\, multi-sensory musical experience to awe-inspiring locations like never seen before in Long Island. Get your tickets now to discover the music of From Bach to The Beatles at CM Performing Arts Center under the gentle glow of candlelight. \nGeneral Info\n\n📍 Venue: CM Performing Arts Center\n⏳ Duration: 60 minutes. Doors open 60 minutes before the show. No entry once it starts.\n👤 Age requirement: 8 years old or older. Anyone under the age of 16 must be accompanied by an adult\n♿ Accessibility: This venue is ADA compliant\n🪑 Seating: Seating is assigned on a first come first served basis in each zone\n\nTentative Program\n\nHere Comes the Sun – Harrison (1969)\nBrandenburg Concerto No. 3 in G major\, BWV 1048 – J.S. Bach (1721)\nCello Suite No. 1 in G Major\, BWV 1007: I. Prelude – J.S. Bach\nConcerto for 2 Violins in D Minor\, BWV 1043: I. Vivace – J.S. Bach\nI Want To Hold Your Hand – Lennon/McCartney (1963)\nIn My Life – Lennon/McCartney (1965)\nStrawberry Fields Forever – Lennon/McCartney (1967)\nBlackbird – Lennon/McCartney (1968)\nWhen I’m Sixty Four – Lennon/McCartney (1967)\nBack in the USSR – Lennon/McCartney (1968)\nHelter Skelter – Lennon/McCartney (1968)\nThe Beatles Medley – Arranged by Kazuaki Kondo\nCome Together – Lennon/McCartney (1969) Arranged by Quatuor Ebene\n\nPerformers\n🎻 Highline String Quartet \nBook a Private Event\nLooking to create an unforgettable experience for your wedding\, or special occasion? We offer private event bookings with customized programs tailored to your needs. \nGet a quote
URL:https://www.listeso.com/concert/2026-03-20-cm-performing-arts-center-from-bach-to-the-beatles/
LOCATION:CM Performing Arts Center\, Long Island\, NY\, United States
CATEGORIES:Long Island, NY
ATTACH;FMTTYPE=image/jpeg:https://www.listeso.com/wp-content/uploads/2025/10/ed0a3082-1a8f-11f0-95bb-f62d5ea4b178-eeB8dc.jpg
END:VEVENT
END:VCALENDAR