BEGIN:VCALENDAR
VERSION:2.0
PRODID:-//Listeso Music Group - A Boutique String Quartet Agency - ECPv6.15.20//NONSGML v1.0//EN
CALSCALE:GREGORIAN
METHOD:PUBLISH
X-WR-CALNAME:Listeso Music Group - A Boutique String Quartet Agency
X-ORIGINAL-URL:https://www.listeso.com
X-WR-CALDESC:Events for Listeso Music Group - A Boutique String Quartet Agency
REFRESH-INTERVAL;VALUE=DURATION:PT1H
X-Robots-Tag:noindex
X-PUBLISHED-TTL:PT1H
BEGIN:VTIMEZONE
TZID:America/New_York
BEGIN:DAYLIGHT
TZOFFSETFROM:-0500
TZOFFSETTO:-0400
TZNAME:EDT
DTSTART:20240310T070000
END:DAYLIGHT
BEGIN:STANDARD
TZOFFSETFROM:-0400
TZOFFSETTO:-0500
TZNAME:EST
DTSTART:20241103T060000
END:STANDARD
BEGIN:DAYLIGHT
TZOFFSETFROM:-0500
TZOFFSETTO:-0400
TZNAME:EDT
DTSTART:20250309T070000
END:DAYLIGHT
BEGIN:STANDARD
TZOFFSETFROM:-0400
TZOFFSETTO:-0500
TZNAME:EST
DTSTART:20251102T060000
END:STANDARD
BEGIN:DAYLIGHT
TZOFFSETFROM:-0500
TZOFFSETTO:-0400
TZNAME:EDT
DTSTART:20260308T070000
END:DAYLIGHT
BEGIN:STANDARD
TZOFFSETFROM:-0400
TZOFFSETTO:-0500
TZNAME:EST
DTSTART:20261101T060000
END:STANDARD
END:VTIMEZONE
BEGIN:VEVENT
DTSTART;TZID=America/New_York:20251216T183000
DTEND;TZID=America/New_York:20251216T193000
DTSTAMP:20260421T232220
CREATED:20251108T124310Z
LAST-MODIFIED:20251108T124310Z
UID:10006703-1765909800-1765913400@www.listeso.com
SUMMARY:Candlelight: Featuring Vivaldi's Four Seasons & More
DESCRIPTION:Overview\nCandlelight concerts bring the magic of a live\, multi-sensory musical experience to awe-inspiring locations like never seen before in Louisville. Get your tickets now to discover Vivaldi’s Four Seasons and more at Actors Theatre under the gentle glow of candlelight. \nGeneral Info\n\n📍 Venue: Actors Theatre of Louisville\n⏳ Duration: 60 minutes. Doors open 75 minutes before the show and close 5 minutes prior to the start. Late arrivals will not be permitted\n👤 Age requirement: 8 years old or older. Anyone under the age of 16 must be accompanied by an adult\n♿ Accessibility: This venue is ADA compliant – Please note that accessibility seating is only located in the back row of Zone B\n🪑 Seating: Seating is assigned on a first come first served basis in each zone\n\nTentative Program\n\n“The Four Seasons\, Violin Concerto in G Minor\, Op. 8 No. 1 RV 269: ‘Spring'” – Vivaldi\n“The Four Seasons\, Violin Concerto in G Minor\, Op. 8 No. 2 RV 315: ‘Summer'” – Vivaldi\n“Thaïs: Méditation” – Jules Massenet\n“Recomposed by Max Richter: Vivaldi\, The Four Seasons: ‘Spring 3′” – Max Richter\n“The Cuatro Estaciones Porteñas: Verano Porteño” – Astor Piazzolla\n“Libertango” – Astor Piazzolla\n“The Four Seasons\, Violin Concerto in G Minor\, Op. 8 No. 3 RV 293: ‘Autumn'” – Vivaldi\n“The Four Seasons\, Violin Concerto in G Minor\, Op. 8 No. 4 RV 297: ‘Winter'” – Vivaldi\n\nPerformers\n🎻 Listeso String Quartet \nBook a Private Event\nLooking to create an unforgettable experience for your wedding\, or special occasion? We offer private event bookings with customized programs tailored to your needs. \nGet a quote
URL:https://www.listeso.com/concert/2025-12-16-actors-theatre-of-louisville-candlelight-featuring-vivaldi-s-four-seasons-more/
LOCATION:Actors Theatre of Louisville\, Louisville\, KY\, United States
CATEGORIES:Louisville, KY
ATTACH;FMTTYPE=image/jpeg:https://www.listeso.com/wp-content/uploads/2025/10/7c807528-1ab3-11f0-9eff-324ba1e3eb01-s1gFvG.jpg
END:VEVENT
BEGIN:VEVENT
DTSTART;TZID=America/New_York:20251216T204500
DTEND;TZID=America/New_York:20251216T214500
DTSTAMP:20260421T232220
CREATED:20251108T124254Z
LAST-MODIFIED:20251108T124254Z
UID:10006702-1765917900-1765921500@www.listeso.com
SUMMARY:Candlelight: Tribute to Fleetwood Mac
DESCRIPTION:Overview\nCandlelight concerts bring the magic of a live\, multi-sensory musical experience to awe-inspiring locations like never seen before in Louisville. Get your tickets now to discover the music of Fleetwood Mac at Actors Theatre of Louisville – Pamela Brown Auditorium under the gentle glow of candlelight. \nGeneral Info\n\n📍 Venue: Actors Theatre of Louisville – Pamela Brown Auditorium\n⏳ Duration: 60 minutes. Doors open 45 minutes before the show and close 5 minutes prior to the start. Late arrivals will not be permitted\n👤 Age requirement: 8 years old or older. Anyone under the age of 16 must be accompanied by an adult\n♿ Accessibility: Wheelchair-accessible seating is located on Level 1\, along the main floor in row K. There is no ADA seating in the balcony.\n🪑 Seating: Seating is assigned on a first come first served basis in each zone\n\nTentative Program\n\nEverywhere\nGypsy\nYou Make Loving Fun\nNever Going Back Again\nDon’t Stop\nGold Dust Woman\nGo Your Own Way\nLandslide\nLittle Lies\nSongbird\nRhiannon\nThe Chain\n\nPerformers\n🎻 String Quartet – Listeso – Louisville \nBook a Private Event\nLooking to create an unforgettable experience for your wedding\, or special occasion? We offer private event bookings with customized programs tailored to your needs. \nGet a quote
URL:https://www.listeso.com/concert/2025-12-16-actors-theatre-of-louisville-pamela-brown-auditorium-tribute-to-fleetwood-mac/
LOCATION:Actors Theatre of Louisville – Pamela Brown Auditorium\, Louisville\, KY\, United States
CATEGORIES:Louisville, KY
ATTACH;FMTTYPE=image/jpeg:https://www.listeso.com/wp-content/uploads/2025/10/3b09df18-058b-11f0-bf55-16591a0085a5-PQrd0U.jpg
END:VEVENT
BEGIN:VEVENT
DTSTART;TZID=America/New_York:20251219T183000
DTEND;TZID=America/New_York:20251219T193000
DTSTAMP:20260421T232220
CREATED:20251108T124325Z
LAST-MODIFIED:20251108T124325Z
UID:10006704-1766169000-1766172600@www.listeso.com
SUMMARY:Candlelight: Christmas Carols on Strings
DESCRIPTION:Overview\nCandlelight concerts bring the magic of a live\, multi-sensory musical experience to awe-inspiring locations like never seen before in Louisville. Get your tickets now to discover the music of Christmas Carols on Strings at Kentucky Science Center under the gentle glow of candlelight. \nGeneral Info\n\n📍 Venue: Kentucky Science Center\n⏳ Duration: 60 minutes. Doors open 45 minutes before the show and close 5 minutes prior to the start. Late arrivals will not be permitted\n👤 Age requirement: 8 years old or older. Anyone under the age of 16 must be accompanied by an adult\n♿ Accessibility: This venue is ADA compliant\n🪑 Seating: Seating is assigned on a first come first served basis in each zone\n\nTentative Program\n\n12 Days of Christmas\nAngels from the Realms of Glory\nAngels We Have Heard On High\nAway in a Manger\nCarol of the Bells\nDeck the Halls\nDing Dong! Merrily on High\nDo You Hear What I Hear\nGod Rest Ye Merry Gentlemen\nGood King Wenceslas\nGreensleeves (What Child Is This)\nHark! The Herald Angels Sing\nIn the Bleak Mid-Winter\nJoy to the World\nO Christmas Tree (O Tannenbaum)\nO Come All Ye Faithful\nO Holy Night\nO Little Town of Bethlehem\nSilent Night\nThe First Noël\n\nPerformers\n🎻 String Quartet – Listeso – Louisville \nBook a Private Event\nLooking to create an unforgettable experience for your wedding\, or special occasion? We offer private event bookings with customized programs tailored to your needs. \nGet a quote
URL:https://www.listeso.com/concert/2025-12-19-kentucky-science-center-christmas-carols-on-strings/
LOCATION:Kentucky Science Center\, Louisville\, KY\, United States
CATEGORIES:Louisville, KY
ATTACH;FMTTYPE=image/jpeg:https://www.listeso.com/wp-content/uploads/2025/10/52a3d270-3f95-11f0-8e93-ca060e10daed-hFlre5.jpg
END:VEVENT
BEGIN:VEVENT
DTSTART;TZID=America/New_York:20251219T204500
DTEND;TZID=America/New_York:20251219T214500
DTSTAMP:20260421T232220
CREATED:20251108T124338Z
LAST-MODIFIED:20251108T124338Z
UID:10006705-1766177100-1766180700@www.listeso.com
SUMMARY:Candlelight: Tribute to Queen and The Beatles
DESCRIPTION:Overview\nCandlelight concerts bring the magic of a live\, multi-sensory musical experience to awe-inspiring locations like never seen before in Louisville. Get your tickets now to discover the music of Queen and The Beatles at Kentucky Science Center under the gentle glow of candlelight. \nGeneral Info\n\n📍 Venue: Kentucky Science Center\n⏳ Duration: 60 minutes. Doors open 45 minutes before the show and close 5 minutes prior to the start. Late arrivals will not be permitted\n👤 Age requirement: 8 years old or older. Anyone under the age of 16 must be accompanied by an adult\n♿ Accessibility: this venue is ADA compliant\n🪑 Seating: Seating is assigned on a first come first served basis in each zone\n\nTentative Program\n\nHere Comes the Sun – The Beatles\nBlackbird – The Beatles\nHelp! – The Beatles\nCome Together – The Beatles\nYesterday – The Beatles\nAll You Need Is Love – The Beatles\nLove of My Life – Queen\nAnother One Bites the Dust – Queen\nI Want to Break Free – Queen\nWe Are the Champions – Queen\nWe Will Rock You – Queen\nRadio Ga-Ga – Queen\nBohemian Rhapsody – Queen\n\nPerformers\n🎻 String Quartet – Listeso – Louisville \nBook a Private Event\nLooking to create an unforgettable experience for your wedding\, or special occasion? We offer private event bookings with customized programs tailored to your needs. \nGet a quote
URL:https://www.listeso.com/concert/2025-12-19-kentucky-science-center-tribute-to-queen-and-the-beatles/
LOCATION:Kentucky Science Center\, Louisville\, KY\, United States
CATEGORIES:Louisville, KY
ATTACH;FMTTYPE=image/jpeg:https://www.listeso.com/wp-content/uploads/2025/10/bddda248-1a9f-11f0-9a59-a666f29e90ee-UjVMrm.jpg
END:VEVENT
BEGIN:VEVENT
DTSTART;TZID=America/New_York:20251220T183000
DTEND;TZID=America/New_York:20251220T193000
DTSTAMP:20260421T232220
CREATED:20251108T124352Z
LAST-MODIFIED:20251108T124352Z
UID:10006706-1766255400-1766259000@www.listeso.com
SUMMARY:Candlelight: Christmas Carols on Strings
DESCRIPTION:Overview\nCandlelight concerts bring the magic of a live\, multi-sensory musical experience to awe-inspiring locations like never seen before in Louisville. Get your tickets now to discover the music of Christmas Carols on Strings at Kentucky Science Center under the gentle glow of candlelight. \nGeneral Info\n\n📍 Venue: Kentucky Science Center\n⏳ Duration: 60 minutes. Doors open 45 minutes before the show and close 5 minutes prior to the start. Late arrivals will not be permitted\n👤 Age requirement: 8 years old or older. Anyone under the age of 16 must be accompanied by an adult\n♿ Accessibility: this venue is ADA compliant\n🪑 Seating: Seating is assigned on a first come first served basis in each zone\n\nTentative Program\n\n12 Days of Christmas\nAngels from the Realms of Glory\nAngels We Have Heard On High\nAway in a Manger\nCarol of the Bells\nDeck the Halls\nDing Dong! Merrily on High\nDo You Hear What I Hear\nGod Rest Ye Merry Gentlemen\nGood King Wenceslas\nGreensleeves (What Child Is This)\nHark! The Herald Angels Sing\nIn the Bleak Mid-Winter\nJoy to the World\nO Christmas Tree (O Tannenbaum)\nO Come All Ye Faithful\nO Holy Night\nO Little Town of Bethlehem\nSilent Night\nThe First Noël\n\nPerformers\n🎻 String Quartet – Listeso – Louisville \nBook a Private Event\nLooking to create an unforgettable experience for your wedding\, or special occasion? We offer private event bookings with customized programs tailored to your needs. \nGet a quote
URL:https://www.listeso.com/concert/2025-12-20-kentucky-science-center-christmas-carols-on-strings/
LOCATION:Kentucky Science Center\, Louisville\, KY\, United States
CATEGORIES:Louisville, KY
ATTACH;FMTTYPE=image/jpeg:https://www.listeso.com/wp-content/uploads/2025/10/52a3d270-3f95-11f0-8e93-ca060e10daed-hFlre5.jpg
END:VEVENT
END:VCALENDAR