BEGIN:VCALENDAR
VERSION:2.0
PRODID:-//Listeso Music Group - A Boutique String Quartet Agency - ECPv6.15.20//NONSGML v1.0//EN
CALSCALE:GREGORIAN
METHOD:PUBLISH
X-ORIGINAL-URL:https://www.listeso.com
X-WR-CALDESC:Events for Listeso Music Group - A Boutique String Quartet Agency
REFRESH-INTERVAL;VALUE=DURATION:PT1H
X-Robots-Tag:noindex
X-PUBLISHED-TTL:PT1H
BEGIN:VTIMEZONE
TZID:America/Vancouver
BEGIN:DAYLIGHT
TZOFFSETFROM:-0800
TZOFFSETTO:-0700
TZNAME:PDT
DTSTART:20240310T100000
END:DAYLIGHT
BEGIN:STANDARD
TZOFFSETFROM:-0700
TZOFFSETTO:-0800
TZNAME:PST
DTSTART:20241103T090000
END:STANDARD
BEGIN:DAYLIGHT
TZOFFSETFROM:-0800
TZOFFSETTO:-0700
TZNAME:PDT
DTSTART:20250309T100000
END:DAYLIGHT
BEGIN:STANDARD
TZOFFSETFROM:-0700
TZOFFSETTO:-0800
TZNAME:PST
DTSTART:20251102T090000
END:STANDARD
BEGIN:DAYLIGHT
TZOFFSETFROM:-0800
TZOFFSETTO:-0700
TZNAME:PDT
DTSTART:20260308T100000
END:DAYLIGHT
BEGIN:STANDARD
TZOFFSETFROM:-0700
TZOFFSETTO:-0800
TZNAME:PST
DTSTART:20261101T090000
END:STANDARD
END:VTIMEZONE
BEGIN:VEVENT
DTSTART;TZID=America/Vancouver:20251211T183000
DTEND;TZID=America/Vancouver:20251211T193000
DTSTAMP:20260421T202652
CREATED:20251108T124421Z
LAST-MODIFIED:20251108T124421Z
UID:10006708-1765477800-1765481400@www.listeso.com
SUMMARY:Candlelight: Coldplay & Imagine Dragons
DESCRIPTION:Overview\nCandlelight concerts bring the magic of a live\, multi-sensory musical experience to awe-inspiring locations like never seen before in Maple Ridge. Get your tickets now to discover the music of Coldplay & Imagine Dragons at The Ridge Church under the gentle glow of candlelight. \nGeneral Info\n\n📍 Venue: The Ridge Church\n⏳ Duration: 60 minutes. Doors open 45 minutes before the show and close 5 minutes prior to the start. Late arrivals will not be permitted\n👤 Age requirement: 8 years old or older. Anyone under the age of 16 must be accompanied by an adult\n♿ Accessibility: This venue is accessible for people with reduced mobility\n🪑 Seating: Seating is assigned on a first come first served basis in each zone\n\nTentative Program\n\nColdplay – Clocks\nImagine Dragons – Radioactive\nColdplay – Adventure of a Lifetime\nColdplay – Fix You\nImagine Dragons – Eyes Closed\nImagine Dragons – Nice to Meet You\nColdplay – The Scientist\nColdplay – feelslikeimfallinginlove\nImagine Dragons – Follow You\nImagine Dragons – Bad Liar\nImagine Dragons – Believer\nColdplay – Sky Full of Stars\nColdplay – Viva la Vida\nColdplay – My Universe\n\nPerformers\n🎻 String Quartet: 2 violins\, 1 viola\, 1 cello \nBook a Private Event\nLooking to create an unforgettable experience for your wedding\, or special occasion? We offer private event bookings with customized programs tailored to your needs. \nGet a quote
URL:https://www.listeso.com/concert/2025-12-11-the-ridge-church-candlelight-coldplay-imagine-dragons/
LOCATION:The Ridge Church\, Maple Ridge\, Canada
CATEGORIES:Maple Ridge, BC
ATTACH;FMTTYPE=image/jpeg:https://www.listeso.com/wp-content/uploads/2025/09/4d0ae4c2-1158-11f0-90ef-86af2e2df509-Yt0a9U.jpg
END:VEVENT
BEGIN:VEVENT
DTSTART;TZID=America/Vancouver:20251211T203000
DTEND;TZID=America/Vancouver:20251211T213000
DTSTAMP:20260421T202652
CREATED:20251108T124407Z
LAST-MODIFIED:20251108T124407Z
UID:10006707-1765485000-1765488600@www.listeso.com
SUMMARY:Candlelight: Christmas Classics
DESCRIPTION:Overview\nCandlelight concerts bring the magic of a live\, multi-sensory musical experience to awe-inspiring locations like never seen before in Maple Ridge. Get your tickets now to discover the music of Christmas Classics at The Ridge Church under the gentle glow of candlelight. \nGeneral Info\n\n📍 Venue: The Ridge Church\n⏳ Duration: 60 minutes. Doors open 45 minutes before the show and close 5 minutes prior to the start. Late arrivals will not be permitted\n👤 Age requirement: 8 years old or older. Anyone under the age of 16 must be accompanied by an adult\n♿ Accessibility: This venue is accessible for people with reduced mobility\n🪑 Seating: Seating is assigned on a first come first served basis in each zone\n\nTentative Program\n\nDance of the Sugar Plum Fairy from The Nutcracker – Tchaikovsky\nGreensleeves\nCarol of the Bells\nO Holy Night\nO Tannenbaum\nWe Wish You a Merry Christmas\nLet It Snow! Let It Snow! Let It Snow!\nFeliz Navidad – José Feliciano\nJingle Bells\nRockin’ Around the Christmas Tree – Brenda Lee\nLove Is All Around – Wet Wet Wet\nLet It Go from Frozen\nOnce Upon a December from Anastasia – Stephen Flaherty\nMaestro from The Holiday – Hans Zimmer\nIt’s Beginning to Look a Lot Like Christmas – Michael Bublé\nLast Christmas – Wham!\nAll I Want for Christmas Is You – Mariah Carey\n\nPerformers\n🎻 String Quartet \nBook a Private Event\nLooking to create an unforgettable experience for your wedding\, or special occasion? We offer private event bookings with customized programs tailored to your needs. \nGet a quote
URL:https://www.listeso.com/concert/2025-12-11-the-ridge-church-candlelight-christmas-classics/
LOCATION:The Ridge Church\, Maple Ridge\, Canada
CATEGORIES:Maple Ridge, BC
ATTACH;FMTTYPE=image/jpeg:https://www.listeso.com/wp-content/uploads/2025/10/db5e6616-3f9a-11f0-9af7-a6a57dea6d84-eMG6MO.jpg
END:VEVENT
END:VCALENDAR