BEGIN:VCALENDAR
VERSION:2.0
PRODID:-//Listeso Music Group - A Boutique String Quartet Agency - ECPv6.15.20//NONSGML v1.0//EN
CALSCALE:GREGORIAN
METHOD:PUBLISH
X-WR-CALNAME:Listeso Music Group - A Boutique String Quartet Agency
X-ORIGINAL-URL:https://www.listeso.com
X-WR-CALDESC:Events for Listeso Music Group - A Boutique String Quartet Agency
REFRESH-INTERVAL;VALUE=DURATION:PT1H
X-Robots-Tag:noindex
X-PUBLISHED-TTL:PT1H
BEGIN:VTIMEZONE
TZID:America/Chicago
BEGIN:DAYLIGHT
TZOFFSETFROM:-0600
TZOFFSETTO:-0500
TZNAME:CDT
DTSTART:20240310T080000
END:DAYLIGHT
BEGIN:STANDARD
TZOFFSETFROM:-0500
TZOFFSETTO:-0600
TZNAME:CST
DTSTART:20241103T070000
END:STANDARD
BEGIN:DAYLIGHT
TZOFFSETFROM:-0600
TZOFFSETTO:-0500
TZNAME:CDT
DTSTART:20250309T080000
END:DAYLIGHT
BEGIN:STANDARD
TZOFFSETFROM:-0500
TZOFFSETTO:-0600
TZNAME:CST
DTSTART:20251102T070000
END:STANDARD
BEGIN:DAYLIGHT
TZOFFSETFROM:-0600
TZOFFSETTO:-0500
TZNAME:CDT
DTSTART:20260308T080000
END:DAYLIGHT
BEGIN:STANDARD
TZOFFSETFROM:-0500
TZOFFSETTO:-0600
TZNAME:CST
DTSTART:20261101T070000
END:STANDARD
END:VTIMEZONE
BEGIN:VEVENT
DTSTART;TZID=America/Chicago:20251220T183000
DTEND;TZID=America/Chicago:20251220T193000
DTSTAMP:20260421T173142
CREATED:20251108T124441Z
LAST-MODIFIED:20251108T124441Z
UID:10006709-1766255400-1766259000@www.listeso.com
SUMMARY:Candlelight: Holiday Special Featuring "The Nutcracker" and More
DESCRIPTION:Overview\nCandlelight concerts bring the magic of a live\, multi-sensory musical experience to awe-inspiring locations like never seen before in Memphis. Get your tickets now to discover the music of “The Nutcracker” and More at Overton Chapel under the gentle glow of candlelight. \n🎁 Consider treating your friends and family to a Candlelight experience with our gift card! Check it out here 🎁 \nGeneral Info\n\n📍 Venue: Overton Chapel\n⏳ Duration: 60 minutes. Doors open 45 minutes before the show and close 5 minutes prior to the start. Late arrivals will not be permitted\n👤 Age requirement: 8 years old or older. Anyone under the age of 16 must be accompanied by an adult\n♿ Accessibility: This venue is ADA compliant\n🪑 Seating: Assigned on a first come first served basis in each zone\n\nTentative Program\n\nHoliday Medley – Various (“Hark the Herald Angels Sing”\, “The First Noël”\, “Deck the Halls”)\n“O Holy Night” – Adolphe Adam\n“Ma’oz Tzur” – Traditional Hanukkah Song\n“The Snow is Dancing” – Claude Debussy\n“The Seasons\, Op. 37a” – Pyotr Ilyich Tchaikovsky (I. January. “By the Hearth”\, XII. December. “Christmas”)\n“The Skaters’ Waltz\, Op. 183 (Les Patineurs)” – Émile Waldteufel\n“Greensleeves (What Child is This)” – Traditional\nHoliday Medley (“Joy to the World”\, “Angels We Have Heard on High”\, “Away in a Manger”)\n“The Nutcracker\, Op. 71” – Pyotr Ilyich Tchaikovsky (Miniature Overture\, Act I\, Scene II: No. 2\, “March”\, Act II: No. 12d\, Divertissement. “Trepak\, Russian Dance”\, Act II: No. 13\, “Waltz of the Flowers”\, Act II: No. 14c\, Pas de Deux. Variation II\, “Dance of the Sugar Plum Fairy”)\n\nPerformers\n🎻 Listeso String Quartet \nBook a Private Event\nLooking to create an unforgettable experience for your wedding\, or special occasion? We offer private event bookings with customized programs tailored to your needs. \nGet a quote
URL:https://www.listeso.com/concert/2025-12-20-overton-chapel-candlelight-holiday-special-featuring-the-nutcracker-and-more/
LOCATION:Overton Chapel\, Memphis\, TN\, United States
CATEGORIES:Memphis, TN
ATTACH;FMTTYPE=image/jpeg:https://www.listeso.com/wp-content/uploads/2025/11/45a49c32-4128-11f0-b701-16b44ec1c52f-0HLcUi.jpg
END:VEVENT
BEGIN:VEVENT
DTSTART;TZID=America/Chicago:20251221T183000
DTEND;TZID=America/Chicago:20251221T193000
DTSTAMP:20260421T173142
CREATED:20251108T124510Z
LAST-MODIFIED:20251108T124510Z
UID:10006711-1766341800-1766345400@www.listeso.com
SUMMARY:Candlelight: Coldplay & Imagine Dragons
DESCRIPTION:Overview\nCandlelight concerts bring the magic of a live\, multi-sensory musical experience to awe-inspiring locations like never seen before in Memphis. Get your tickets now to discover the music of Coldplay on Strings at Memphis Brooks Museum of Art under the gentle glow of candlelight. \nGeneral Info\n\n📍 Venue: Memphis Brooks Museum of Art\n⏳ Duration: 60 minutes. Doors open 45 minutes before the show and close 5 minutes prior to the start. Late arrivals will not be permitted\n👤 Age requirement: 8 years old or older. Anyone under the age of 16 must be accompanied by an adult\n♿ Accessibility: This venue is ADA compliant\n🪑 Seating: Seating is assigned on a first come first served basis in each zone\n\nTentative Program\n\nColdplay – Clocks\nColdplay – Something Just Like This\nImagine Dragons – Radioactive\nColdplay – Adventure of a Lifetime\nColdplay – Fix You\nImagine Dragons – Natural\nImagine Dragons – Next to Me\nColdplay – The Scientist\nImagine Dragons – Follow You\nImagine Dragons – Bad Liar\nColdplay – Viva la Vida\nImagine Dragons – Believer\nColdplay – Sky Full of Stars\n\nPerformers\n🎻 Beale Street Quartet \nBook a Private Event\nLooking to create an unforgettable experience for your wedding\, or special occasion? We offer private event bookings with customized programs tailored to your needs. \nGet a quote
URL:https://www.listeso.com/concert/2025-12-21-memphis-brooks-museum-of-art-candlelight-coldplay-imagine-dragons/
LOCATION:Memphis Brooks Museum of Art\, Memphis\, TN\, United States
CATEGORIES:Memphis, TN
ATTACH;FMTTYPE=image/jpeg:https://www.listeso.com/wp-content/uploads/2025/10/53777c04-1157-11f0-bc63-0ee885ccc32f-5sEo1f.jpg
END:VEVENT
BEGIN:VEVENT
DTSTART;TZID=America/Chicago:20251221T183000
DTEND;TZID=America/Chicago:20251221T193000
DTSTAMP:20260421T173142
CREATED:20251109T120324Z
LAST-MODIFIED:20251109T120324Z
UID:10006714-1766341800-1766345400@www.listeso.com
SUMMARY:Candlelight: Coldplay & Imagine Dragons
DESCRIPTION:Overview\nCandlelight concerts bring the magic of a live\, multi-sensory musical experience to awe-inspiring locations like never seen before in Memphis. Get your tickets now to discover the music of Coldplay on Strings at Memphis Brooks Museum of Art under the gentle glow of candlelight. \nGeneral Info\n\n📍 Venue: Memphis Brooks Museum of Art\n⏳ Duration: 60 minutes. Doors open 45 minutes before the show and close 5 minutes prior to the start. Late arrivals will not be permitted\n👤 Age requirement: 8 years old or older. Anyone under the age of 16 must be accompanied by an adult\n♿ Accessibility: This venue is ADA compliant\n🪑 Seating: Seating is assigned on a first come first served basis in each zone\n\nTentative Program\n\nColdplay – Clocks\nColdplay – Something Just Like This\nImagine Dragons – Radioactive\nColdplay – Adventure of a Lifetime\nColdplay – Fix You\nImagine Dragons – Natural\nImagine Dragons – Next to Me\nColdplay – The Scientist\nImagine Dragons – Follow You\nImagine Dragons – Bad Liar\nColdplay – Viva la Vida\nImagine Dragons – Believer\nColdplay – Sky Full of Stars\n\nPerformers\n🎻 Beale Street Quartet \nBook a Private Event\nLooking to create an unforgettable experience for your wedding\, or special occasion? We offer private event bookings with customized programs tailored to your needs. \nGet a quote
URL:https://www.listeso.com/concert/2025-12-21-memphis-brooks-museum-of-art-candlelight-coldplay-imagine-dragons-2/
LOCATION:Memphis Brooks Museum of Art\, Memphis\, TN\, United States
CATEGORIES:Memphis, TN
ATTACH;FMTTYPE=image/jpeg:https://www.listeso.com/wp-content/uploads/2025/10/53777c04-1157-11f0-bc63-0ee885ccc32f-5sEo1f.jpg
END:VEVENT
BEGIN:VEVENT
DTSTART;TZID=America/Chicago:20251221T204500
DTEND;TZID=America/Chicago:20251221T214500
DTSTAMP:20260421T173142
CREATED:20251108T124456Z
LAST-MODIFIED:20251108T124456Z
UID:10006710-1766349900-1766353500@www.listeso.com
SUMMARY:Candlelight: Christmas Carols on Strings
DESCRIPTION:Overview\nCandlelight concerts bring the magic of a live\, multi-sensory musical experience to awe-inspiring locations like never seen before in Memphis. Get your tickets now to discover the music of Christmas Carols on Strings at Memphis Brooks Museum of Art under the gentle glow of candlelight. \nGeneral Info\n\n📍 Venue: Memphis Brooks Museum of Art\n⏳ Duration: 60 minutes. Doors open 45 minutes before the show and close 5 minutes prior to the start. Late arrivals will not be permitted\n👤 Age requirement: 8 years old or older. Anyone under the age of 16 must be accompanied by an adult\n♿ Accessibility: this venue is ADA compliant\n🪑 Seating: Seating is assigned on a first come first served basis in each zone\n\nTentative Program\n\n12 Days of Christmas\nAngels from the Realms of Glory\nAngels We Have Heard On High\nAway in a Manger\nCarol of the Bells\nDeck the Halls\nDing Dong! Merrily on High\nDo You Hear What I Hear\nGod Rest Ye Merry Gentlemen\nGood King Wenceslas\nGreensleeves (What Child Is This)\nHark! The Herald Angels Sing\nIn the Bleak Mid-Winter\nJoy to the World\nO Christmas Tree (O Tannenbaum)\nO Come All Ye Faithful\nO Holy Night\nO Little Town of Bethlehem\nSilent Night\nThe First Noël\n\nPerformers\n🎻 Listeso String Quartet \nBook a Private Event\nLooking to create an unforgettable experience for your wedding\, or special occasion? We offer private event bookings with customized programs tailored to your needs. \nGet a quote
URL:https://www.listeso.com/concert/2025-12-21-memphis-brooks-museum-of-art-christmas-carols-on-strings/
LOCATION:Memphis Brooks Museum of Art\, Memphis\, TN\, United States
CATEGORIES:Memphis, TN
ATTACH;FMTTYPE=image/jpeg:https://www.listeso.com/wp-content/uploads/2025/10/52a3d270-3f95-11f0-8e93-ca060e10daed-hFlre5.jpg
END:VEVENT
BEGIN:VEVENT
DTSTART;TZID=America/Chicago:20251227T183000
DTEND;TZID=America/Chicago:20251227T193000
DTSTAMP:20260421T173142
CREATED:20251109T120352Z
LAST-MODIFIED:20251109T120352Z
UID:10006716-1766860200-1766863800@www.listeso.com
SUMMARY:Candlelight: Tribute to Lauryn Hill
DESCRIPTION:Overview\nCandlelight concerts bring the magic of a live\, multi-sensory musical experience to awe-inspiring locations like never seen before in Memphis. Get your tickets now to discover the music of Lauryn Hill at Memphis Brooks Museum of Art under the gentle glow of candlelight. \nGeneral Info\n\n📍 Venue: Memphis Brooks Museum of Art\n⏳ Duration: 60 minutes. Doors open 45 minutes before the show and close 5 minutes prior to the start. Late arrivals will not be permitted\n👤 Age requirement: 8 years old or older. Anyone under the age of 16 must be accompanied by an adult\n♿ Accessibility: This venue is ADA compliant\n🪑 Seating: Seating is assigned on a first come first served basis in each zone\n\nTentative Program\n\nKilling Me Softly With His Song – Fugees\nReady or Not – Fugees\nFu-Gee-La – Fugees\nDoo Wop (That Thing) – Lauryn Hill\nEx-Factor – Lauryn Hill\nCan’t Take My Eyes Off of You – Lauryn Hill\nNothing Even Matters – Lauryn Hill\nTo Zion – Lauryn Hill\nEverything Is Everything – Lauryn Hill\nPerfect Gentleman – Wyclef Jean\nGone Till November – Wyclef Jean\n\nPerformers\n🎻 Beale Street Quartet \nBook a Private Event\nLooking to create an unforgettable experience for your wedding\, or special occasion? We offer private event bookings with customized programs tailored to your needs. \nGet a quote
URL:https://www.listeso.com/concert/2025-12-27-memphis-brooks-museum-of-art-tribute-to-lauryn-hill/
LOCATION:Memphis Brooks Museum of Art\, Memphis\, TN\, United States
CATEGORIES:Memphis, TN
ATTACH;FMTTYPE=image/jpeg:https://www.listeso.com/wp-content/uploads/2025/10/1ac8ddee-1463-11f0-ba9a-22b01e61c52d-S64eV5.jpg
END:VEVENT
BEGIN:VEVENT
DTSTART;TZID=America/Chicago:20251227T204500
DTEND;TZID=America/Chicago:20251227T214500
DTSTAMP:20260421T173142
CREATED:20251109T120338Z
LAST-MODIFIED:20251109T120338Z
UID:10006715-1766868300-1766871900@www.listeso.com
SUMMARY:Candlelight: Neo-Soul Favorites ft. Songs by Prince\, Childish Gambino\, & More
DESCRIPTION:Overview\nCandlelight concerts bring the magic of a live\, multi-sensory musical experience to awe-inspiring locations like never seen before in Memphis. Get your tickets now to discover the music of Neo-Soul Favorites ft. Songs by Prince\, Childish Gambino\, & More at Memphis Brooks Museum of Art under the gentle glow of candlelight. \nGeneral Info\n\n📍 Venue: Memphis Brooks Museum of Art\n⏳ Duration: 60 minutes. Doors open 45 minutes before the show and close 5 minutes prior to the start. Late arrivals will not be permitted\n👤 Age requirement: 8 years old or older. Anyone under the age of 16 must be accompanied by an adult\n♿ Accessibility: this venue is ADA compliant\n🪑 Seating: Seating is assigned on a first come first served basis in each zone\n\nTentative Program\n\nPrince – Purple Rain\nLauryn Hill – Ex-Factor\nAlicia Keys – You Don’t Know My Name\nSade – Smooth Operator\nD’Angelo – Untitled (How Does It Feel)\nChildish Gambino – Redbone\nFrank Ocean – Thinkin Bout You\nBoyz II Men – The End of the Road\nMiguel – Adorn\nSZA – Good Days\nH.E.R. – The Best Part\nErykah Badu – Tyrone\nSolange – Don’t Touch My Hair\n\nPerformers\n🎻 Beale Street Quartet \nBook a Private Event\nLooking to create an unforgettable experience for your wedding\, or special occasion? We offer private event bookings with customized programs tailored to your needs. \nGet a quote
URL:https://www.listeso.com/concert/2025-12-27-memphis-brooks-museum-of-art-candlelight-neo-soul-favorites/
LOCATION:Memphis Brooks Museum of Art\, Memphis\, TN\, United States
CATEGORIES:Memphis, TN
ATTACH;FMTTYPE=image/jpeg:https://www.listeso.com/wp-content/uploads/2025/10/545c11c8-146a-11f0-849f-5e20d3b04074-w9BUXK.jpg
END:VEVENT
END:VCALENDAR