BEGIN:VCALENDAR
VERSION:2.0
PRODID:-//Listeso Music Group - A Boutique String Quartet Agency - ECPv6.15.20//NONSGML v1.0//EN
CALSCALE:GREGORIAN
METHOD:PUBLISH
X-ORIGINAL-URL:https://www.listeso.com
X-WR-CALDESC:Events for Listeso Music Group - A Boutique String Quartet Agency
REFRESH-INTERVAL;VALUE=DURATION:PT1H
X-Robots-Tag:noindex
X-PUBLISHED-TTL:PT1H
BEGIN:VTIMEZONE
TZID:America/Chicago
BEGIN:DAYLIGHT
TZOFFSETFROM:-0600
TZOFFSETTO:-0500
TZNAME:CDT
DTSTART:20250309T080000
END:DAYLIGHT
BEGIN:STANDARD
TZOFFSETFROM:-0500
TZOFFSETTO:-0600
TZNAME:CST
DTSTART:20251102T070000
END:STANDARD
BEGIN:DAYLIGHT
TZOFFSETFROM:-0600
TZOFFSETTO:-0500
TZNAME:CDT
DTSTART:20260308T080000
END:DAYLIGHT
BEGIN:STANDARD
TZOFFSETFROM:-0500
TZOFFSETTO:-0600
TZNAME:CST
DTSTART:20261101T070000
END:STANDARD
BEGIN:DAYLIGHT
TZOFFSETFROM:-0600
TZOFFSETTO:-0500
TZNAME:CDT
DTSTART:20270314T080000
END:DAYLIGHT
BEGIN:STANDARD
TZOFFSETFROM:-0500
TZOFFSETTO:-0600
TZNAME:CST
DTSTART:20271107T070000
END:STANDARD
END:VTIMEZONE
BEGIN:VEVENT
DTSTART;TZID=America/Chicago:20260117T183000
DTEND;TZID=America/Chicago:20260117T193000
DTSTAMP:20260421T201325
CREATED:20251119T122729Z
LAST-MODIFIED:20251119T122729Z
UID:10007207-1768674600-1768678200@www.listeso.com
SUMMARY:Candlelight: The Best of Hans Zimmer
DESCRIPTION:Overview\nCandlelight concerts bring the magic of a live\, multi-sensory musical experience to awe-inspiring locations like never seen before in Mississippi Gulf Coast. Get your tickets now to discover the music of Hans Zimmer at Trent Lott Theater – The Mary C. O’Keefe Cultural Arts Center under the gentle glow of candlelight. \nGeneral Info\n\n📍 Venue: Trent Lott Theater – The Mary C. O’Keefe Cultural Arts Center\n⏳ Duration: 60 minutes. Doors open 45 minutes before the show and close 5 minutes prior to the start. Late arrivals will not be permitted\n👤 Age requirement: 8 years old or older. Anyone under the age of 16 must be accompanied by an adult\n♿ Accessibility: This venue is ADA compliant\n🪑 Seating: Seating is assigned on a first come first served basis in each zone\n\nTentative Program\n\nTime – Inception\nThis Land – The Lion King\nZooster’s Breakout – Madagascar\nSupermarine – Dunkirk\nHonor – The Pacific\nA Dark Knight – The Dark Knight\nWonder Woman Suite\nGladiator Suite\nCornfield Chase – Interstellar\nDune Suite\nDiscombobulate – Sherlock Holmes\nPirates of the Caribbean Suite\n\nPerformers\n🎻 Listeso String Quartet \nBook a Private Event\nLooking to create an unforgettable experience for your wedding\, or special occasion? We offer private event bookings with customized programs tailored to your needs. \nGet a quote
URL:https://www.listeso.com/concert/2026-01-17-trent-lott-theater-the-best-of-hans-zimmer/
LOCATION:Trent Lott Theater – The Mary C. O’Keefe Cultural Arts Center\, Mississippi Gulf Coast\, MS\, United States
CATEGORIES:Mississippi Gulf Coast, MS
ATTACH;FMTTYPE=image/jpeg:https://www.listeso.com/wp-content/uploads/2025/10/6347514e-1397-11f0-bb78-565b7aecbc77-TdcGb2.jpg
END:VEVENT
BEGIN:VEVENT
DTSTART;TZID=America/Chicago:20260117T203000
DTEND;TZID=America/Chicago:20260117T213000
DTSTAMP:20260421T201325
CREATED:20251119T122716Z
LAST-MODIFIED:20251119T122716Z
UID:10007206-1768681800-1768685400@www.listeso.com
SUMMARY:Candlelight: Queen vs. ABBA
DESCRIPTION:Overview\nCandlelight concerts bring the magic of a live\, multi-sensory musical experience to awe-inspiring locations like never seen before in Mississippi Gulf Coast. Get your tickets now to discover the music of Queen vs. ABBA at Trent Lott Theater – The Mary C. O’Keefe Cultural Arts Center under the gentle glow of candlelight. \nGeneral Info\n\n📍 Venue: Trent Lott Theater – The Mary C. O’Keefe Cultural Arts Center\n⏳ Duration: 60 minutes. Doors open 45 minutes before the show and close 5 minutes prior to the start. Late arrivals will not be permitted\n👤 Age requirement: 8 years old or older. Anyone under the age of 16 must be accompanied by an adult\n♿ Accessibility: This venue is ADA compliant\n🪑 Seating: Seating is assigned on a first come first served basis in each zone\n\nTentative Program\n\nDancing Queen – ABBA\nSOS – ABBA\nMoney\, Money\, Money – ABBA\nBohemian Rhapsody – Queen\nI Want to Break Free – Queen\nWaterloo – ABBA\nSuper Trouper – ABBA\nMamma Mia – ABBA\nDon’t Stop Me Now – Queen\nWe Will Rock You – Queen\nWe Are the Champions – Queen\n\nPerformers\n🎻 Listeso String Quartet \nBook a Private Event\nLooking to create an unforgettable experience for your wedding\, or special occasion? We offer private event bookings with customized programs tailored to your needs. \nGet a quote
URL:https://www.listeso.com/concert/2026-01-17-trent-lott-theater-the-mary-c-okeefe-cultural-arts-center-queen-vs-abba/
LOCATION:Trent Lott Theater – The Mary C. O’Keefe Cultural Arts Center\, Mississippi Gulf Coast\, MS\, United States
CATEGORIES:Mississippi Gulf Coast, MS
ATTACH;FMTTYPE=image/jpeg:https://www.listeso.com/wp-content/uploads/2025/10/1db12bf6-361e-11f0-b575-9281319b185c-m0OJ9r.jpg
END:VEVENT
END:VCALENDAR