BEGIN:VCALENDAR
VERSION:2.0
PRODID:-//Listeso Music Group - A Boutique String Quartet Agency - ECPv6.15.20//NONSGML v1.0//EN
CALSCALE:GREGORIAN
METHOD:PUBLISH
X-ORIGINAL-URL:https://www.listeso.com
X-WR-CALDESC:Events for Listeso Music Group - A Boutique String Quartet Agency
REFRESH-INTERVAL;VALUE=DURATION:PT1H
X-Robots-Tag:noindex
X-PUBLISHED-TTL:PT1H
BEGIN:VTIMEZONE
TZID:America/Chicago
BEGIN:DAYLIGHT
TZOFFSETFROM:-0600
TZOFFSETTO:-0500
TZNAME:CDT
DTSTART:20250309T080000
END:DAYLIGHT
BEGIN:STANDARD
TZOFFSETFROM:-0500
TZOFFSETTO:-0600
TZNAME:CST
DTSTART:20251102T070000
END:STANDARD
BEGIN:DAYLIGHT
TZOFFSETFROM:-0600
TZOFFSETTO:-0500
TZNAME:CDT
DTSTART:20260308T080000
END:DAYLIGHT
BEGIN:STANDARD
TZOFFSETFROM:-0500
TZOFFSETTO:-0600
TZNAME:CST
DTSTART:20261101T070000
END:STANDARD
BEGIN:DAYLIGHT
TZOFFSETFROM:-0600
TZOFFSETTO:-0500
TZNAME:CDT
DTSTART:20270314T080000
END:DAYLIGHT
BEGIN:STANDARD
TZOFFSETFROM:-0500
TZOFFSETTO:-0600
TZNAME:CST
DTSTART:20271107T070000
END:STANDARD
END:VTIMEZONE
BEGIN:VEVENT
DTSTART;TZID=America/Chicago:20260320T183000
DTEND;TZID=America/Chicago:20260320T193000
DTSTAMP:20260421T164856
CREATED:20260224T123130Z
LAST-MODIFIED:20260224T123130Z
UID:10008198-1774031400-1774035000@www.listeso.com
SUMMARY:Candlelight: 90s Unplugged
DESCRIPTION:Overview\nCandlelight concerts bring the magic of a live\, multi-sensory musical experience to awe-inspiring locations like never seen before in Mississippi Gulf Coast. Get your tickets now to discover the music of 90s Unplugged at Trent Lott Theater – The Mary C. O’Keefe Cultural Arts Center under the gentle glow of candlelight. \nGeneral Info\n\n📍 Venue: Trent Lott Theater – The Mary C. O’Keefe Cultural Arts Center\n⏳ Duration: 60 minutes. Doors open 45 minutes before the show. No entry once it starts.\n👤 Age requirement: 8 years old or older. Anyone under the age of 16 must be accompanied by an adult\n♿ Accessibility: ADA compliant\n🪑 Seating: Seating is assigned on a first come first served basis in each zone\n\nTentative Program\n\nEverlong – Foo Fighters\nDon’t Speak – No Doubt\nZombie – The Cranberries\nIronic – Alanis Morrissette\nWonderwall – Oasis\nHigh and Dry – Radiohead\nEnter Sandman – Metallica\nUnder the Bridge – Red Hot Chili Peppers\nFly Away – Lenny Kravitz\nHallelujah – Jeff Buckley\nTears in Heaven – Eric Clapton\nSmells Like Teen Spirit – Nirvana\n\nPerformers\n🎻 Listeso String Quartet \nBook a Private Event\nLooking to create an unforgettable experience for your wedding\, or special occasion? We offer private event bookings with customized programs tailored to your needs. \nGet a quote
URL:https://www.listeso.com/concert/2026-03-20-trent-lott-theater-the-mary-c-okeefe-cultural-arts-center-90s-unplugged/
LOCATION:Trent Lott Theater – The Mary C. O’Keefe Cultural Arts Center\, Mississippi Gulf Coast\, MS\, United States
CATEGORIES:Mississippi Gulf Coast, MS
ATTACH;FMTTYPE=image/jpeg:https://www.listeso.com/wp-content/uploads/2025/10/3f0b6124-0f93-11f0-b149-6a3ffe809068-RVcTKs.jpg
END:VEVENT
BEGIN:VEVENT
DTSTART;TZID=America/Chicago:20260320T203000
DTEND;TZID=America/Chicago:20260320T213000
DTSTAMP:20260421T164856
CREATED:20260224T123109Z
LAST-MODIFIED:20260224T123109Z
UID:10008197-1774038600-1774042200@www.listeso.com
SUMMARY:Candlelight: Tribute to Fleetwood Mac
DESCRIPTION:Overview\nCandlelight concerts bring the magic of a live\, multi-sensory musical experience to awe-inspiring locations like never seen before in Mississippi Gulf Coast. Get your tickets now to discover the music of Fleetwood Mac at Trent Lott Theater – The Mary C. O’Keefe Cultural Arts Center under the gentle glow of candlelight. \nGeneral Info\n\n⏳ Duration: 60 minutes. Doors open 45 minutes before the show and close 5 minutes prior to the start. Late arrivals will not be permitted\n👤 Age requirement: 8 years old or older. Anyone under the age of 16 must be accompanied by an adult\n♿ Accessibility: This venue is ADA compliant\n🪑 Seating: Seating is assigned on a first come first served basis in each zone\n\nTentative Program\n\nEverywhere\nGypsy\nYou Make Loving Fun\nNever Going Back Again\nDon’t Stop\nGold Dust Woman\nGo Your Own Way\nLandslide\nLittle Lies\nSongbird\nRhiannon\nThe Chain\n\nPerformers\n🎻 Listeso String Quartet \nBook a Private Event\nLooking to create an unforgettable experience for your wedding\, or special occasion? We offer private event bookings with customized programs tailored to your needs. \nGet a quote
URL:https://www.listeso.com/concert/2026-03-20-trent-lott-theater-the-mary-c-okeefe-cultural-arts-center-tribute-to-fleetwood-mac/
LOCATION:Trent Lott Theater – The Mary C. O’Keefe Cultural Arts Center\, Mississippi Gulf Coast\, MS\, United States
CATEGORIES:Mississippi Gulf Coast, MS
ATTACH;FMTTYPE=image/jpeg:https://www.listeso.com/wp-content/uploads/2025/10/5c2e82a6-1f77-11f0-9fc3-b6302f1836c4-3Gs8kb.jpg
END:VEVENT
END:VCALENDAR