BEGIN:VCALENDAR
VERSION:2.0
PRODID:-//Listeso Music Group - A Boutique String Quartet Agency - ECPv6.15.20//NONSGML v1.0//EN
CALSCALE:GREGORIAN
METHOD:PUBLISH
X-WR-CALNAME:Listeso Music Group - A Boutique String Quartet Agency
X-ORIGINAL-URL:https://www.listeso.com
X-WR-CALDESC:Events for Listeso Music Group - A Boutique String Quartet Agency
REFRESH-INTERVAL;VALUE=DURATION:PT1H
X-Robots-Tag:noindex
X-PUBLISHED-TTL:PT1H
BEGIN:VTIMEZONE
TZID:America/New_York
BEGIN:DAYLIGHT
TZOFFSETFROM:-0500
TZOFFSETTO:-0400
TZNAME:EDT
DTSTART:20250309T070000
END:DAYLIGHT
BEGIN:STANDARD
TZOFFSETFROM:-0400
TZOFFSETTO:-0500
TZNAME:EST
DTSTART:20251102T060000
END:STANDARD
BEGIN:DAYLIGHT
TZOFFSETFROM:-0500
TZOFFSETTO:-0400
TZNAME:EDT
DTSTART:20260308T070000
END:DAYLIGHT
BEGIN:STANDARD
TZOFFSETFROM:-0400
TZOFFSETTO:-0500
TZNAME:EST
DTSTART:20261101T060000
END:STANDARD
BEGIN:DAYLIGHT
TZOFFSETFROM:-0500
TZOFFSETTO:-0400
TZNAME:EDT
DTSTART:20270314T070000
END:DAYLIGHT
BEGIN:STANDARD
TZOFFSETFROM:-0400
TZOFFSETTO:-0500
TZNAME:EST
DTSTART:20271107T060000
END:STANDARD
END:VTIMEZONE
BEGIN:VEVENT
DTSTART;TZID=America/New_York:20260131T203000
DTEND;TZID=America/New_York:20260131T213000
DTSTAMP:20260421T081101
CREATED:20251203T121023Z
LAST-MODIFIED:20251203T121023Z
UID:10007701-1769891400-1769895000@www.listeso.com
SUMMARY:Candlelight: Tribute to Adele
DESCRIPTION:Overview\nCandlelight concerts bring the magic of a live\, multi-sensory musical experience to awe-inspiring locations like never seen before in New York. Get your tickets now to discover the music of Adele at Church of the Heavenly Rest under the gentle glow of candlelight. \nGeneral Info\n\n📍 Venue: Church of the Heavenly Rest\n⏳ Duration: 60 minutes. Doors open 60 minutes before the show. No entry once it starts.\n👤 Age requirement: 8 years old or older. Anyone under the age of 16 must be accompanied by an adult\n♿ Accessibility: This venue is ADA compliant\n🪑 Seating: Seating is assigned on a first come first served basis in each zone\n\nTentative Program\n\n“Hello”\n“Rumour Has It”\n“Make You Feel My Love”\n“Water Under the Bridge”\n“Oh My God”\n“Someone Like You”\n“Send My Love (to Your New Lover)”\n“Chasing Pavements”\n“Skyfall”\n“When We Were Young”\n“Set Fire to the Rain”\n“Easy On Me”\n“Rolling in the Deep”\n\nPerformers\n🎻 Highline String Quartet \nBook a Private Event\nLooking to create an unforgettable experience for your wedding\, or special occasion? We offer private event bookings with customized programs tailored to your needs. \nGet a quote
URL:https://www.listeso.com/concert/2026-01-31-church-of-the-heavenly-rest-tribute-to-adele/
LOCATION:Church of the Heavenly Rest\, New York\, NY\, United States
CATEGORIES:New York, NY
ATTACH;FMTTYPE=image/jpeg:https://www.listeso.com/wp-content/uploads/2025/09/bf21e71a-2128-11f0-8510-ca6ec07e6a29-UZR0pD.jpg
END:VEVENT
BEGIN:VEVENT
DTSTART;TZID=America/New_York:20260226T183000
DTEND;TZID=America/New_York:20260226T193000
DTSTAMP:20260421T081101
CREATED:20260224T123816Z
LAST-MODIFIED:20260224T123816Z
UID:10008222-1772130600-1772134200@www.listeso.com
SUMMARY:Candlelight: Tribute to Taylor Swift
DESCRIPTION:Overview\nCandlelight concerts bring the magic of a live\, multi-sensory musical experience to awe-inspiring locations never before used for this purpose in New York. Get your tickets now to discover the music of Taylor Swift in St Ann & the Holy Trinity Church under the gentle glow of candlelight. \nGeneral Info\n\n⏳ Duration: 65 minutes. Doors open 45 minutes before the show. No entry once it starts.\n👤 Age requirement: 8 years old or older. Anyone under the age of 16 must be accompanied by an adult\n♿ Accessibility: This venue is ADA compliant\n🪑 Seating: Seating is assigned on a first come first served basis in each zone. Souvenir Seat Cushions are available for pre-sale\, as well as for purchase at the event (subject to availability)\, and will be yours to keep.\n\nTentative Program\n\nLove Story\nRed Medley\nAnti-Hero\nThe Fate of Ophelia\nReputation Medley\nCruel Summer\nFolklore Medley\nShake It Off\nYou Belong With Me\n1989 Medley\n\nPerformers\n🎻 Highline String Quartet \nBook a Private Event\nLooking to create an unforgettable experience for your wedding\, or special occasion? We offer private event bookings with customized programs tailored to your needs. \nGet a quote
URL:https://www.listeso.com/concert/2026-02-26-st-ann-the-holy-trinity-church-candlelight-tribute-to-taylor-swift/
LOCATION:St. Ann & the Holy Trinity Church\, New York\, NY\, United States
CATEGORIES:New York, NY
ATTACH;FMTTYPE=image/jpeg:https://www.listeso.com/wp-content/uploads/2025/10/ee89a0dc-1aa8-11f0-87b3-ba3a3d0c034e-fP0xsQ.jpg
END:VEVENT
BEGIN:VEVENT
DTSTART;TZID=America/New_York:20260226T204500
DTEND;TZID=America/New_York:20260226T214500
DTSTAMP:20260421T081101
CREATED:20260224T123757Z
LAST-MODIFIED:20260224T123757Z
UID:10008221-1772138700-1772142300@www.listeso.com
SUMMARY:Candlelight: Coldplay & Imagine Dragons
DESCRIPTION:Overview\nCandlelight concerts bring the magic of a live\, multi-sensory musical experience to awe-inspiring locations like never seen before in New York. Get your tickets now to discover the music of Coldplay & Imagine Dragons at St. Ann & the Holy Trinity Church under the gentle glow of candlelight. \nGeneral Info\n\n📍 Venue: St. Ann & the Holy Trinity Church\n⏳ Duration: 60 minutes. Doors open 45 minutes before the show. No entry once it starts.\n👤 Age requirement: 8 years old or older. Anyone under the age of 16 must be accompanied by an adult\n♿ Accessibility: This venue is ADA compliant\n🪑 Seating: Seating is assigned on a first come first served basis in each zone\n\nTentative Program\n\nColdplay – Clocks\nImagine Dragons – Radioactive\nColdplay – Adventure of a Lifetime\nColdplay – Fix You\nImagine Dragons – Eyes Closed\nImagine Dragons – Nice to Meet You\nColdplay – The Scientist\nColdplay – feelslikeimfallinginlove\nImagine Dragons – Follow You\nImagine Dragons – Bad Liar\nImagine Dragons – Believer\nColdplay – Sky Full of Stars\nColdplay – Viva la Vida\n\nPerformers\n🎻 Highline String Quartet \nBook a Private Event\nLooking to create an unforgettable experience for your wedding\, or special occasion? We offer private event bookings with customized programs tailored to your needs. \nGet a quote
URL:https://www.listeso.com/concert/2026-02-26-st-ann-and-the-holy-trinity-church-coldplay-imagine-dragons/
LOCATION:St. Ann & the Holy Trinity Church\, New York\, NY\, United States
CATEGORIES:New York, NY
ATTACH;FMTTYPE=image/jpeg:https://www.listeso.com/wp-content/uploads/2025/10/53777c04-1157-11f0-bc63-0ee885ccc32f-5sEo1f.jpg
END:VEVENT
BEGIN:VEVENT
DTSTART;TZID=America/New_York:20260227T183000
DTEND;TZID=America/New_York:20260227T193000
DTSTAMP:20260421T081101
CREATED:20260224T123828Z
LAST-MODIFIED:20260224T123828Z
UID:10008223-1772217000-1772220600@www.listeso.com
SUMMARY:Candlelight: Tribute to Taylor Swift
DESCRIPTION:Overview\nCandlelight concerts bring the magic of a live\, multi-sensory musical experience to awe-inspiring locations never before used for this purpose in New York. Get your tickets now to discover the music of Taylor Swift in St Ann & the Holy Trinity Church under the gentle glow of candlelight. \nGeneral Info\n\n⏳ Duration: 65 minutes. Doors open 45 minutes before the show. No entry once it starts.\n👤 Age requirement: 8 years old or older. Anyone under the age of 16 must be accompanied by an adult\n♿ Accessibility: this venue is ADA compliant\n🪑 Seating: Seating is assigned on a first come first served basis in each zone. Souvenir Seat Cushions are available for pre-sale\, as well as for purchase at the event (subject to availability)\, and will be yours to keep.\n\nTentative Program\n\nLove Story\nRed Medley\nAnti-Hero\nThe Fate of Ophelia\nReputation Medley\nCruel Summer\nFolklore Medley\nShake It Off\nYou Belong With Me\n1989 Medley\n\nPerformers\n🎻 Highline String Quartet \nBook a Private Event\nLooking to create an unforgettable experience for your wedding\, or special occasion? We offer private event bookings with customized programs tailored to your needs. \nGet a quote
URL:https://www.listeso.com/concert/2026-02-27-st-ann-the-holy-trinity-church-candlelight-tribute-to-taylor-swift/
LOCATION:St. Ann & the Holy Trinity Church\, New York\, NY\, United States
CATEGORIES:New York, NY
ATTACH;FMTTYPE=image/jpeg:https://www.listeso.com/wp-content/uploads/2025/10/ee89a0dc-1aa8-11f0-87b3-ba3a3d0c034e-fP0xsQ.jpg
END:VEVENT
BEGIN:VEVENT
DTSTART;TZID=America/New_York:20260228T183000
DTEND;TZID=America/New_York:20260228T193000
DTSTAMP:20260421T081101
CREATED:20260224T123841Z
LAST-MODIFIED:20260224T123841Z
UID:10008224-1772303400-1772307000@www.listeso.com
SUMMARY:Candlelight: Ed Sheeran Meets Coldplay
DESCRIPTION:Overview\nCandlelight concerts bring the magic of a live\, multi-sensory musical experience to awe-inspiring locations like never seen before in New York. Experience the music of Ed Sheeran and Coldplay at St. Ann & the Holy Trinity Church under the gentle glow of candlelight. \nGeneral Info\n\n📍 Venue: St. Ann & the Holy Trinity Church\n⏳ Duration: 60 minutes. Doors open 45 minutes before the show. No entry once it starts.\n👤 Age requirement: 8 years old or older. Anyone under the age of 16 must be accompanied by an adult\n♿ Accessibility: This venue is ADA compliant\n🪑 Seating: Seating is assigned on a first come first served basis in each zone\n\nTentative Program\n\nColdplay – Clocks\nColdplay – Something Just Like This\nEd Sheeran – Bad Habits\nColdplay – Adventure of a Lifetime\nColdplay – Fix You\nEd Sheeran – Photograph\nColdplay – The Scientist\nEd Sheeran – Shivers\nEd Sheeran – Perfect\nColdplay – Viva la Vida\nEd Sheeran – Give Me Love\nColdplay – Sky Full of Stars\n\nPerformers\n🎻 Highline String Quartet \nBook a Private Event\nLooking to create an unforgettable experience for your wedding\, or special occasion? We offer private event bookings with customized programs tailored to your needs. \nGet a quote
URL:https://www.listeso.com/concert/2026-02-28-st-ann-and-the-holy-trinity-church-candlelight-ed-sheeran-meets-coldplay/
LOCATION:St. Ann & the Holy Trinity Church\, New York\, NY\, United States
CATEGORIES:New York, NY
ATTACH;FMTTYPE=image/jpeg:https://www.listeso.com/wp-content/uploads/2025/10/cef040e6-1f76-11f0-99d8-76e4fa916312-hbLTrz.jpg
END:VEVENT
END:VCALENDAR