BEGIN:VCALENDAR
VERSION:2.0
PRODID:-//Listeso Music Group - A Boutique String Quartet Agency - ECPv6.15.20//NONSGML v1.0//EN
CALSCALE:GREGORIAN
METHOD:PUBLISH
X-ORIGINAL-URL:https://www.listeso.com
X-WR-CALDESC:Events for Listeso Music Group - A Boutique String Quartet Agency
REFRESH-INTERVAL;VALUE=DURATION:PT1H
X-Robots-Tag:noindex
X-PUBLISHED-TTL:PT1H
BEGIN:VTIMEZONE
TZID:America/New_York
BEGIN:DAYLIGHT
TZOFFSETFROM:-0500
TZOFFSETTO:-0400
TZNAME:EDT
DTSTART:20240310T070000
END:DAYLIGHT
BEGIN:STANDARD
TZOFFSETFROM:-0400
TZOFFSETTO:-0500
TZNAME:EST
DTSTART:20241103T060000
END:STANDARD
BEGIN:DAYLIGHT
TZOFFSETFROM:-0500
TZOFFSETTO:-0400
TZNAME:EDT
DTSTART:20250309T070000
END:DAYLIGHT
BEGIN:STANDARD
TZOFFSETFROM:-0400
TZOFFSETTO:-0500
TZNAME:EST
DTSTART:20251102T060000
END:STANDARD
BEGIN:DAYLIGHT
TZOFFSETFROM:-0500
TZOFFSETTO:-0400
TZNAME:EDT
DTSTART:20260308T070000
END:DAYLIGHT
BEGIN:STANDARD
TZOFFSETFROM:-0400
TZOFFSETTO:-0500
TZNAME:EST
DTSTART:20261101T060000
END:STANDARD
END:VTIMEZONE
BEGIN:VEVENT
DTSTART;TZID=America/New_York:20251115T183000
DTEND;TZID=America/New_York:20251115T193000
DTSTAMP:20260421T151811
CREATED:20251006T142000Z
LAST-MODIFIED:20251006T142000Z
UID:10005324-1763231400-1763235000@www.listeso.com
SUMMARY:Candlelight: Tribute to Arijit Singh
DESCRIPTION:Overview\nCandlelight concerts bring the magic of a live\, multi-sensory musical experience to awe-inspiring locations like never seen before in New York. Get your tickets now to discover the music of Arijit Singh at The Sheen Center for Thought & Culture under the gentle glow of candlelight. \nGeneral Info\n\n📍 Venue: The Sheen Center for Thought & Culture\n⏳ Duration: 60 minutes. Doors open 60 minutes before the show and close 5 minutes prior to the start. Late arrivals will not be permitted\n👤 Age requirement: 8 years old or older. Anyone under the age of 16 must be accompanied by an adult\n♿ Accessibility: This venue is ADA compliant\n🪑 Seating: Seating is assigned on a first come first served basis in each zone\n\nTentative Program\n\nAe Dil Hai Mushkil Title Track – Ae Dil Hai Mushkil\nRaabta – Agent Vinod\nPhir Le Aya Dil – Barfi!\nSamjhawan – Humpty Sharma Ki Dulhania\nLaal Ishq – Goliyon Ki Raasleela Ram-Leela\nChaleya – Jawan\nNashe Si Chadh Gayi – Befikre\nIlahi – Yeh Jawaani Hai Deewani\nKabira – Yeh Jawaani Yeh Deewani\nAgar Tum Saath Ho – Tamasha\nTere Hawaale – Laal Singh Chaddha\nKesariya – Brahmastra\nTum Hi Ho – Aashiqui 2\n\nPerformers\n🎻 Highline String Quartet \nBook a Private Event\nLooking to create an unforgettable experience for your wedding\, or special occasion? We offer private event bookings with customized programs tailored to your needs. \nGet a quote
URL:https://www.listeso.com/concert/2025-11-15-the-sheen-center-for-thought-and-culture-tribute-to-arijit-singh/
LOCATION:The Sheen Center for Thought & Culture\, New York\, NY\, United States
CATEGORIES:New York, NY
ATTACH;FMTTYPE=image/jpeg:https://www.listeso.com/wp-content/uploads/2025/10/d6843e9e-5080-11f0-af0d-ea78372f5523-ObXYkD.jpg
END:VEVENT
BEGIN:VEVENT
DTSTART;TZID=America/New_York:20251115T183000
DTEND;TZID=America/New_York:20251115T193000
DTSTAMP:20260421T151811
CREATED:20251006T142014Z
LAST-MODIFIED:20251006T142014Z
UID:10005325-1763231400-1763235000@www.listeso.com
SUMMARY:Candlelight: Tribute to Lauryn Hill
DESCRIPTION:Overview\nCandlelight concerts bring the magic of a live\, multi-sensory musical experience to awe-inspiring locations like never seen before in New York. Get your tickets now to discover the music of Lauryn Hill at St. Ann & the Holy Trinity Church under the gentle glow of candlelight. \nGeneral Info\n\n📍 Venue: St. Ann & the Holy Trinity Church\n⏳ Duration: 60 minutes. Doors open 45 minutes before the show and close 5 minutes prior to the start. Late arrivals will not be permitted\n👤 Age requirement: 8 years old or older. Anyone under the age of 16 must be accompanied by an adult\n♿ Accessibility: this venue is ADA compliant\n🪑 Seating: Seating is assigned on a first come first served basis in each zone\n\nTentative Program\n\nKilling Me Softly With His Song – Fugees\nReady or Not – Fugees\nFu-Gee-La – Fugees\nDoo Wop (That Thing) – Lauryn Hill\nEx-Factor – Lauryn Hill\nCan’t Take My Eyes Off of You – Lauryn Hill\nNothing Even Matters – Lauryn Hill\nTo Zion – Lauryn Hill\nEverything Is Everything – Lauryn Hill\nPerfect Gentleman – Wyclef Jean\nGone Till November – Wyclef Jean\n\nPerformers\n🎻 Highline String Quartet \nBook a Private Event\nLooking to create an unforgettable experience for your wedding\, or special occasion? We offer private event bookings with customized programs tailored to your needs. \nGet a quote
URL:https://www.listeso.com/concert/2025-11-15-st-ann-and-the-holy-trinity-church-tribute-to-lauryn-hill/
LOCATION:St. Ann & the Holy Trinity Church\, New York\, NY\, United States
CATEGORIES:New York, NY
ATTACH;FMTTYPE=image/jpeg:https://www.listeso.com/wp-content/uploads/2025/10/1ac8ddee-1463-11f0-ba9a-22b01e61c52d-S64eV5.jpg
END:VEVENT
BEGIN:VEVENT
DTSTART;TZID=America/New_York:20251115T204500
DTEND;TZID=America/New_York:20251115T214500
DTSTAMP:20260421T151811
CREATED:20251006T141946Z
LAST-MODIFIED:20251006T141946Z
UID:10005323-1763239500-1763243100@www.listeso.com
SUMMARY:Candlelight: Tribute to Drake
DESCRIPTION:Overview\nCandlelight concerts bring the magic of a live\, multi-sensory musical experience to awe-inspiring locations like never seen before in New York. Get your tickets now to discover the music of Drake at The Sheen Center for Thought & Culture under the gentle glow of candlelight. \nGeneral Info\n\n📍 Venue: The Sheen Center for Thought & Culture\n⏳ Duration: 60 minutes. Doors open 60 minutes before the show and close 5 minutes prior to the start. Late arrivals will not be permitted\n👤 Age requirement: 8 years old or older. Anyone under the age of 16 must be accompanied by an adult\n♿ Accessibility: This venue is ADA compliant\n🪑 Seating: Seating is assigned on a first come first served basis in each zone\n\nTentative Program\n\nPassionfruit\nMarvins Room\nTeenage Fever\nHeadlines\nTake Care\nLaugh Now Cry Later\nGod’s Plan\nControlla\nFair Trade\nJimmy Cooks\nSticky\nHold On\, We’re Going Home\n\nPerformers\n🎻 Highline String Quartet \nBook a Private Event\nLooking to create an unforgettable experience for your wedding\, or special occasion? We offer private event bookings with customized programs tailored to your needs. \nGet a quote
URL:https://www.listeso.com/concert/2025-11-15-the-sheen-center-for-thought-culture-candlelight-tribute-to-drake/
LOCATION:The Sheen Center for Thought & Culture\, New York\, NY\, United States
CATEGORIES:New York, NY
ATTACH;FMTTYPE=image/jpeg:https://www.listeso.com/wp-content/uploads/2025/10/f97bdefe-0a24-11f0-b4c4-9e3cad6541f3-ZN6cQt.jpg
END:VEVENT
BEGIN:VEVENT
DTSTART;TZID=America/New_York:20251115T204500
DTEND;TZID=America/New_York:20251115T214500
DTSTAMP:20260421T151811
CREATED:20251006T142027Z
LAST-MODIFIED:20251006T142027Z
UID:10005326-1763239500-1763243100@www.listeso.com
SUMMARY:Candlelight: Tribute to Phil Collins
DESCRIPTION:Overview\nCandlelight concerts bring the magic of a live\, multi-sensory musical experience to awe-inspiring locations like never seen before in New York. Get your tickets now to discover the music of Phil Collins at St. Ann & the Holy Trinity Church under the gentle glow of candlelight. \nGeneral Info\n\n📍 Venue: St. Ann & the Holy Trinity Church\n⏳ Duration: 60 minutes. Doors open 45 minutes before the show and close 5 minutes prior to the start. Late arrivals will not be permitted\n👤 Age requirement: 8 years old or older. Anyone under the age of 16 must be accompanied by an adult\n♿ Accessibility: This venue is ADA compliant\n🪑 Seating: Seating is assigned on a first come first served basis in each zone\n\nTentative Program\n\nYou Can’t Hurry Love\nInvisible Touch\nAgainst All Odds (Take A Look At Me Now)\nOne More Night\nYou’ll Be In My Heart\nSon Of Man\nA Groovy Kind of Love\nCan’t Stop Loving You\nDo You Remember?\nIn The Air Tonight\nSussudio\nAnother Day In Paradise\n\nPerformers\n🎻 Highline String Quartet \nBook a Private Event\nLooking to create an unforgettable experience for your wedding\, or special occasion? We offer private event bookings with customized programs tailored to your needs. \nGet a quote
URL:https://www.listeso.com/concert/2025-11-15-st-ann-the-holy-trinity-church-tribute-to-phil-collins/
LOCATION:St. Ann & the Holy Trinity Church\, New York\, NY\, United States
CATEGORIES:New York, NY
ATTACH;FMTTYPE=image/jpeg:https://www.listeso.com/wp-content/uploads/2025/10/d2fdb95a-0a24-11f0-af8a-3aaf730b12c1-10tCHK.jpg
END:VEVENT
END:VCALENDAR