BEGIN:VCALENDAR
VERSION:2.0
PRODID:-//Listeso Music Group - A Boutique String Quartet Agency - ECPv6.15.20//NONSGML v1.0//EN
CALSCALE:GREGORIAN
METHOD:PUBLISH
X-ORIGINAL-URL:https://www.listeso.com
X-WR-CALDESC:Events for Listeso Music Group - A Boutique String Quartet Agency
REFRESH-INTERVAL;VALUE=DURATION:PT1H
X-Robots-Tag:noindex
X-PUBLISHED-TTL:PT1H
BEGIN:VTIMEZONE
TZID:America/New_York
BEGIN:DAYLIGHT
TZOFFSETFROM:-0500
TZOFFSETTO:-0400
TZNAME:EDT
DTSTART:20240310T070000
END:DAYLIGHT
BEGIN:STANDARD
TZOFFSETFROM:-0400
TZOFFSETTO:-0500
TZNAME:EST
DTSTART:20241103T060000
END:STANDARD
BEGIN:DAYLIGHT
TZOFFSETFROM:-0500
TZOFFSETTO:-0400
TZNAME:EDT
DTSTART:20250309T070000
END:DAYLIGHT
BEGIN:STANDARD
TZOFFSETFROM:-0400
TZOFFSETTO:-0500
TZNAME:EST
DTSTART:20251102T060000
END:STANDARD
BEGIN:DAYLIGHT
TZOFFSETFROM:-0500
TZOFFSETTO:-0400
TZNAME:EDT
DTSTART:20260308T070000
END:DAYLIGHT
BEGIN:STANDARD
TZOFFSETFROM:-0400
TZOFFSETTO:-0500
TZNAME:EST
DTSTART:20261101T060000
END:STANDARD
END:VTIMEZONE
BEGIN:VEVENT
DTSTART;TZID=America/New_York:20251211T183000
DTEND;TZID=America/New_York:20251211T193000
DTSTAMP:20260421T133602
CREATED:20251104T121056Z
LAST-MODIFIED:20251104T121056Z
UID:10006415-1765477800-1765481400@www.listeso.com
SUMMARY:Candlelight: Featuring Vivaldi's Four Seasons and More
DESCRIPTION:Overview\nCandlelight concerts bring the magic of a live\, multi-sensory musical experience to awe-inspiring locations like never seen before in New York. Get your tickets now to discover the music of Winter from Vivaldi’s Four Seasons and More at Archdiocesan Cathedral of the Holy Trinity under the gentle glow of candlelight. \nGeneral Info\n\n📍 Venue: Archdiocesan Cathedral of the Holy Trinity\n⏳ Duration: 60 minutes. Doors open 45 minutes before the show and close 5 minutes prior to the start. Late arrivals will not be permitted\n👤 Age requirement: 8 years old or older. Anyone under the age of 16 must be accompanied by an adult\n♿ Accessibility: Due to renovations taking place in the building\, this venue is not ADA compliant for now\n🪑 Seating: Seating is assigned on a first come first served basis in each zone\n\nTentative Program\n\nThe Four Seasons\, Violin Concerto in G Minor\, Op. 8 No. 1 RV 269: “Spring”: I. Allegro – Antonio Vivaldi\nThe Cuatro Estaciones Porteñas: Verano Porteño – Astor Piazzolla\nRecomposed by Max Richter: Vivaldi\, The Four Seasons: “Autumn 3” – Max Richter\nThe Four Seasons\, Violin Concerto in G Minor\, Op. 8 No. 4 RV 297: “Winter” – Antonio Vivaldi (I. Allegro non Molto\, II. Largo\, III. Allegro)\nRecomposed by Max Richter: Vivaldi\, The Four Seasons: “Spring 1” – Max Richter\nThe Four Seasons\, Violin Concerto in G Minor\, Op. 8 No. 2 RV 315: “Summer” – Antonio Vivaldi (I. Allegro non molto\, II. Adagio e Piano – Presto e Forte\, III. Presto)\nThe Four Seasons\, Violin Concerto in G Minor\, Op. 8 No. 3 RV 293: “Autumn”: III. Allegro – Vivaldi\nThe Cuatro Estaciones Porteñas: Invierno Porteño – Astor Piazzolla\nThe Carnival of the Animals\, R 125: XIII. Le Cygne (The Swan) – Camille Saint-Saëns\nCzardas – Vittorio Monti\n\nPerformers\n🎻 Highline String Quartet \nBook a Private Event\nLooking to create an unforgettable experience for your wedding\, or special occasion? We offer private event bookings with customized programs tailored to your needs. \nGet a quote
URL:https://www.listeso.com/concert/2025-12-11-archdiocesan-cathedral-of-the-holy-trinity-vivaldi-four-seasons-and-more/
LOCATION:Archdiocesan Cathedral of the Holy Trinity\, New York\, NY\, United States
CATEGORIES:New York, NY
ATTACH;FMTTYPE=image/jpeg:https://www.listeso.com/wp-content/uploads/2025/10/2070cc86-1ab5-11f0-ae39-428e7df71db3-2lG4bR.jpg
END:VEVENT
BEGIN:VEVENT
DTSTART;TZID=America/New_York:20251211T204500
DTEND;TZID=America/New_York:20251211T221500
DTSTAMP:20260421T133602
CREATED:20251104T121039Z
LAST-MODIFIED:20251104T121039Z
UID:10006414-1765485900-1765491300@www.listeso.com
SUMMARY:Candlelight: From Bach to The Beatles
DESCRIPTION:Overview\nCandlelight concerts bring the magic of a live\, multi-sensory musical experience to awe-inspiring locations like never seen before in New York. Get your tickets now to discover the music of From Bach to The Beatles at Archdiocesan Cathedral of the Holy Trinity under the gentle glow of candlelight. \nGeneral Info\n\n📍 Venue: Archdiocesan Cathedral of the Holy Trinity\n⏳ Duration: 90 minutes. Doors open 45 minutes before the show and close 5 minutes prior to the start. Late arrivals will not be permitted\n👤 Age requirement: 8 years old or older. Anyone under the age of 16 must be accompanied by an adult\n♿ Accessibility: Due to renovations taking place in the building\, this venue is not ADA compliant for now\n🪑 Seating: Seating is assigned on a first come first served basis in each zone\n\nTentative Program\n\nBach:\nBrandenburg Concerto No. 3 in G Major\, BWV 1048: I. Allegro\nCello Suite No. 1 in G Major\, BWV 1007: I. Prelude\nAve Maria (Bach / Gounod)\nConcerto for 2 Violins in D Minor\, BWV 1043: I. Vivace\nThe Beatles:\nI Want to Hold Your Hand\nYesterday\nBlackbird\nStrawberry Fields Forever\nAll You Need Is Love\nEleanor Rigby\nMichelle\nLove Me Do\nSomething\nIn My Life\nHey Jude\nHere Comes the Sun\nCome Together\n\nPerformers\n🎻 Highline String Quartet \nBook a Private Event\nLooking to create an unforgettable experience for your wedding\, or special occasion? We offer private event bookings with customized programs tailored to your needs. \nGet a quote
URL:https://www.listeso.com/concert/2025-12-11-archdiocesan-cathedral-of-the-holy-trinity-from-bach-to-the-beatles/
LOCATION:Archdiocesan Cathedral of the Holy Trinity\, New York\, NY\, United States
CATEGORIES:New York, NY
ATTACH;FMTTYPE=image/jpeg:https://www.listeso.com/wp-content/uploads/2025/10/ed0a3082-1a8f-11f0-95bb-f62d5ea4b178-eeB8dc.jpg
END:VEVENT
END:VCALENDAR