BEGIN:VCALENDAR
VERSION:2.0
PRODID:-//Listeso Music Group - A Boutique String Quartet Agency - ECPv6.15.20//NONSGML v1.0//EN
CALSCALE:GREGORIAN
METHOD:PUBLISH
X-WR-CALNAME:Listeso Music Group - A Boutique String Quartet Agency
X-ORIGINAL-URL:https://www.listeso.com
X-WR-CALDESC:Events for Listeso Music Group - A Boutique String Quartet Agency
REFRESH-INTERVAL;VALUE=DURATION:PT1H
X-Robots-Tag:noindex
X-PUBLISHED-TTL:PT1H
BEGIN:VTIMEZONE
TZID:America/New_York
BEGIN:DAYLIGHT
TZOFFSETFROM:-0500
TZOFFSETTO:-0400
TZNAME:EDT
DTSTART:20240310T070000
END:DAYLIGHT
BEGIN:STANDARD
TZOFFSETFROM:-0400
TZOFFSETTO:-0500
TZNAME:EST
DTSTART:20241103T060000
END:STANDARD
BEGIN:DAYLIGHT
TZOFFSETFROM:-0500
TZOFFSETTO:-0400
TZNAME:EDT
DTSTART:20250309T070000
END:DAYLIGHT
BEGIN:STANDARD
TZOFFSETFROM:-0400
TZOFFSETTO:-0500
TZNAME:EST
DTSTART:20251102T060000
END:STANDARD
BEGIN:DAYLIGHT
TZOFFSETFROM:-0500
TZOFFSETTO:-0400
TZNAME:EDT
DTSTART:20260308T070000
END:DAYLIGHT
BEGIN:STANDARD
TZOFFSETFROM:-0400
TZOFFSETTO:-0500
TZNAME:EST
DTSTART:20261101T060000
END:STANDARD
END:VTIMEZONE
BEGIN:VEVENT
DTSTART;TZID=America/New_York:20251212T183000
DTEND;TZID=America/New_York:20251212T193000
DTSTAMP:20260421T133258
CREATED:20251104T121123Z
LAST-MODIFIED:20251104T121123Z
UID:10006417-1765564200-1765567800@www.listeso.com
SUMMARY:Candlelight: Ed Sheeran Meets Coldplay
DESCRIPTION:Overview\nCandlelight concerts bring the magic of a live\, multi-sensory musical experience to awe-inspiring locations like never seen before in New York. Get your tickets now and experience the music of Ed Sheeran and Coldplay at St. Ann & the Holy Trinity Church under the gentle glow of candlelight. \nGeneral Info\n\n📍 Venue: St. Ann & the Holy Trinity Church\n⏳ Duration: 60 minutes. Doors open 45 minutes before the show and close 5 minutes prior to the start. Late arrivals will not be permitted\n👤 Age requirement: 8 years old or older. Anyone under the age of 16 must be accompanied by an adult\n♿ Accessibility: This venue is ADA compliant\n🪑 Seating: Seating is assigned on a first come first served basis in each zone\n\nTentative Program\n\nColdplay – Clocks\nColdplay – Something Just Like This\nEd Sheeran – Bad Habits\nColdplay – Adventure of a Lifetime\nColdplay – Fix You\nEd Sheeran – Photograph\nColdplay – The Scientist\nEd Sheeran – Shivers\nEd Sheeran – Perfect\nColdplay – Viva la Vida\nEd Sheeran – Give Me Love\nColdplay – Sky Full of Stars\n\nPerformers\n🎻 Highline String Quartet \nBook a Private Event\nLooking to create an unforgettable experience for your wedding\, or special occasion? We offer private event bookings with customized programs tailored to your needs. \nGet a quote
URL:https://www.listeso.com/concert/2025-12-12-st-ann-the-holy-trinity-church-candlelight-ed-sheeran-meets-coldplay/
LOCATION:St. Ann & the Holy Trinity Church\, New York\, NY\, United States
CATEGORIES:New York, NY
ATTACH;FMTTYPE=image/jpeg:https://www.listeso.com/wp-content/uploads/2025/10/cef040e6-1f76-11f0-99d8-76e4fa916312-hbLTrz.jpg
END:VEVENT
BEGIN:VEVENT
DTSTART;TZID=America/New_York:20251212T204500
DTEND;TZID=America/New_York:20251212T214500
DTSTAMP:20260421T133258
CREATED:20251104T121109Z
LAST-MODIFIED:20251104T121109Z
UID:10006416-1765572300-1765575900@www.listeso.com
SUMMARY:Candlelight: Tribute to Phil Collins
DESCRIPTION:Overview\nCandlelight concerts bring the magic of a live\, multi-sensory musical experience to awe-inspiring locations like never seen before in New York. Get your tickets now to discover the music of Phil Collins at St. Ann & the Holy Trinity Church under the gentle glow of candlelight. \nGeneral Info\n\n📍 Venue: St. Ann & the Holy Trinity Church\n⏳ Duration: 60 minutes. Doors open 45 minutes before the show and close 5 minutes prior to the start. Late arrivals will not be permitted\n👤 Age requirement: 8 years old or older. Anyone under the age of 16 must be accompanied by an adult\n♿ Accessibility: This venue is ADA compliant\n🪑 Seating: Seating is assigned on a first come first served basis in each zone\n\nTentative Program\n\nYou Can’t Hurry Love\nInvisible Touch\nAgainst All Odds (Take A Look At Me Now)\nOne More Night\nYou’ll Be In My Heart\nSon Of Man\nA Groovy Kind of Love\nCan’t Stop Loving You\nDo You Remember?\nIn The Air Tonight\nSussudio\nAnother Day In Paradise\n\nPerformers\n🎻 Highline String Quartet \nBook a Private Event\nLooking to create an unforgettable experience for your wedding\, or special occasion? We offer private event bookings with customized programs tailored to your needs. \nGet a quote
URL:https://www.listeso.com/concert/2025-12-12-st-ann-the-holy-trinity-church-tribute-to-phil-collins/
LOCATION:St. Ann & the Holy Trinity Church\, New York\, NY\, United States
CATEGORIES:New York, NY
ATTACH;FMTTYPE=image/jpeg:https://www.listeso.com/wp-content/uploads/2025/10/d2fdb95a-0a24-11f0-af8a-3aaf730b12c1-10tCHK.jpg
END:VEVENT
END:VCALENDAR