BEGIN:VCALENDAR
VERSION:2.0
PRODID:-//Listeso Music Group - A Boutique String Quartet Agency - ECPv6.15.20//NONSGML v1.0//EN
CALSCALE:GREGORIAN
METHOD:PUBLISH
X-WR-CALNAME:Listeso Music Group - A Boutique String Quartet Agency
X-ORIGINAL-URL:https://www.listeso.com
X-WR-CALDESC:Events for Listeso Music Group - A Boutique String Quartet Agency
REFRESH-INTERVAL;VALUE=DURATION:PT1H
X-Robots-Tag:noindex
X-PUBLISHED-TTL:PT1H
BEGIN:VTIMEZONE
TZID:America/New_York
BEGIN:DAYLIGHT
TZOFFSETFROM:-0500
TZOFFSETTO:-0400
TZNAME:EDT
DTSTART:20250309T070000
END:DAYLIGHT
BEGIN:STANDARD
TZOFFSETFROM:-0400
TZOFFSETTO:-0500
TZNAME:EST
DTSTART:20251102T060000
END:STANDARD
BEGIN:DAYLIGHT
TZOFFSETFROM:-0500
TZOFFSETTO:-0400
TZNAME:EDT
DTSTART:20260308T070000
END:DAYLIGHT
BEGIN:STANDARD
TZOFFSETFROM:-0400
TZOFFSETTO:-0500
TZNAME:EST
DTSTART:20261101T060000
END:STANDARD
BEGIN:DAYLIGHT
TZOFFSETFROM:-0500
TZOFFSETTO:-0400
TZNAME:EDT
DTSTART:20270314T070000
END:DAYLIGHT
BEGIN:STANDARD
TZOFFSETFROM:-0400
TZOFFSETTO:-0500
TZNAME:EST
DTSTART:20271107T060000
END:STANDARD
END:VTIMEZONE
BEGIN:VEVENT
DTSTART;TZID=America/New_York:20260122T183000
DTEND;TZID=America/New_York:20260122T193000
DTSTAMP:20260421T115553
CREATED:20251124T120419Z
LAST-MODIFIED:20251124T120419Z
UID:10007360-1769106600-1769110200@www.listeso.com
SUMMARY:Candlelight: Featuring Vivaldi's Four Seasons and More
DESCRIPTION:Overview\nCandlelight concerts bring the magic of a live\, multi-sensory musical experience to awe-inspiring locations like never seen before in New York. Get your tickets now to discover the music of Winter from Vivaldi’s Four Seasons and More at Archdiocesan Cathedral of the Holy Trinity under the gentle glow of candlelight. \nGeneral Info\n\n📍 Venue: Archdiocesan Cathedral of the Holy Trinity\n⏳ Duration: 60 minutes. Doors open 45 minutes before the show and close 5 minutes prior to the start. Late arrivals will not be permitted\n👤 Age requirement: 8 years old or older. Anyone under the age of 16 must be accompanied by an adult\n♿ Accessibility: Due to renovations taking place in the building\, this venue is not ADA compliant for now\n🪑 Seating: Seating is assigned on a first come first served basis in each zone\n\nTentative Program\n\nThe Four Seasons\, Violin Concerto in G Minor\, Op. 8 No. 1 RV 269: “Spring”: I. Allegro – Antonio Vivaldi\nThe Cuatro Estaciones Porteñas: Verano Porteño – Astor Piazzolla\nRecomposed by Max Richter: Vivaldi\, The Four Seasons: “Autumn 3” – Max Richter\nThe Four Seasons\, Violin Concerto in G Minor\, Op. 8 No. 4 RV 297: “Winter” – Antonio Vivaldi (I. Allegro non Molto\, II. Largo\, III. Allegro)\nRecomposed by Max Richter: Vivaldi\, The Four Seasons: “Spring 1” – Max Richter\nThe Four Seasons\, Violin Concerto in G Minor\, Op. 8 No. 2 RV 315: “Summer” – Antonio Vivaldi (I. Allegro non molto\, II. Adagio e Piano – Presto e Forte\, III. Presto)\nThe Four Seasons\, Violin Concerto in G Minor\, Op. 8 No. 3 RV 293: “Autumn”: III. Allegro – Vivaldi\nThe Cuatro Estaciones Porteñas: Invierno Porteño – Astor Piazzolla\nThe Carnival of the Animals\, R 125: XIII. Le Cygne (The Swan) – Camille Saint-Saëns\nCzardas – Vittorio Monti\n\nPerformers\n🎻 Highline String Quartet \nBook a Private Event\nLooking to create an unforgettable experience for your wedding\, or special occasion? We offer private event bookings with customized programs tailored to your needs. \nGet a quote
URL:https://www.listeso.com/concert/2026-01-22-archdiocesan-cathedral-of-the-holy-trinity-vivaldis-four-seasons-and-more/
LOCATION:Archdiocesan Cathedral of the Holy Trinity\, New York\, NY\, United States
CATEGORIES:New York, NY
ATTACH;FMTTYPE=image/jpeg:https://www.listeso.com/wp-content/uploads/2025/10/2070cc86-1ab5-11f0-ae39-428e7df71db3-2lG4bR.jpg
END:VEVENT
BEGIN:VEVENT
DTSTART;TZID=America/New_York:20260122T204500
DTEND;TZID=America/New_York:20260122T214500
DTSTAMP:20260421T115553
CREATED:20251124T120434Z
LAST-MODIFIED:20251124T120434Z
UID:10007361-1769114700-1769118300@www.listeso.com
SUMMARY:Candlelight: Rings & Dragons
DESCRIPTION:Overview\nCandlelight concerts bring the magic of a live\, multi-sensory musical experience to awe-inspiring locations like never seen before in New York. Get your tickets now to discover the music of Rings and Dragons at St. Ann & the Holy Trinity Church under the gentle glow of candlelight. \nGeneral Info\n\n📍 Venue: St. Ann & the Holy Trinity Church\n⏳ Duration: 60 minutes. Doors open 45 minutes before the show and close 5 minutes prior to the start. Late arrivals will not be permitted\n👤 Age requirement: 8 years old or older. Anyone under the age of 16 must be accompanied by an adult\n♿ Accessibility: This venue is ADA compliant\n🪑 Seating: Seating is assigned on a first come first served basis in each zone\n\nTentative Program\nThemes from The Lord of the Rings Trilogy by Howard Shore: \n\nThe Caverns of Isengard\nGollum\nLighting of the Beacons\nThe Passing of the Elves\nSaruman the White\nFlaming Red Hair\nThe Grace of Undomiel\n\nThemes from Game of Thrones and House of the Dragon by Ramin Djawadi: \n\nOpening Titles\nWinter Is Coming\nJon Snow’s Theme\nRains of Castamere\nLight of the Seven\nFire and Blood (House Targaryen Theme)\n\nPerformers\n🎻 Highline String Quartet \nBook a Private Event\nLooking to create an unforgettable experience for your wedding\, or special occasion? We offer private event bookings with customized programs tailored to your needs. \nGet a quote
URL:https://www.listeso.com/concert/2026-01-22-st-ann-the-holy-trinity-church-candlelight-rings-dragons/
LOCATION:St. Ann & the Holy Trinity Church\, New York\, NY\, United States
CATEGORIES:New York, NY
ATTACH;FMTTYPE=image/jpeg:https://www.listeso.com/wp-content/uploads/2025/10/03ee457c-1491-11f0-9786-127976d7aea8-p7jT16.jpg
END:VEVENT
BEGIN:VEVENT
DTSTART;TZID=America/New_York:20260122T204500
DTEND;TZID=America/New_York:20260122T214500
DTSTAMP:20260421T115553
CREATED:20251124T120450Z
LAST-MODIFIED:20251124T120450Z
UID:10007362-1769114700-1769118300@www.listeso.com
SUMMARY:Candlelight: Mozart vs Beethoven
DESCRIPTION:Overview\nCandlelight concerts bring the magic of a live\, multi-sensory musical experience to awe-inspiring locations like never seen before in New York. Get your tickets now to discover the music of Mozart vs Beethoven at Archdiocesan Cathedral of the Holy Trinity under the gentle glow of candlelight. \nGeneral Info\n\n📍 Venue: Archdiocesan Cathedral of the Holy Trinity\n⏳ Duration: 60 minutes. Doors open 45 minutes before the show and close 5 minutes prior to the start. Late arrivals will not be permitted\n👤 Age requirement: 8 years old or older. Anyone under the age of 16 must be accompanied by an adult\n♿ Accessibility: Due to renovations taking place in the building\, this venue is not ADA compliant for now\n🪑 Seating: Assigned on a first come first served basis in each zone\n\nTentative Program\nWolfgang Amadeus Mozart \n\nSonata No. 11 en A Mayor\, K. 331: III. Alla Turca (Marcha Turca)\nLas Bodas de Fígaro\, K. 492: Obertura\nSinfonía No. 25 en G Mayor\, K. 183: I. Allegro Con Brio\nEine kleine Nachtmusik K. 525: I. Allegro\nSinfonía No. 40 en G menor\, K. 550: I. Allegro Molto\n\nLudwig van Beethoven \n\nSonata No. 14 en C# menor\, Op. 27\, No. 2 Quasi una fantasia: I. Adagio Sostenuto (Claro de Luna)\nSonate Pathétique No. 8 en C Menor\, Op. 13: II. Adagio\nBagatelle No. 25 en A menor: Für Elise\nLas Ruinas de Atenas\, Op. 113: IV. Marcha Turca\nCuarteto de Cuerdas No. 4 en C menor\, Op. 18 No. 4: III. Allegretto\nSinfonía No. 7 en A Mayor\, Op. 92: II. Allegretto\nSinfonía No. 9 en D menor\, Op. 125: IV. Presto/Allegro Assai – Oda a la Alegría (Ode To Joy)\nSinfonía No. 5 en C menor\, Op. 67: I. Allegro Con Brio\n\nPerformers\n🎻 Highline String Quartet \nBook a Private Event\nLooking to create an unforgettable experience for your wedding\, or special occasion? We offer private event bookings with customized programs tailored to your needs. \nGet a quote
URL:https://www.listeso.com/concert/2026-01-22-archdiocesan-cathedral-of-the-holy-trinity-mozart-vs-beethoven/
LOCATION:Archdiocesan Cathedral of the Holy Trinity\, New York\, NY\, United States
CATEGORIES:New York, NY
ATTACH;FMTTYPE=image/jpeg:https://www.listeso.com/wp-content/uploads/2025/10/3b09df18-058b-11f0-bf55-16591a0085a5-PQrd0U.jpg
END:VEVENT
END:VCALENDAR