BEGIN:VCALENDAR
VERSION:2.0
PRODID:-//Listeso Music Group - A Boutique String Quartet Agency - ECPv6.15.20//NONSGML v1.0//EN
CALSCALE:GREGORIAN
METHOD:PUBLISH
X-ORIGINAL-URL:https://www.listeso.com
X-WR-CALDESC:Events for Listeso Music Group - A Boutique String Quartet Agency
REFRESH-INTERVAL;VALUE=DURATION:PT1H
X-Robots-Tag:noindex
X-PUBLISHED-TTL:PT1H
BEGIN:VTIMEZONE
TZID:America/New_York
BEGIN:DAYLIGHT
TZOFFSETFROM:-0500
TZOFFSETTO:-0400
TZNAME:EDT
DTSTART:20250309T070000
END:DAYLIGHT
BEGIN:STANDARD
TZOFFSETFROM:-0400
TZOFFSETTO:-0500
TZNAME:EST
DTSTART:20251102T060000
END:STANDARD
BEGIN:DAYLIGHT
TZOFFSETFROM:-0500
TZOFFSETTO:-0400
TZNAME:EDT
DTSTART:20260308T070000
END:DAYLIGHT
BEGIN:STANDARD
TZOFFSETFROM:-0400
TZOFFSETTO:-0500
TZNAME:EST
DTSTART:20261101T060000
END:STANDARD
BEGIN:DAYLIGHT
TZOFFSETFROM:-0500
TZOFFSETTO:-0400
TZNAME:EDT
DTSTART:20270314T070000
END:DAYLIGHT
BEGIN:STANDARD
TZOFFSETFROM:-0400
TZOFFSETTO:-0500
TZNAME:EST
DTSTART:20271107T060000
END:STANDARD
END:VTIMEZONE
BEGIN:VEVENT
DTSTART;TZID=America/New_York:20260417T183000
DTEND;TZID=America/New_York:20260417T193000
DTSTAMP:20260421T062847
CREATED:20260224T124447Z
LAST-MODIFIED:20260224T124447Z
UID:10008246-1776450600-1776454200@www.listeso.com
SUMMARY:Candlelight: Mozart vs Beethoven
DESCRIPTION:Overview\nCandlelight concerts bring the magic of a live\, multi-sensory musical experience to awe-inspiring locations like never seen before in New York. Get your tickets now to discover the music of Mozart vs Beethoven at Archdiocesan Cathedral of the Holy Trinity under the gentle glow of candlelight. \nGeneral Info\n\n⏳ Duration: 60 minutes. Doors open 45 minutes before the show. No entry once it starts.\n👤 Age requirement: 8 years old or older. Anyone under the age of 16 must be accompanied by an adult\n♿ Accessibility: Due to renovations taking place in the building\, this venue is not ADA compliant for now\n🪑 Seating: Seating is assigned on a first come first served basis in each zone\n\nTentative Program\nWolfgang Amadeus Mozart \n\nSonata No. 11 en A Mayor\, K. 331: III. Alla Turca (Marcha Turca)\nLas Bodas de Fígaro\, K. 492: Obertura\nSinfonía No. 25 en G Mayor\, K. 183: I. Allegro Con Brio\nEine kleine Nachtmusik K. 525: I. Allegro\nSinfonía No. 40 en G menor\, K. 550: I. Allegro Molto\n\nLudwig van Beethoven \n\nSonata No. 14 en C# menor\, Op. 27\, No. 2 Quasi una fantasia: I. Adagio Sostenuto (Claro de Luna)\nSonate Pathétique No. 8 en C Menor\, Op. 13: II. Adagio\nBagatelle No. 25 en A menor: Für Elise\nLas Ruinas de Atenas\, Op. 113: IV. Marcha Turca\nCuarteto de Cuerdas No. 4 en C menor\, Op. 18 No. 4: III. Allegretto\nSinfonía No. 7 en A Mayor\, Op. 92: II. Allegretto\nSinfonía No. 9 en D menor\, Op. 125: IV. Presto/Allegro Assai – Oda a la Alegría (Ode To Joy)\nSinfonía No. 5 en C menor\, Op. 67: I. Allegro Con Brio\n\nPerformers\n🎻 Highline String Quartet \nBook a Private Event\nLooking to create an unforgettable experience for your wedding\, or special occasion? We offer private event bookings with customized programs tailored to your needs. \nGet a quote
URL:https://www.listeso.com/concert/2026-04-17-archdiocesan-cathedral-of-the-holy-trinity-mozart-vs-beethoven/
LOCATION:Archdiocesan Cathedral of the Holy Trinity\, New York\, NY\, United States
CATEGORIES:New York, NY
ATTACH;FMTTYPE=image/jpeg:https://www.listeso.com/wp-content/uploads/2025/10/3b09df18-058b-11f0-bf55-16591a0085a5-PQrd0U.jpg
END:VEVENT
BEGIN:VEVENT
DTSTART;TZID=America/New_York:20260417T183000
DTEND;TZID=America/New_York:20260417T193000
DTSTAMP:20260421T062847
CREATED:20260224T124515Z
LAST-MODIFIED:20260224T124515Z
UID:10008248-1776450600-1776454200@www.listeso.com
SUMMARY:Candlelight: Tribute to Adele
DESCRIPTION:Overview\nCandlelight concerts bring the magic of a live\, multi-sensory musical experience to awe-inspiring locations like never seen before in New York. Get your tickets now to discover the music of Adele at Church of the Heavenly Rest under the gentle glow of candlelight. \nGeneral Info\n\n📍 Venue: Church of the Heavenly Rest\n⏳ Duration: 60 minutes. Doors open 60 minutes before the show. No entry once it starts.\n👤 Age requirement: 8 years old or older. Anyone under the age of 16 must be accompanied by an adult\n♿ Accessibility: This venue is ADA compliant\n🪑 Seating: Seating is assigned on a first come first served basis in each zone\n\nTentative Program\n\n“Hello”\n“Rumour Has It”\n“Make You Feel My Love”\n“Water Under the Bridge”\n“Oh My God”\n“Someone Like You”\n“Send My Love (to Your New Lover)”\n“Chasing Pavements”\n“Skyfall”\n“When We Were Young”\n“Set Fire to the Rain”\n“Easy On Me”\n“Rolling in the Deep”\n\nPerformers\n🎻 Highline String Quartet \nBook a Private Event\nLooking to create an unforgettable experience for your wedding\, or special occasion? We offer private event bookings with customized programs tailored to your needs. \nGet a quote
URL:https://www.listeso.com/concert/2026-04-17-church-of-the-heavenly-rest-tribute-to-adele/
LOCATION:Church of the Heavenly Rest\, New York\, NY\, United States
CATEGORIES:New York, NY
ATTACH;FMTTYPE=image/jpeg:https://www.listeso.com/wp-content/uploads/2025/09/bf21e71a-2128-11f0-8510-ca6ec07e6a29-UZR0pD.jpg
END:VEVENT
BEGIN:VEVENT
DTSTART;TZID=America/New_York:20260417T204500
DTEND;TZID=America/New_York:20260417T214500
DTSTAMP:20260421T062847
CREATED:20260224T124503Z
LAST-MODIFIED:20260224T124503Z
UID:10008247-1776458700-1776462300@www.listeso.com
SUMMARY:Candlelight: Featuring Vivaldi's Four Seasons and More
DESCRIPTION:Overview\nCandlelight concerts bring the magic of a live\, multi-sensory musical experience to awe-inspiring locations like never seen before in New York. Get your tickets now to discover the music of Winter from Vivaldi’s Four Seasons and More at Archdiocesan Cathedral of the Holy Trinity under the gentle glow of candlelight. \nGeneral Info\n\n📍 Venue: Archdiocesan Cathedral of the Holy Trinity\n⏳ Duration: 60 minutes. Doors open 45 minutes before the show. No entry once it starts.\n👤 Age requirement: 8 years old or older. Anyone under the age of 16 must be accompanied by an adult\n♿ Accessibility: due to renovations taking place in the building\, this venue is not ADA compliant for now\n🪑 Seating: assigned on a first come first served basis in each zone\n\nTentative Program\n\nThe Four Seasons\, Violin Concerto in G Minor\, Op. 8 No. 1 RV 269: “Spring”: I. Allegro – Antonio Vivaldi\nThe Cuatro Estaciones Porteñas: Verano Porteño – Astor Piazzolla\nRecomposed by Max Richter: Vivaldi\, The Four Seasons: “Autumn 3” – Max Richter\nThe Four Seasons\, Violin Concerto in G Minor\, Op. 8 No. 4 RV 297: “Winter” – Antonio Vivaldi\n\nI. Allegro non Molto\nII. Largo\nIII. Allegro\n\n\nRecomposed by Max Richter: Vivaldi\, The Four Seasons: “Spring 1” – Max Richter\nThe Four Seasons\, Violin Concerto in G Minor\, Op. 8 No. 2 RV 315: “Summer” – Antonio Vivaldi\n\nI. Allegro non molto\nII. Adagio e Piano – Presto e Forte\nIII. Presto\n\n\nThe Four Seasons\, Violin Concerto in G Minor\, Op. 8 No. 3 RV 293: “Autumn”: III. Allegro – Vivaldi\nThe Cuatro Estaciones Porteñas: Invierno Porteño – Astor Piazzolla\nThe Carnival of the Animals\, R 125: XIII. Le Cygne (The Swan) – Camille Saint-Saëns\nCzardas – Vittorio Monti\n\nPerformers\n🎻 Highline String Quartet \nBook a Private Event\nLooking to create an unforgettable experience for your wedding\, or special occasion? We offer private event bookings with customized programs tailored to your needs. \nGet a quote
URL:https://www.listeso.com/concert/2026-04-17-archdiocesan-cathedral-of-the-holy-trinity-candlelight-featuring-vivaldis-four-seasons-and-more/
LOCATION:Archdiocesan Cathedral of the Holy Trinity\, New York\, NY\, United States
CATEGORIES:New York, NY
ATTACH;FMTTYPE=image/jpeg:https://www.listeso.com/wp-content/uploads/2025/10/2070cc86-1ab5-11f0-ae39-428e7df71db3-2lG4bR.jpg
END:VEVENT
END:VCALENDAR