BEGIN:VCALENDAR
VERSION:2.0
PRODID:-//Listeso Music Group - A Boutique String Quartet Agency - ECPv6.15.20//NONSGML v1.0//EN
CALSCALE:GREGORIAN
METHOD:PUBLISH
X-WR-CALNAME:Listeso Music Group - A Boutique String Quartet Agency
X-ORIGINAL-URL:https://www.listeso.com
X-WR-CALDESC:Events for Listeso Music Group - A Boutique String Quartet Agency
REFRESH-INTERVAL;VALUE=DURATION:PT1H
X-Robots-Tag:noindex
X-PUBLISHED-TTL:PT1H
BEGIN:VTIMEZONE
TZID:America/New_York
BEGIN:DAYLIGHT
TZOFFSETFROM:-0500
TZOFFSETTO:-0400
TZNAME:EDT
DTSTART:20240310T070000
END:DAYLIGHT
BEGIN:STANDARD
TZOFFSETFROM:-0400
TZOFFSETTO:-0500
TZNAME:EST
DTSTART:20241103T060000
END:STANDARD
BEGIN:DAYLIGHT
TZOFFSETFROM:-0500
TZOFFSETTO:-0400
TZNAME:EDT
DTSTART:20250309T070000
END:DAYLIGHT
BEGIN:STANDARD
TZOFFSETFROM:-0400
TZOFFSETTO:-0500
TZNAME:EST
DTSTART:20251102T060000
END:STANDARD
BEGIN:DAYLIGHT
TZOFFSETFROM:-0500
TZOFFSETTO:-0400
TZNAME:EDT
DTSTART:20260308T070000
END:DAYLIGHT
BEGIN:STANDARD
TZOFFSETFROM:-0400
TZOFFSETTO:-0500
TZNAME:EST
DTSTART:20261101T060000
END:STANDARD
END:VTIMEZONE
BEGIN:VEVENT
DTSTART;TZID=America/New_York:20251228T183000
DTEND;TZID=America/New_York:20251228T193000
DTSTAMP:20260421T022849
CREATED:20251101T110414Z
LAST-MODIFIED:20251101T110414Z
UID:10006305-1766946600-1766950200@www.listeso.com
SUMMARY:Candlelight: Tribute to Queen and The Beatles
DESCRIPTION:Overview\nCandlelight concerts bring the magic of a live\, multi-sensory musical experience to awe-inspiring locations like never seen before in Pittsburgh. Get your tickets now to discover the music of Queen and The Beatles at Omni William Penn Hotel under the gentle glow of candlelight. \nGeneral Info\n\n📍 Venue: Omni William Penn Hotel\n⏳ Duration: 60 minutes. Doors open 45 minutes before the show and close 5 minutes prior to the start. Late arrivals will not be permitted\n👤 Age requirement: 8 years old or older. Anyone under the age of 16 must be accompanied by an adult\n♿ Accessibility: Accessible parking\, entrance\, and restroom available. Should you have any questions please reach out to us at hello@feverup.com.\n🪑 Seating: Seating is assigned on a first come first served basis in each zone\n\nTentative Program\n\nHere Comes the Sun – The Beatles\nBlackbird – The Beatles\nHelp! – The Beatles\nCome Together – The Beatles\nYesterday – The Beatles\nAll You Need Is Love – The Beatles\nLove of My Life – Queen\nAnother One Bites the Dust – Queen\nI Want to Break Free – Queen\nWe Are the Champions – Queen\nWe Will Rock You – Queen\nRadio Ga-Ga – Queen\nBohemian Rhapsody – Queen\n\nPerformers\n🎻 String Quartet – Listeso \nBook a Private Event\nLooking to create an unforgettable experience for your wedding\, or special occasion? We offer private event bookings with customized programs tailored to your needs. \nGet a quote
URL:https://www.listeso.com/concert/2025-12-28-omni-william-penn-hotel-tribute-to-queen-and-the-beatles/
LOCATION:Omni William Penn Hotel\, Pittsburgh\, PA\, United States
CATEGORIES:Pittsburgh, PA
ATTACH;FMTTYPE=image/jpeg:https://www.listeso.com/wp-content/uploads/2025/10/4671982c-1a9f-11f0-9bc4-3a9b5e2c983e-6OG8WL.jpg
END:VEVENT
BEGIN:VEVENT
DTSTART;TZID=America/New_York:20251228T204500
DTEND;TZID=America/New_York:20251228T214500
DTSTAMP:20260421T022849
CREATED:20251101T110428Z
LAST-MODIFIED:20251101T110428Z
UID:10006306-1766954700-1766958300@www.listeso.com
SUMMARY:Candlelight: Tribute to Adele
DESCRIPTION:Overview\nCandlelight concerts bring the magic of a live\, multi-sensory musical experience to awe-inspiring locations like never seen before in Pittsburgh. Get your tickets now to discover the music of Adele at Omni William Penn Hotel under the gentle glow of candlelight. \nGeneral Info\n\n📍 Venue: Omni William Penn Hotel\n⏳ Duration: 60 minutes. Doors open 45 minutes before the show and close 5 minutes prior to the start. Late arrivals will not be permitted\n👤 Age requirement: 8 years old or older. Anyone under the age of 16 must be accompanied by an adult\n♿ Accessibility: This venue is ADA compliant\n🪑 Seating: Seating is assigned on a first come first served basis in each zone\n\nTentative Program\n\n“Hello”\n“Rumour Has It”\n“Make You Feel My Love”\n“Water Under the Bridge”\n“Oh My God”\n“Someone Like You”\n“Send My Love (to Your New Lover)”\n“Chasing Pavements”\n“Skyfall”\n“When We Were Young”\n“Set Fire to the Rain”\n“Easy On Me”\n“Rolling in the Deep”\n\nPerformers\n🎻 Listeso String Quartet \nBook a Private Event\nLooking to create an unforgettable experience for your wedding\, or special occasion? We offer private event bookings with customized programs tailored to your needs. \nGet a quote
URL:https://www.listeso.com/concert/2025-12-28-omni-william-penn-hotel-tribute-to-adele/
LOCATION:Omni William Penn Hotel\, Pittsburgh\, PA\, United States
CATEGORIES:Pittsburgh, PA
ATTACH;FMTTYPE=image/jpeg:https://www.listeso.com/wp-content/uploads/2025/10/ef36e2b8-0624-11ef-9a3b-3e3e42d6ec71-gMdjhS.jpg
END:VEVENT
END:VCALENDAR