BEGIN:VCALENDAR
VERSION:2.0
PRODID:-//Listeso Music Group - A Boutique String Quartet Agency - ECPv6.15.20//NONSGML v1.0//EN
CALSCALE:GREGORIAN
METHOD:PUBLISH
X-ORIGINAL-URL:https://www.listeso.com
X-WR-CALDESC:Events for Listeso Music Group - A Boutique String Quartet Agency
REFRESH-INTERVAL;VALUE=DURATION:PT1H
X-Robots-Tag:noindex
X-PUBLISHED-TTL:PT1H
BEGIN:VTIMEZONE
TZID:America/New_York
BEGIN:DAYLIGHT
TZOFFSETFROM:-0500
TZOFFSETTO:-0400
TZNAME:EDT
DTSTART:20250309T070000
END:DAYLIGHT
BEGIN:STANDARD
TZOFFSETFROM:-0400
TZOFFSETTO:-0500
TZNAME:EST
DTSTART:20251102T060000
END:STANDARD
BEGIN:DAYLIGHT
TZOFFSETFROM:-0500
TZOFFSETTO:-0400
TZNAME:EDT
DTSTART:20260308T070000
END:DAYLIGHT
BEGIN:STANDARD
TZOFFSETFROM:-0400
TZOFFSETTO:-0500
TZNAME:EST
DTSTART:20261101T060000
END:STANDARD
BEGIN:DAYLIGHT
TZOFFSETFROM:-0500
TZOFFSETTO:-0400
TZNAME:EDT
DTSTART:20270314T070000
END:DAYLIGHT
BEGIN:STANDARD
TZOFFSETFROM:-0400
TZOFFSETTO:-0500
TZNAME:EST
DTSTART:20271107T060000
END:STANDARD
END:VTIMEZONE
BEGIN:VEVENT
DTSTART;TZID=America/New_York:20260110T204500
DTEND;TZID=America/New_York:20260110T214500
DTSTAMP:20260421T044226
CREATED:20251112T121459Z
LAST-MODIFIED:20251112T121459Z
UID:10006917-1768077900-1768081500@www.listeso.com
SUMMARY:Candlelight: Tribute to Taylor Swift
DESCRIPTION:Overview\nCandlelight concerts bring the magic of a live\, multi-sensory musical experience to awe-inspiring locations like never seen before in Pittsburgh. Get your tickets now to discover the music of Taylor Swift at Omni William Penn Hotel under the gentle glow of candlelight. \nGeneral Info\n\n📍 Venue: Omni William Penn Hotel\n⏳ Duration: 60 minutes. Doors open 45 minutes before the show and close 5 minutes prior to the start. Late arrivals will not be permitted\n👤 Age requirement: 8 years old or older. Anyone under the age of 16 must be accompanied by an adult\n♿ Accessibility: This venue is ADA compliant\n🪑 Seating: Seating is assigned on a first come first served basis in each zone\n\nTentative Program\n\nLove Story\nRed Medley\nAnti-Hero\nEnchanted\nReputation Medley\nCruel Summer\nfolklore Medley\nShake It Off\nYou Belong With Me\n1989 Medley\n\nPerformers\n🎻 Listeso String Quartet \nBook a Private Event\nLooking to create an unforgettable experience for your wedding\, or special occasion? We offer private event bookings with customized programs tailored to your needs. \nGet a quote
URL:https://www.listeso.com/concert/2026-01-10-omni-william-penn-hotel-candlelight-tribute-to-taylor-swift/
LOCATION:Omni William Penn Hotel\, Pittsburgh\, PA\, United States
CATEGORIES:Pittsburgh, PA
ATTACH;FMTTYPE=image/jpeg:https://www.listeso.com/wp-content/uploads/2025/10/72fb8e18-69a3-11f0-8a85-7203fda2f6d8-VH6aSg.jpg
END:VEVENT
BEGIN:VEVENT
DTSTART;TZID=America/New_York:20260116T183000
DTEND;TZID=America/New_York:20260116T193000
DTSTAMP:20260421T044226
CREATED:20251118T121605Z
LAST-MODIFIED:20251118T121605Z
UID:10007097-1768588200-1768591800@www.listeso.com
SUMMARY:Candlelight: Tribute to Fleetwood Mac
DESCRIPTION:Overview\nCandlelight concerts bring the magic of a live\, multi-sensory musical experience to awe-inspiring locations like never seen before in Pittsburgh. Get your tickets now to discover the music of Fleetwood Mac at Trinity Episcopal Cathedral under the gentle glow of candlelight. \nGeneral Info\n\n📍 Venue: Trinity Episcopal Cathedral\n⏳ Duration: 60 minutes. Doors open 45 minutes before the show and close 5 minutes prior to the start. Late arrivals will not be permitted\n👤 Age requirement: 8 years old or older. Anyone under the age of 16 must be accompanied by an adult\n♿ Accessibility: This venue is ADA compliant\n🪑 Seating: Seating is assigned on a first come first served basis in each zone\n\nTentative Program\n\nEverywhere\nGypsy\nYou Make Loving Fun\nNever Going Back Again\nDon’t Stop\nGold Dust Woman\nGo Your Own Way\nLandslide\nLittle Lies\nSongbird\nRhiannon\nThe Chain\n\nPerformers\n🎻 String Quartet – Listeso – Pittsburgh \nBook a Private Event\nLooking to create an unforgettable experience for your wedding\, or special occasion? We offer private event bookings with customized programs tailored to your needs. \nGet a quote
URL:https://www.listeso.com/concert/2026-01-16-trinity-episcopal-cathedral-tribute-to-fleetwood-mac/
LOCATION:Trinity Episcopal Cathedral\, Pittsburgh\, PA\, United States
CATEGORIES:Pittsburgh, PA
ATTACH;FMTTYPE=image/jpeg:https://www.listeso.com/wp-content/uploads/2025/10/5c2e82a6-1f77-11f0-9fc3-b6302f1836c4-3Gs8kb.jpg
END:VEVENT
BEGIN:VEVENT
DTSTART;TZID=America/New_York:20260130T183000
DTEND;TZID=America/New_York:20260130T193000
DTSTAMP:20260421T044226
CREATED:20251202T121106Z
LAST-MODIFIED:20251202T121106Z
UID:10007650-1769797800-1769801400@www.listeso.com
SUMMARY:Candlelight: Tribute to Fleetwood Mac
DESCRIPTION:Overview\nCandlelight concerts bring the magic of a live\, multi-sensory musical experience to awe-inspiring locations like never seen before in Pittsburgh. Get your tickets now to discover the music of Fleetwood Mac at Trinity Episcopal Cathedral under the gentle glow of candlelight. \nGeneral Info\n\n📍 Venue: Trinity Episcopal Cathedral\n⏳ Duration: 60 minutes. Doors open 45 minutes before the show. No entry once it starts.\n👤 Age requirement: 8 years old or older. Anyone under the age of 16 must be accompanied by an adult\n♿ Accessibility: this venue is ADA compliant\n🪑 Seating: Seating is assigned on a first come first served basis in each zone\n\nTentative Program\n\nEverywhere\nGypsy\nYou Make Loving Fun\nNever Going Back Again\nDon’t Stop\nGold Dust Woman\nGo Your Own Way\nLandslide\nLittle Lies\nSongbird\nRhiannon\nThe Chain\n\nPerformers\n🎻 String Quartet – Listeso – Pittsburgh \nBook a Private Event\nLooking to create an unforgettable experience for your wedding\, or special occasion? We offer private event bookings with customized programs tailored to your needs. \nGet a quote
URL:https://www.listeso.com/concert/2026-01-30-trinity-episcopal-cathedral-tribute-to-fleetwood-mac/
LOCATION:Trinity Episcopal Cathedral\, Pittsburgh\, PA\, United States
CATEGORIES:Pittsburgh, PA
ATTACH;FMTTYPE=image/jpeg:https://www.listeso.com/wp-content/uploads/2025/10/5c2e82a6-1f77-11f0-9fc3-b6302f1836c4-3Gs8kb.jpg
END:VEVENT
BEGIN:VEVENT
DTSTART;TZID=America/New_York:20260130T204500
DTEND;TZID=America/New_York:20260130T214500
DTSTAMP:20260421T044226
CREATED:20251202T121120Z
LAST-MODIFIED:20251202T121120Z
UID:10007651-1769805900-1769809500@www.listeso.com
SUMMARY:Candlelight: Featuring Vivaldi's Four Seasons & More
DESCRIPTION:Overview\nCandlelight concerts bring the magic of a live\, multi-sensory musical experience to awe-inspiring locations like never seen before in Pittsburgh. Get your tickets now to discover the music of Vivaldi’s Four Seasons & More at Trinity Episcopal Cathedral under the gentle glow of candlelight. \nGeneral Info\n\n📍 Venue: Trinity Episcopal Cathedral\n⏳ Duration: 65 minutes. Doors open 30 minutes before the show. No entry once it starts.\n👤 Age requirement: 8 years old or older. Anyone under the age of 16 must be accompanied by an adult\n♿ Accessibility: This venue is ADA compliant\n🪑 Seating: Seating is assigned on a first come first served basis in each zone\n\nTentative Program\n\nThe Four Seasons\, Violin Concerto in G Minor\, Op. 8 No. 1 RV 269: Spring\nThe Four Seasons\, Violin Concerto in G Minor\, Op. 8 No. 2 RV 315: Summer\nThe Four Seasons\, Violin Concerto in G Minor\, Op. 8 No. 3 RV 293: Autumn\nThe Four Seasons\, Violin Concerto in G Minor\, Op. 8 No. 4 RV 297: Winter\nSonata n.12 in d-minor “La Follia” RV 63\n\nPerformers\n🎻 Listeso String Quartet \nBook a Private Event\nLooking to create an unforgettable experience for your wedding\, or special occasion? We offer private event bookings with customized programs tailored to your needs. \nGet a quote
URL:https://www.listeso.com/concert/2026-01-30-trinity-episcopal-cathedral-vivaldis-four-seasons-more/
LOCATION:Trinity Episcopal Cathedral\, Pittsburgh\, PA\, United States
CATEGORIES:Pittsburgh, PA
ATTACH;FMTTYPE=image/jpeg:https://www.listeso.com/wp-content/uploads/2025/10/9f8fa516-1ab3-11f0-acbb-460e748c3556-z1oZCe.jpg
END:VEVENT
BEGIN:VEVENT
DTSTART;TZID=America/New_York:20260227T183000
DTEND;TZID=America/New_York:20260227T193000
DTSTAMP:20260421T044226
CREATED:20260224T134325Z
LAST-MODIFIED:20260224T134325Z
UID:10008319-1772217000-1772220600@www.listeso.com
SUMMARY:Candlelight: From Bach to The Beatles
DESCRIPTION:Overview\nCandlelight concerts bring the magic of a live\, multi-sensory musical experience to awe-inspiring locations like never seen before in Pittsburgh. Get your tickets now to discover music From Bach to The Beatles at Trinity Episcopal Cathedral under the gentle glow of candlelight. \nGeneral Info\n\n📍 Venue: Trinity Episcopal Cathedral\n⏳ Duration: 60 minutes. Doors open 45 minutes before the show. No entry once it starts.\n👤 Age requirement: 8 years old or older. Anyone under the age of 16 must be accompanied by an adult\n♿ Accessibility: This venue is ADA compliant\n🪑 Seating: Assigned on a first come first served basis in each zone\n\nTentative Program\nBach: \n\nBrandenburg Concerto No. 3 in G Major\, BWV 1048: I. Allegro\nCello Suite No. 1 in G Major\, BWV 1007: I. Prelude\nAve Maria (Bach / Gounod)\nConcerto for 2 Violins in D Minor\, BWV 1043: I. Vivace\n\nThe Beatles: \n\nI Want to Hold Your Hand\nYesterday\nBlackbird\nStrawberry Fields Forever\nAll You Need Is Love\nEleanor Rigby\nMichelle\nLove Me Do\nSomething\nIn My Life\nHey Jude\nHere Comes the Sun\nCome Together\n\nPerformers\n🎻 Listeso String Quartet \nBook a Private Event\nLooking to create an unforgettable experience for your wedding\, or special occasion? We offer private event bookings with customized programs tailored to your needs. \nGet a quote
URL:https://www.listeso.com/concert/2026-02-27-trinity-episcopal-cathedral-from-bach-to-the-beatles/
LOCATION:Trinity Episcopal Cathedral\, Pittsburgh\, PA\, United States
CATEGORIES:Pittsburgh, PA
ATTACH;FMTTYPE=image/jpeg:https://www.listeso.com/wp-content/uploads/2025/10/ed0a3082-1a8f-11f0-95bb-f62d5ea4b178-eeB8dc.jpg
END:VEVENT
BEGIN:VEVENT
DTSTART;TZID=America/New_York:20260228T183000
DTEND;TZID=America/New_York:20260228T193000
DTSTAMP:20260421T044226
CREATED:20260224T134351Z
LAST-MODIFIED:20260224T134351Z
UID:10008320-1772303400-1772307000@www.listeso.com
SUMMARY:Candlelight: Tribute to Taylor Swift
DESCRIPTION:Overview\nCandlelight concerts bring the magic of a live\, multi-sensory musical experience to awe-inspiring locations like never seen before in Pittsburgh. Get your tickets now to discover the music of Taylor Swift at The Circuit Center under the gentle glow of candlelight. \nGeneral Info\n\n📍 Venue: The Circuit Center\n⏳ Duration: 60 minutes. Doors open 45 minutes before the show. No entry once it starts.\n👤 Age requirement: 8 years old or older. Anyone under the age of 16 must be accompanied by an adult\n♿ Accessibility: This venue is ADA compliant\n🪑 Seating: Seating is assigned on a first come first served basis in each zone\n\nTentative Program\n\nLove Story\nRed Medley\nAnti-Hero\nEnchanted\nReputation Medley\nCruel Summer\nfolklore Medley\nShake It Off\nYou Belong With Me\n1989 Medley\n\nPerformers\n🎻 Listeso String Quartet \nBook a Private Event\nLooking to create an unforgettable experience for your wedding\, or special occasion? We offer private event bookings with customized programs tailored to your needs. \nGet a quote
URL:https://www.listeso.com/concert/2026-02-28-the-circuit-center-candlelight-tribute-to-taylor-swift/
LOCATION:The Circuit Center\, Pittsburgh\, PA\, United States
CATEGORIES:Pittsburgh, PA
ATTACH;FMTTYPE=image/jpeg:https://www.listeso.com/wp-content/uploads/2025/10/be8df194-1aa8-11f0-996c-caa78636736f-kgBvpB.jpg
END:VEVENT
BEGIN:VEVENT
DTSTART;TZID=America/New_York:20260320T183000
DTEND;TZID=America/New_York:20260320T193000
DTSTAMP:20260421T044226
CREATED:20260224T134418Z
LAST-MODIFIED:20260224T134418Z
UID:10008322-1774031400-1774035000@www.listeso.com
SUMMARY:Candlelight: Tribute to Fleetwood Mac
DESCRIPTION:Overview\nCandlelight concerts bring the magic of a live\, multi-sensory musical experience to awe-inspiring locations like never seen before in Pittsburgh. Get your tickets now to discover the music of Fleetwood Mac at Trinity Episcopal Cathedral under the gentle glow of candlelight. \nGeneral Info\n\n📍 Venue: Trinity Episcopal Cathedral\n⏳ Duration: 60 minutes. Doors open 45 minutes before the show. No entry once it starts.\n👤 Age requirement: 8 years old or older. Anyone under the age of 16 must be accompanied by an adult\n♿ Accessibility: This venue is ADA compliant\n🪑 Seating: Seating is assigned on a first come first served basis in each zone\n\nTentative Program\n\nEverywhere\nGypsy\nYou Make Loving Fun\nNever Going Back Again\nDon’t Stop\nGold Dust Woman\nGo Your Own Way\nLandslide\nLittle Lies\nSongbird\nRhiannon\nThe Chain\n\nPerformers\n🎻 String Quartet – Listeso – Pittsburgh \nBook a Private Event\nLooking to create an unforgettable experience for your wedding\, or special occasion? We offer private event bookings with customized programs tailored to your needs. \nGet a quote
URL:https://www.listeso.com/concert/2026-03-20-trinity-episcopal-cathedral-tribute-to-fleetwood-mac/
LOCATION:Trinity Episcopal Cathedral\, Pittsburgh\, PA\, United States
CATEGORIES:Pittsburgh, PA
ATTACH;FMTTYPE=image/jpeg:https://www.listeso.com/wp-content/uploads/2025/10/5c2e82a6-1f77-11f0-9fc3-b6302f1836c4-3Gs8kb.jpg
END:VEVENT
BEGIN:VEVENT
DTSTART;TZID=America/New_York:20260320T183000
DTEND;TZID=America/New_York:20260320T193000
DTSTAMP:20260421T044226
CREATED:20260224T134429Z
LAST-MODIFIED:20260224T134429Z
UID:10008323-1774031400-1774035000@www.listeso.com
SUMMARY:Candlelight: Tribute to Fleetwood Mac
DESCRIPTION:Overview\nCandlelight concerts bring the magic of a live\, multi-sensory musical experience to awe-inspiring locations like never seen before in Pittsburgh. Get your tickets now to discover the music of Fleetwood Mac at Trinity Episcopal Cathedral under the gentle glow of candlelight. \nGeneral Info\n\n📍 Venue: Trinity Episcopal Cathedral\n⏳ Duration: 60 minutes. Doors open 45 minutes before the show. No entry once it starts.\n👤 Age requirement: 8 years old or older. Anyone under the age of 16 must be accompanied by an adult\n♿ Accessibility: This venue is ADA compliant\n🪑 Seating: Seating is assigned on a first come first served basis in each zone\n\nTentative Program\n\nEverywhere\nGypsy\nYou Make Loving Fun\nNever Going Back Again\nDon’t Stop\nGold Dust Woman\nGo Your Own Way\nLandslide\nLittle Lies\nSongbird\nRhiannon\nThe Chain\n\nPerformers\n🎻 String Quartet – Listeso – Pittsburgh \nBook a Private Event\nLooking to create an unforgettable experience for your wedding\, or special occasion? We offer private event bookings with customized programs tailored to your needs. \nGet a quote
URL:https://www.listeso.com/concert/2026-03-20-trinity-episcopal-cathedral-tribute-to-fleetwood-mac-2/
LOCATION:Trinity Episcopal Cathedral\, Pittsburgh\, PA\, United States
CATEGORIES:Pittsburgh, PA
ATTACH;FMTTYPE=image/jpeg:https://www.listeso.com/wp-content/uploads/2025/10/5c2e82a6-1f77-11f0-9fc3-b6302f1836c4-3Gs8kb.jpg
END:VEVENT
BEGIN:VEVENT
DTSTART;TZID=America/New_York:20260320T204500
DTEND;TZID=America/New_York:20260320T214500
DTSTAMP:20260421T044226
CREATED:20260224T134406Z
LAST-MODIFIED:20260224T134406Z
UID:10008321-1774039500-1774043100@www.listeso.com
SUMMARY:Candlelight: Featuring Vivaldi's Four Seasons & More
DESCRIPTION:Overview\nCandlelight concerts bring the magic of a live\, multi-sensory musical experience to awe-inspiring locations like never seen before in Pittsburgh. Get your tickets now to discover the music of Vivaldi’s Four Seasons & More at Trinity Episcopal Cathedral under the gentle glow of candlelight. \nGeneral Info\n\n📍 Venue: Trinity Episcopal Cathedral\n⏳ Duration: 65 minutes. Doors open 30 minutes before the show. No entry once it starts.\n👤 Age requirement: 8 years old or older. Anyone under the age of 16 must be accompanied by an adult\n♿ Accessibility: this venue is ADA compliant\n🪑 Seating: Seating is assigned on a first come first served basis in each zone\n\nTentative Program\n\nThe Four Seasons\, Violin Concerto in G Minor\, Op. 8 No. 1 RV 269: Spring\nThe Four Seasons\, Violin Concerto in G Minor\, Op. 8 No. 2 RV 315: Summer\nThe Four Seasons\, Violin Concerto in G Minor\, Op. 8 No. 3 RV 293: Autumn\nThe Four Seasons\, Violin Concerto in G Minor\, Op. 8 No. 4 RV 297: Winter\nSonata n.12 in d-minor “La Follia” RV 63\n\nPerformers\n🎻 Listeso String Quartet \nBook a Private Event\nLooking to create an unforgettable experience for your wedding\, or special occasion? We offer private event bookings with customized programs tailored to your needs. \nGet a quote
URL:https://www.listeso.com/concert/2026-03-20-trinity-episcopal-cathedral-vivaldis-four-seasons-more/
LOCATION:Trinity Episcopal Cathedral\, Pittsburgh\, PA\, United States
CATEGORIES:Pittsburgh, PA
ATTACH;FMTTYPE=image/jpeg:https://www.listeso.com/wp-content/uploads/2025/10/9f8fa516-1ab3-11f0-acbb-460e748c3556-z1oZCe.jpg
END:VEVENT
BEGIN:VEVENT
DTSTART;TZID=America/New_York:20260321T183000
DTEND;TZID=America/New_York:20260321T193000
DTSTAMP:20260421T044226
CREATED:20260224T134441Z
LAST-MODIFIED:20260224T134441Z
UID:10008324-1774117800-1774121400@www.listeso.com
SUMMARY:Candlelight: Tribute to Adele
DESCRIPTION:Overview\nCandlelight concerts bring the magic of a live\, multi-sensory musical experience to awe-inspiring locations like never seen before in Pittsburgh. Get your tickets now to discover the music of Adele at The Circuit Center under the gentle glow of candlelight. \nGeneral Info\n\n📍 Venue: The Circuit Center\n⏳ Duration: 60 minutes. Doors open 45 minutes before the show. No entry once it starts.\n👤 Age requirement: 8 years old or older. Anyone under the age of 16 must be accompanied by an adult\n♿ Accessibility: This venue is ADA compliant\n🪑 Seating: Seating is assigned on a first come first served basis in each zone\n\nTentative Program\n\nHello\nRumour Has It\nMake You Feel My Love\nWater Under the Bridge\nOh My God\nSomeone Like You\nSend My Love (To Your New Lover)\nChasing Pavements\nSkyfall\nWhen We Were Young\nSet Fire to the Rain\nEasy On Me\nRolling in the Deep\n\nPerformers\n🎻 String Quartet – Listeso – Pittsburgh \nBook a Private Event\nLooking to create an unforgettable experience for your wedding\, or special occasion? We offer private event bookings with customized programs tailored to your needs. \nGet a quote
URL:https://www.listeso.com/concert/2026-03-21-the-circuit-center-tribute-to-adele/
LOCATION:The Circuit Center\, Pittsburgh\, PA\, United States
CATEGORIES:Pittsburgh, PA
ATTACH;FMTTYPE=image/jpeg:https://www.listeso.com/wp-content/uploads/2025/10/0810a33c-0f98-11f0-a7ed-c201363fcc44-exOHXZ.jpg
END:VEVENT
BEGIN:VEVENT
DTSTART;TZID=America/New_York:20260321T204500
DTEND;TZID=America/New_York:20260321T214500
DTSTAMP:20260421T044226
CREATED:20260224T134453Z
LAST-MODIFIED:20260224T134453Z
UID:10008325-1774125900-1774129500@www.listeso.com
SUMMARY:Candlelight: The Best of Hans Zimmer
DESCRIPTION:Overview\nCandlelight concerts bring the magic of a live\, multi-sensory musical experience to awe-inspiring locations like never seen before in Pittsburgh. Get your tickets now to discover the music of Hans Zimmer at The Circuit Center under the gentle glow of candlelight. \nGeneral Info\n\n📍 Venue: The Circuit Center\n⏳ Duration: 60 minutes. Doors open 45 minutes before the show. No entry once it starts.\n👤 Age requirement: 8 years old or older. Anyone under the age of 16 must be accompanied by an adult\n♿ Accessibility: This venue is ADA compliant\n🪑 Seating: Seating is assigned on a first come first served basis in each zone\n\nTentative Program\n\nTime – Inception\nThis Land – The Lion King\nZooster’s Breakout – Madagascar\nSupermarine – Dunkirk\nHonor – The Pacific\nA Dark Knight – The Dark Knight\nWonder Woman Suite\nGladiator Suite\nCornfield Chase – Interstellar\nDune Suite\nDiscombobulate – Sherlock Holmes\nPirates of the Caribbean Suite\n\nPerformers\n🎻 String Quartet – Listeso – Pittsburgh \nBook a Private Event\nLooking to create an unforgettable experience for your wedding\, or special occasion? We offer private event bookings with customized programs tailored to your needs. \nGet a quote
URL:https://www.listeso.com/concert/2026-03-21-the-circuit-center-candlelight-the-best-of-hans-zimmer/
LOCATION:The Circuit Center\, Pittsburgh\, PA\, United States
CATEGORIES:Pittsburgh, PA
ATTACH;FMTTYPE=image/jpeg:https://www.listeso.com/wp-content/uploads/2025/10/e2d3636e-1395-11f0-baa7-66dc5d784391-sdpps2.jpg
END:VEVENT
BEGIN:VEVENT
DTSTART;TZID=America/New_York:20260327T183000
DTEND;TZID=America/New_York:20260327T193000
DTSTAMP:20260421T044226
CREATED:20260323T112416Z
LAST-MODIFIED:20260323T112416Z
UID:10010095-1774636200-1774639800@www.listeso.com
SUMMARY:Candlelight: Romantic Jazz ft Billie Holiday\, Frank Sinatra\, & Ella Fitzgerald
DESCRIPTION:Overview\nCandlelight concerts bring the magic of a live\, multi-sensory musical experience to awe-inspiring locations like never seen before in Pittsburgh. Get your tickets now to discover the music of Romantic Jazz ft Billie Holiday\, Frank Sinatra\, & Ella Fitzgerald at Heinz History Center under the gentle glow of candlelight. \nGeneral Info\n\n⏳ Duration: 60 minutes. Doors open 45 minutes before the show. No entry once it starts.\n👤 Age requirement: 8 years old or older. Anyone under the age of 16 must be accompanied by an adult\n♿ Accessibility: this venue is ADA compliant\n🪑 Seating: Seating is assigned on a first come first served basis in each zone\n\nTentative Program\n\nI’ve Got A Crush On You – Ella Fitzgerald\nUnforgettable – Nat King Cole\nFly Me To The Moon – Frank Sinatra\nLover Man – Billie Holiday\nMy Funny Valentine – Chet Baker\nDon’t Know Why – Nora Jones\nI’ll Be Seeing You – Billie Holiday\nL-O-V-E – Nat King Cole\nI’ve Got You Under My Skin – Frank Sinatra\nDream a Little Dream – Ella Fitzgerald\n\nPerformers\n🎤 Band – PureSoul – San Francisco \nBook a Private Event\nLooking to create an unforgettable experience for your wedding\, or special occasion? We offer private event bookings with customized programs tailored to your needs. \nGet a quote
URL:https://www.listeso.com/concert/2026-03-27-heinz-history-center-romantic-jazz-ft-billie-holiday-frank-sinatra-ella-fitzgerald/
LOCATION:Heinz History Center\, Pittsburgh\, PA\, United States
CATEGORIES:Pittsburgh, PA
ATTACH;FMTTYPE=image/jpeg:https://www.listeso.com/wp-content/uploads/2025/10/589af1c2-2019-11f0-8c71-b2931dc7a749-KqsZsB.jpg
END:VEVENT
BEGIN:VEVENT
DTSTART;TZID=America/New_York:20260424T183000
DTEND;TZID=America/New_York:20260424T193000
DTSTAMP:20260421T044226
CREATED:20260224T134507Z
LAST-MODIFIED:20260224T134507Z
UID:10008326-1777055400-1777059000@www.listeso.com
SUMMARY:Candlelight: From Bach to The Beatles
DESCRIPTION:Overview\nCandlelight concerts bring the magic of a live\, multi-sensory musical experience to awe-inspiring locations like never seen before in Pittsburgh. Get your tickets now to discover music From Bach to The Beatles at Trinity Episcopal Cathedral under the gentle glow of candlelight. \nGeneral Info\n\n📍 Venue: Trinity Episcopal Cathedral\n⏳ Duration: 60 minutes. Doors open 45 minutes before the show. No entry once it starts.\n👤 Age requirement: 8 years old or older. Anyone under the age of 16 must be accompanied by an adult\n♿ Accessibility: This venue is ADA compliant\n🪑 Seating: Seating is assigned on a first come first served basis in each zone\n\nTentative Program\nBach: \n\nBrandenburg Concerto No. 3 in G Major\, BWV 1048: I. Allegro\nCello Suite No. 1 in G Major\, BWV 1007: I. Prelude\nAve Maria (Bach / Gounod)\nConcerto for 2 Violins in D Minor\, BWV 1043: I. Vivace\n\nThe Beatles: \n\nI Want to Hold Your Hand\nYesterday\nBlackbird\nStrawberry Fields Forever\nAll You Need Is Love\nEleanor Rigby\nMichelle\nLove Me Do\nSomething\nIn My Life\nHey Jude\nHere Comes the Sun\nCome Together\n\nPerformers\n🎻 Listeso String Quartet \nBook a Private Event\nLooking to create an unforgettable experience for your wedding\, or special occasion? We offer private event bookings with customized programs tailored to your needs. \nGet a quote
URL:https://www.listeso.com/concert/2026-04-24-trinity-episcopal-cathedral-from-bach-to-the-beatles/
LOCATION:Trinity Episcopal Cathedral\, Pittsburgh\, PA\, United States
CATEGORIES:Pittsburgh, PA
ATTACH;FMTTYPE=image/jpeg:https://www.listeso.com/wp-content/uploads/2025/10/ed0a3082-1a8f-11f0-95bb-f62d5ea4b178-eeB8dc.jpg
END:VEVENT
BEGIN:VEVENT
DTSTART;TZID=America/New_York:20260508T204500
DTEND;TZID=America/New_York:20260508T214500
DTSTAMP:20260421T044226
CREATED:20260310T112311Z
LAST-MODIFIED:20260310T112311Z
UID:10008869-1778273100-1778276700@www.listeso.com
SUMMARY:Candlelight: Tribute to Fleetwood Mac
DESCRIPTION:Overview\nCandlelight concerts bring the magic of a live\, multi-sensory musical experience to awe-inspiring locations like never seen before in Pittsburgh. Get your tickets now to discover the music of Fleetwood Mac at Trinity Episcopal Cathedral under the gentle glow of candlelight. \nGeneral Info\n\n📍 Venue: Trinity Episcopal Cathedral\n⏳ Duration: 60 minutes. Doors open 45 minutes before the show. No entry once it starts.\n👤 Age requirement: 8 years old or older. Anyone under the age of 16 must be accompanied by an adult\n♿ Accessibility: This venue is ADA compliant\n🪑 Seating: Seating is assigned on a first come first served basis in each zone\n\nTentative Program\n\nEverywhere\nGypsy\nYou Make Loving Fun\nNever Going Back Again\nDon’t Stop\nGold Dust Woman\nGo Your Own Way\nLandslide\nLittle Lies\nSongbird\nRhiannon\nThe Chain\n\nPerformers\n🎻 String Quartet – Listeso – Pittsburgh \nBook a Private Event\nLooking to create an unforgettable experience for your wedding\, or special occasion? We offer private event bookings with customized programs tailored to your needs. \nGet a quote
URL:https://www.listeso.com/concert/2026-05-08-trinity-episcopal-cathedral-candlelight-tribute-to-fleetwood-mac/
LOCATION:Trinity Episcopal Cathedral\, Pittsburgh\, PA\, United States
CATEGORIES:Pittsburgh, PA
ATTACH;FMTTYPE=image/jpeg:https://www.listeso.com/wp-content/uploads/2025/10/5c2e82a6-1f77-11f0-9fc3-b6302f1836c4-3Gs8kb.jpg
END:VEVENT
BEGIN:VEVENT
DTSTART;TZID=America/New_York:20260522T183000
DTEND;TZID=America/New_York:20260522T193500
DTSTAMP:20260421T044226
CREATED:20260324T111328Z
LAST-MODIFIED:20260324T111328Z
UID:10010193-1779474600-1779478500@www.listeso.com
SUMMARY:Candlelight: Featuring Vivaldi's Four Seasons & More
DESCRIPTION:Overview\nCandlelight concerts bring the magic of a live\, multi-sensory musical experience to awe-inspiring locations like never seen before in Pittsburgh. Get your tickets now to discover the music of Vivaldi’s Four Seasons & More at Trinity Episcopal Cathedral under the gentle glow of candlelight. \nGeneral Info\n\n📍 Venue: Trinity Episcopal Cathedral\n⏳ Duration: 65 minutes. Doors open 30 minutes before the show. No entry once it starts.\n👤 Age requirement: 8 years old or older. Anyone under the age of 16 must be accompanied by an adult\n♿ Accessibility: this venue is ADA compliant\n🪑 Seating: assigned on a first come first served basis in each zone\n\nTentative Program\n\nThe Four Seasons\, Violin Concerto in G Minor\, Op. 8 No. 1 RV 269: Spring\nThe Four Seasons\, Violin Concerto in G Minor\, Op. 8 No. 2 RV 315: Summer\nThe Four Seasons\, Violin Concerto in G Minor\, Op. 8 No. 3 RV 293: Autumn\nThe Four Seasons\, Violin Concerto in G Minor\, Op. 8 No. 4 RV 297: Winter\nSonata n.12 in d-minor “La Follia” RV 63\n\nPerformers\n🎻 Listeso String Quartet \nBook a Private Event\nLooking to create an unforgettable experience for your wedding\, or special occasion? We offer private event bookings with customized programs tailored to your needs. \nGet a quote
URL:https://www.listeso.com/concert/2026-05-22-trinity-episcopal-cathedral-vivaldis-four-seasons-more/
LOCATION:Trinity Episcopal Cathedral\, Pittsburgh\, PA\, United States
CATEGORIES:Pittsburgh, PA
ATTACH;FMTTYPE=image/jpeg:https://www.listeso.com/wp-content/uploads/2025/10/9f8fa516-1ab3-11f0-acbb-460e748c3556-z1oZCe.jpg
END:VEVENT
END:VCALENDAR