BEGIN:VCALENDAR
VERSION:2.0
PRODID:-//Listeso Music Group - A Boutique String Quartet Agency - ECPv6.15.20//NONSGML v1.0//EN
CALSCALE:GREGORIAN
METHOD:PUBLISH
X-WR-CALNAME:Listeso Music Group - A Boutique String Quartet Agency
X-ORIGINAL-URL:https://www.listeso.com
X-WR-CALDESC:Events for Listeso Music Group - A Boutique String Quartet Agency
REFRESH-INTERVAL;VALUE=DURATION:PT1H
X-Robots-Tag:noindex
X-PUBLISHED-TTL:PT1H
BEGIN:VTIMEZONE
TZID:America/Los_Angeles
BEGIN:DAYLIGHT
TZOFFSETFROM:-0800
TZOFFSETTO:-0700
TZNAME:PDT
DTSTART:20240310T100000
END:DAYLIGHT
BEGIN:STANDARD
TZOFFSETFROM:-0700
TZOFFSETTO:-0800
TZNAME:PST
DTSTART:20241103T090000
END:STANDARD
BEGIN:DAYLIGHT
TZOFFSETFROM:-0800
TZOFFSETTO:-0700
TZNAME:PDT
DTSTART:20250309T100000
END:DAYLIGHT
BEGIN:STANDARD
TZOFFSETFROM:-0700
TZOFFSETTO:-0800
TZNAME:PST
DTSTART:20251102T090000
END:STANDARD
BEGIN:DAYLIGHT
TZOFFSETFROM:-0800
TZOFFSETTO:-0700
TZNAME:PDT
DTSTART:20260308T100000
END:DAYLIGHT
BEGIN:STANDARD
TZOFFSETFROM:-0700
TZOFFSETTO:-0800
TZNAME:PST
DTSTART:20261101T090000
END:STANDARD
END:VTIMEZONE
BEGIN:VEVENT
DTSTART;TZID=America/Los_Angeles:20251207T183000
DTEND;TZID=America/Los_Angeles:20251207T193000
DTSTAMP:20260421T115034
CREATED:20251115T120317Z
LAST-MODIFIED:20251115T120317Z
UID:10007044-1765132200-1765135800@www.listeso.com
SUMMARY:Candlelight: Coldplay vs. Imagine Dragons
DESCRIPTION:Overview\nCandlelight concerts bring the magic of a live\, multi-sensory musical experience to awe-inspiring locations like never seen before in Reno. Get your tickets now to discover the music of Coldplay vs. Imagine Dragons at Celebrity Showroom under the gentle glow of candlelight. \nGeneral Info\n\n📍 Venue: Celebrity Showroom\n⏳ Duration: 60 minutes. Doors open 45 minutes before the show and close 5 minutes prior to the start. Late arrivals will not be permitted\n👤 Age requirement: 8 years old or older. Anyone under the age of 16 must be accompanied by an adult\n♿ Accessibility: This venue is ADA compliant\n🪑 Seating: Seating is assigned on a first come first served basis in each zone\n\nTentative Program\n\nColdplay – Clocks\nColdplay – Something Just Like This\nImagine Dragons – Radioactive\nColdplay – Adventure of a Lifetime\nColdplay – Fix You\nImagine Dragons – Eyes Closed\nImagine Dragons – Nice to Meet You\nColdplay – The Scientist\nColdplay – feelslikeimfallinginlove\nImagine Dragons – Follow You\nImagine Dragons – Bad Liar\nColdplay – Viva la Vida\nImagine Dragons – Believer\nColdplay – Sky Full of Stars\n\nPerformers\n🎻 String Quartet – Listeso – Reno \nBook a Private Event\nLooking to create an unforgettable experience for your wedding\, or special occasion? We offer private event bookings with customized programs tailored to your needs. \nGet a quote
URL:https://www.listeso.com/concert/2025-12-07-celebrity-showroom-coldplay-vs-imagine-dragons/
LOCATION:Celebrity Showroom\, Reno\, NV\, United States
CATEGORIES:Reno, NV
ATTACH;FMTTYPE=image/jpeg:https://www.listeso.com/wp-content/uploads/2025/10/53777c04-1157-11f0-bc63-0ee885ccc32f-5sEo1f.jpg
END:VEVENT
BEGIN:VEVENT
DTSTART;TZID=America/Los_Angeles:20251214T183000
DTEND;TZID=America/Los_Angeles:20251214T193000
DTSTAMP:20260421T115034
CREATED:20251114T120533Z
LAST-MODIFIED:20251114T120533Z
UID:10007037-1765737000-1765740600@www.listeso.com
SUMMARY:Candlelight: Christmas Carols on Strings
DESCRIPTION:Overview\nCandlelight concerts bring the magic of a live\, multi-sensory musical experience to awe-inspiring locations like never seen before in Reno. Get your tickets now to discover the music of Christmas Carols on Strings at Celebrity Showroom under the gentle glow of candlelight. \nGeneral Info\n\n📍 Venue: Celebrity Showroom\n⏳ Duration: 60 minutes. Doors open 45 minutes before the show and close 5 minutes prior to the start. Late arrivals will not be permitted\n👤 Age requirement: 8 years old or older. Anyone under the age of 16 must be accompanied by an adult\n♿ Accessibility: This venue is ADA compliant\n🪑 Seating: Seating is assigned on a first come first served basis in each zone\n\nTentative Program\n\n12 Days of Christmas\nAngels from the Realms of Glory\nAngels We Have Heard On High\nAway in a Manger\nCarol of the Bells\nDeck the Halls\nDing Dong! Merrily on High\nDo You Hear What I Hear\nGod Rest Ye Merry Gentlemen\nGood King Wenceslas\nGreensleeves (What Child Is This)\nHark! The Herald Angels Sing\nIn the Bleak Mid-Winter\nJoy to the World\nO Christmas Tree (O Tannenbaum)\nO Come All Ye Faithful\nO Holy Night\nO Little Town of Bethlehem\nSilent Night\nThe First Noël\n\nPerformers\n🎻 String Quartet – Listeso – Reno \nBook a Private Event\nLooking to create an unforgettable experience for your wedding\, or special occasion? We offer private event bookings with customized programs tailored to your needs. \nGet a quote
URL:https://www.listeso.com/concert/2025-12-14-celebrity-showroom-christmas-carols-on-strings/
LOCATION:Celebrity Showroom\, Reno\, NV\, United States
CATEGORIES:Reno, NV
ATTACH;FMTTYPE=image/jpeg:https://www.listeso.com/wp-content/uploads/2025/10/1cd38944-3f93-11f0-9f27-f6015fffcc12-lLJbvL.jpg
END:VEVENT
BEGIN:VEVENT
DTSTART;TZID=America/Los_Angeles:20251219T183000
DTEND;TZID=America/Los_Angeles:20251219T193000
DTSTAMP:20260421T115034
CREATED:20251109T122054Z
LAST-MODIFIED:20251109T122054Z
UID:10006779-1766169000-1766172600@www.listeso.com
SUMMARY:Candlelight: Christmas Carols on Strings
DESCRIPTION:Overview\nCandlelight concerts bring the magic of a live\, multi-sensory musical experience to awe-inspiring locations like never seen before in Reno. Get your tickets now to discover the music of Christmas Carols on Strings at Celebrity Showroom under the gentle glow of candlelight. \nGeneral Info\n\n⏳ Duration: 60 minutes. Doors open 45 minutes before the show and close 5 minutes prior to the start. Late arrivals will not be permitted\n👤 Age requirement: 8 years old or older. Anyone under the age of 16 must be accompanied by an adult\n♿ Accessibility: This venue is ADA compliant\n🪑 Seating: Seating is assigned on a first come first served basis in each zone\n\nTentative Program\n\n12 Days of Christmas\nAngels from the Realms of Glory\nAngels We Have Heard On High\nAway in a Manger\nCarol of the Bells\nDeck the Halls\nDing Dong! Merrily on High\nDo You Hear What I Hear\nGod Rest Ye Merry Gentlemen\nGood King Wenceslas\nGreensleeves (What Child Is This)\nHark! The Herald Angels Sing\nIn the Bleak Mid-Winter\nJoy to the World\nO Christmas Tree (O Tannenbaum)\nO Come All Ye Faithful\nO Holy Night\nO Little Town of Bethlehem\nSilent Night\nThe First Noël\n\nPerformers\n🎻 String Quartet – Listeso – Reno \nBook a Private Event\nLooking to create an unforgettable experience for your wedding\, or special occasion? We offer private event bookings with customized programs tailored to your needs. \nGet a quote
URL:https://www.listeso.com/concert/2025-12-19-celebrity-showroom-christmas-carols-on-strings/
LOCATION:Celebrity Showroom\, Reno\, NV\, United States
CATEGORIES:Reno, NV
ATTACH;FMTTYPE=image/jpeg:https://www.listeso.com/wp-content/uploads/2025/10/1cd38944-3f93-11f0-9f27-f6015fffcc12-lLJbvL.jpg
END:VEVENT
BEGIN:VEVENT
DTSTART;TZID=America/Los_Angeles:20251221T183000
DTEND;TZID=America/Los_Angeles:20251221T193000
DTSTAMP:20260421T115034
CREATED:20251113T120651Z
LAST-MODIFIED:20251113T120651Z
UID:10007016-1766341800-1766345400@www.listeso.com
SUMMARY:Candlelight: Tribute to The Beatles
DESCRIPTION:Overview\nCandlelight concerts bring the magic of a live\, multi-sensory musical experience to awe-inspiring locations like never seen before in Reno. Get your tickets now to discover the music of The Beatles at Celebrity Showroom under the gentle glow of candlelight. \nGeneral Info\n\n📍 Venue: Celebrity Showroom\n⏳ Duration: 60 minutes. Doors open 45 minutes before the show and close 5 minutes prior to the start. Late arrivals will not be permitted\n👤 Age requirement: 8 years old or older. Anyone under the age of 16 must be accompanied by an adult\n♿ Accessibility: This venue is ADA compliant\n🪑 Seating: Seating is assigned on a first come first served basis in each zone\n\nTentative Program\n\nI Want To Hold Your Hand\nPenny Lane\nStrawberry Fields\nCome Together\nHere Comes the Sun\nWith A Little Help From My Friends\nHelp!\nEleanor Rigby\nWhile My Guitar Gently Weeps\nHelter Skelter\nBlackbird\nA Day in the Life\nYesterday\nLet It Be\n\nPerformers\n🎻 String Quartet – Listeso – Reno \nBook a Private Event\nLooking to create an unforgettable experience for your wedding\, or special occasion? We offer private event bookings with customized programs tailored to your needs. \nGet a quote
URL:https://www.listeso.com/concert/2025-12-21-celebrity-showroom-candlelight-tribute-to-the-beatles/
LOCATION:Celebrity Showroom\, Reno\, NV\, United States
CATEGORIES:Reno, NV
ATTACH;FMTTYPE=image/jpeg:https://www.listeso.com/wp-content/uploads/2025/10/c17e88b4-1a8f-11f0-9e2a-06219c51c6f2-XM6weN.jpg
END:VEVENT
BEGIN:VEVENT
DTSTART;TZID=America/Los_Angeles:20251221T203000
DTEND;TZID=America/Los_Angeles:20251221T213000
DTSTAMP:20260421T115034
CREATED:20251109T122112Z
LAST-MODIFIED:20251109T122112Z
UID:10006780-1766349000-1766352600@www.listeso.com
SUMMARY:Candlelight: 90s Unplugged
DESCRIPTION:Overview\nCandlelight concerts bring the magic of a live\, multi-sensory musical experience to awe-inspiring locations like never seen before in Reno. Get your tickets now to discover the music of 90s Unplugged at Celebrity Showroom under the gentle glow of candlelight. \nGeneral Info\n\n📍 Venue: Celebrity Showroom\n⏳ Duration: 60 minutes. Doors open 45 minutes before the show and close 5 minutes prior to the start. Late arrivals will not be permitted\n👤 Age requirement: 8 years old or older. Anyone under the age of 16 must be accompanied by an adult\n♿ Accessibility: This venue is ADA compliant\n🪑 Seating: Seating is assigned on a first come first served basis in each zone\n\nTentative Program\n\nEverlong – Foo Fighters\nDon’t Speak – No Doubt\nZombie – The Cranberries\nIronic – Alanis Morrissette\nWonderwall – Oasis\nHigh and Dry – Radiohead\nEnter Sandman – Metallica\nUnder the Bridge – Red Hot Chili Peppers\nFly Away – Lenny Kravitz\nHallelujah – Jeff Buckley\nTears in Heaven – Eric Clapton\nSmells Like Teen Spirit – Nirvana\n\nPerformers\n🎻 Listeso – Reno \nBook a Private Event\nLooking to create an unforgettable experience for your wedding\, or special occasion? We offer private event bookings with customized programs tailored to your needs. \nGet a quote
URL:https://www.listeso.com/concert/2025-12-21-celebrity-showroom-candlelight-90s-unplugged/
LOCATION:Celebrity Showroom\, Reno\, NV\, United States
CATEGORIES:Reno, NV
ATTACH;FMTTYPE=image/jpeg:https://www.listeso.com/wp-content/uploads/2025/11/56f629e0-0f93-11f0-81a0-762b521a76e7-tC8XWW.jpg
END:VEVENT
END:VCALENDAR