BEGIN:VCALENDAR
VERSION:2.0
PRODID:-//Listeso Music Group - A Boutique String Quartet Agency - ECPv6.15.20//NONSGML v1.0//EN
CALSCALE:GREGORIAN
METHOD:PUBLISH
X-ORIGINAL-URL:https://www.listeso.com
X-WR-CALDESC:Events for Listeso Music Group - A Boutique String Quartet Agency
REFRESH-INTERVAL;VALUE=DURATION:PT1H
X-Robots-Tag:noindex
X-PUBLISHED-TTL:PT1H
BEGIN:VTIMEZONE
TZID:America/Los_Angeles
BEGIN:DAYLIGHT
TZOFFSETFROM:-0800
TZOFFSETTO:-0700
TZNAME:PDT
DTSTART:20240310T100000
END:DAYLIGHT
BEGIN:STANDARD
TZOFFSETFROM:-0700
TZOFFSETTO:-0800
TZNAME:PST
DTSTART:20241103T090000
END:STANDARD
BEGIN:DAYLIGHT
TZOFFSETFROM:-0800
TZOFFSETTO:-0700
TZNAME:PDT
DTSTART:20250309T100000
END:DAYLIGHT
BEGIN:STANDARD
TZOFFSETFROM:-0700
TZOFFSETTO:-0800
TZNAME:PST
DTSTART:20251102T090000
END:STANDARD
BEGIN:DAYLIGHT
TZOFFSETFROM:-0800
TZOFFSETTO:-0700
TZNAME:PDT
DTSTART:20260308T100000
END:DAYLIGHT
BEGIN:STANDARD
TZOFFSETFROM:-0700
TZOFFSETTO:-0800
TZNAME:PST
DTSTART:20261101T090000
END:STANDARD
END:VTIMEZONE
BEGIN:VEVENT
DTSTART;TZID=America/Los_Angeles:20251130T183000
DTEND;TZID=America/Los_Angeles:20251130T193000
DTSTAMP:20260421T151246
CREATED:20251017T111347Z
LAST-MODIFIED:20251017T111347Z
UID:10005892-1764527400-1764531000@www.listeso.com
SUMMARY:Candlelight: From Bach to The Beatles
DESCRIPTION:Overview\nCandlelight concerts bring the magic of a live\, multi-sensory musical experience to awe-inspiring locations like never seen before in San Jose. Get your tickets now to discover the music of From Bach to The Beatles at Hammer Theatre Center under the gentle glow of candlelight. \nGeneral Info\n\n📍 Venue: Hammer Theatre Center\n⏳ Duration: 60 minutes. Doors open 60 minutes before the show and close 5 minutes prior to the start. Late arrivals will not be permitted\n👤 Age requirement: 8 years old or older. Anyone under the age of 16 must be accompanied by an adult\n♿ Accessibility: This venue is ADA compliant\n🪑 Seating: Assigned on a first come first served basis in each zone\n\nTentative Program\nThe Beatles \n\nHere Comes the Sun\nDay Tripper\nA Hard Day’s Night\nYesterday\nWhile My Guitar Gently Weeps\nCome Together\nHey Jude\nLet It Be\nI Want to Hold Your Hand\nEleanor Rigby\n\nJ.S. Bach \n\nBrandenburg Concerto No. 3: III\nBach/Gounod Ave Maria (J.S. Bach/Gounod)\nBrandenburg Concerto No. 3: I\nDouble Violin Concerto: I\nDouble Violin Concerto: II\n\nPerformers\n🎻 Range Ensemble \nBook a Private Event\nLooking to create an unforgettable experience for your wedding\, or special occasion? We offer private event bookings with customized programs tailored to your needs. \nGet a quote
URL:https://www.listeso.com/concert/2025-11-30-hammer-theatre-center-from-bach-to-the-beatles/
LOCATION:Hammer Theatre Center\, San Jose\, CA\, United States
CATEGORIES:San Jose, CA
ATTACH;FMTTYPE=image/jpeg:https://www.listeso.com/wp-content/uploads/2025/10/fbd716bc-1a93-11f0-b632-c25aaa6cf640-aS35F0.jpg
END:VEVENT
BEGIN:VEVENT
DTSTART;TZID=America/Los_Angeles:20251130T204500
DTEND;TZID=America/Los_Angeles:20251130T214500
DTSTAMP:20260421T151246
CREATED:20251017T111401Z
LAST-MODIFIED:20251017T111401Z
UID:10005893-1764535500-1764539100@www.listeso.com
SUMMARY:Candlelight: The Best of Hans Zimmer
DESCRIPTION:Overview\nCandlelight concerts bring the magic of a live\, multi-sensory musical experience to awe-inspiring locations like never seen before in San Jose. Get your tickets now to discover the music of Hans Zimmer at Hammer Theatre Center under the gentle glow of candlelight. \nGeneral Info\n\n📍 Venue: Hammer Theatre Center\n⏳ Duration: 60 minutes. Doors open 60 minutes before the show and close 5 minutes prior to the start. Late arrivals will not be permitted\n👤 Age requirement: 8 years old or older. Anyone under the age of 16 must be accompanied by an adult\n♿ Accessibility: This venue is ADA compliant\n🪑 Seating: Seating is assigned on a first come first served basis in each zone\n\nTentative Program\n\n“Time” from Inception\n“Discombobulate” from Sherlock Holmes\n“Supermarine” from Dunkirk\n“A Dark Knight” from The Dark Knight\nSuite from Dune\nSuite from Gladiator\n“This Land” from The Lion King\n“Cornfield Chase” from Interstellar\nSuite from Pirates of the Caribbean\n“Deliver Us” from The Prince of Egypt\n“Zooster’s Breakout” from Madagascar\nWonder Woman Suite\n“Honor” from The Pacific\n\nPerformers\n🎻 String Quartet – Range Ensemble \nBook a Private Event\nLooking to create an unforgettable experience for your wedding\, or special occasion? We offer private event bookings with customized programs tailored to your needs. \nGet a quote
URL:https://www.listeso.com/concert/2025-11-30-hammer-theatre-center-candlelight-the-best-of-hans-zimmer/
LOCATION:Hammer Theatre Center\, San Jose\, CA\, United States
CATEGORIES:San Jose, CA
ATTACH;FMTTYPE=image/jpeg:https://www.listeso.com/wp-content/uploads/2025/10/e2d3636e-1395-11f0-baa7-66dc5d784391-sdpps2.jpg
END:VEVENT
BEGIN:VEVENT
DTSTART;TZID=America/Los_Angeles:20251212T183000
DTEND;TZID=America/Los_Angeles:20251212T193000
DTSTAMP:20260421T151246
CREATED:20251028T111213Z
LAST-MODIFIED:20251028T111213Z
UID:10006179-1765564200-1765567800@www.listeso.com
SUMMARY:Candlelight: The Best of Joe Hisaishi
DESCRIPTION:Overview\nCandlelight concerts bring the magic of a live\, multi-sensory musical experience to awe-inspiring locations like never seen before in San Jose. Get your tickets now to discover the music of Joe Hisaishi at Hammer Theatre Center under the gentle glow of candlelight. \nGeneral Info\n\n📍 Venue: Hammer Theatre Center\n⏳ Duration: 60 minutes. Doors open 60 minutes before the show and close 5 minutes prior to the start. Late arrivals will not be permitted\n👤 Age requirement: 8 years old or older. Anyone under the age of 16 must be accompanied by an adult\n♿ Accessibility: This venue is ADA compliant\n🪑 Seating: Seating is assigned on a first come first served basis in each zone\n\nTentative Program\n\nNausicaa of the Valley of the Wind – Kaze no Tani\nLaputa: Castle in the Sky – Kimi wo Nosete\nMy Neighbour Totoro – Kaze no Toori Michi\nMy Neighbour Totoro – Main Theme\nKiki’s Delivery Service – Umi no Mieru Machi\nKiki’s Delivery Service – Tabidachi\nPrincess Mononoke – Main Theme\nSpirited Away – Inochi no Namae\nSpirited Away – Chihiro’s Waltz\nPonyo – Gake no Ue no Ponyo\nThe Wind Rises – A Journey (A Dream of Flight)\nKikujiro – Summer\nThe Tale of Princess Kaguya – When I Remember This Life\nHowl’s Moving Castle – Merry Go Round of Life\n\nPerformers\n🎻 String Quartet – Range Ensemble – San Francisco \nBook a Private Event\nLooking to create an unforgettable experience for your wedding\, or special occasion? We offer private event bookings with customized programs tailored to your needs. \nGet a quote
URL:https://www.listeso.com/concert/2025-12-12-hammer-theatre-center-candlelight-the-best-of-joe-hisaishi/
LOCATION:Hammer Theatre Center\, San Jose\, CA\, United States
CATEGORIES:San Jose, CA
ATTACH;FMTTYPE=image/jpeg:https://www.listeso.com/wp-content/uploads/2025/10/efe4e09a-1517-11f0-b544-a6b24187f688-aU8ZWK.jpg
END:VEVENT
BEGIN:VEVENT
DTSTART;TZID=America/Los_Angeles:20251212T204500
DTEND;TZID=America/Los_Angeles:20251212T214500
DTSTAMP:20260421T151246
CREATED:20251028T111157Z
LAST-MODIFIED:20251028T111157Z
UID:10006178-1765572300-1765575900@www.listeso.com
SUMMARY:Candlelight: Queen vs. ABBA
DESCRIPTION:Overview\nCandlelight concerts bring the magic of a live\, multi-sensory musical experience to awe-inspiring locations like never seen before in San Jose. Get your tickets now to discover the music of Queen vs. ABBA at Hammer Theatre Center under the gentle glow of candlelight. \nGeneral Info\n\n📍 Venue: Hammer Theatre Center\n⏳ Duration: 60 minutes. Doors open 60 minutes before the show and close 5 minutes prior to the start. Late arrivals will not be permitted\n👤 Age requirement: 8 years old or older. Anyone under the age of 16 must be accompanied by an adult\n♿ Accessibility: This venue is ADA compliant\n🪑 Seating: Seating is assigned on a first come first served basis in each zone\n\nTentative Program\n\nDancing Queen – ABBA\nSOS – ABBA\nMoney\, Money\, Money – ABBA\nVoulez Vous – ABBA\nBohemian Rhapsody – Queen\nI Want to Break Free – Queen\nKiller Queen – Queen\nWaterloo – ABBA\nSuper Trouper – ABBA\nMamma Mia – ABBA\nDon’t Stop Me Now – Queen\nWe Will Rock You – Queen\nWe Are the Champions – Queen\nGimme Gimme Gimme – ABBA\n\nPerformers\n🎻 String Quartet – Listeso – San Francisco \nBook a Private Event\nLooking to create an unforgettable experience for your wedding\, or special occasion? We offer private event bookings with customized programs tailored to your needs. \nGet a quote
URL:https://www.listeso.com/concert/2025-12-12-hammer-theatre-center-candlelight-queen-vs-abba/
LOCATION:Hammer Theatre Center\, San Jose\, CA\, United States
CATEGORIES:San Jose, CA
ATTACH;FMTTYPE=image/jpeg:https://www.listeso.com/wp-content/uploads/2025/10/cfc3a094-1945-11f0-a825-56c21721c770-kB4CaB.jpg
END:VEVENT
BEGIN:VEVENT
DTSTART;TZID=America/Los_Angeles:20251214T183000
DTEND;TZID=America/Los_Angeles:20251214T193000
DTSTAMP:20260421T151246
CREATED:20251114T120606Z
LAST-MODIFIED:20251114T120606Z
UID:10007039-1765737000-1765740600@www.listeso.com
SUMMARY:Candlelight: Tribute to Luis Miguel
DESCRIPTION:Overview\nCandlelight concerts bring the magic of a live\, multi-sensory musical experience to awe-inspiring locations like never seen before in San Jose. Get your tickets now to discover the music of Luis Miguel at Corinthian Grand Ballroom under the gentle glow of candlelight. \nGeneral Info\n\n📍 Venue: Corinthian Grand Ballroom\n⏳ Duration: 60 minutes. Doors open 45 minutes before the show and close 5 minutes prior to the start. Late arrivals will not be permitted\n👤 Age requirement: 8 years old or older. Anyone under the age of 16 must be accompanied by an adult\n♿ Accessibility: This venue is ADA compliant\n🪑 Seating: Seating is assigned on a first come first served basis in each zone\n\nTentative Program\n\nLa Incondicional\nTengo Todo Excepto A Ti\nPor Debajo de la Mesa – Armando Manzanero\nCulpable O No\nEntregate\nHasta Que Me Olvides\nLa Media Vuelta – Jose Alfredo\nSabor A Mi\nSera Que No Me Amas\nSuave\nAmarte es un placer\nAhora Te Puedes Marchar\n\nPerformers\n🎻 String Quartet – Listeso – San Francisco \nBook a Private Event\nLooking to create an unforgettable experience for your wedding\, or special occasion? We offer private event bookings with customized programs tailored to your needs. \nGet a quote
URL:https://www.listeso.com/concert/2025-12-14-corinthian-grand-ballroom-tribute-to-luis-miguel/
LOCATION:Corinthian Grand Ballroom\, San Jose\, CA\, United States
CATEGORIES:San Jose, CA
ATTACH;FMTTYPE=image/jpeg:https://www.listeso.com/wp-content/uploads/2025/10/3f6591ee-6308-11f0-b183-1ebdea4a44d3-B6hCGJ.jpg
END:VEVENT
BEGIN:VEVENT
DTSTART;TZID=America/Los_Angeles:20251214T204500
DTEND;TZID=America/Los_Angeles:20251214T214500
DTSTAMP:20260421T151246
CREATED:20251114T120552Z
LAST-MODIFIED:20251114T120552Z
UID:10007038-1765745100-1765748700@www.listeso.com
SUMMARY:Candlelight: Christmas Carols on Strings
DESCRIPTION:Overview\nCandlelight concerts bring the magic of a live\, multi-sensory musical experience to awe-inspiring locations like never seen before in San Jose. Get your tickets now to discover the music of Christmas Carols on Strings at Corinthian Grand Ballroom under the gentle glow of candlelight. \nGeneral Info\n\n📍 Venue: Corinthian Grand Ballroom\n⏳ Duration: 60 minutes. Doors open 45 minutes before the show and close 5 minutes prior to the start. Late arrivals will not be permitted\n👤 Age requirement: 8 years old or older. Anyone under the age of 16 must be accompanied by an adult\n♿ Accessibility: This venue is ADA compliant\n🪑 Seating: Seating is assigned on a first come first served basis in each zone\n\nTentative Program\n\n12 Days of Christmas\nAngels from the Realms of Glory\nAngels We Have Heard On High\nAway in a Manger\nCarol of the Bells\nDeck the Halls\nDing Dong! Merrily on High\nDo You Hear What I Hear\nGod Rest Ye Merry Gentlemen\nGood King Wenceslas\nGreensleeves (What Child Is This)\nHark! The Herald Angels Sing\nIn the Bleak Mid-Winter\nJoy to the World\nO Christmas Tree (O Tannenbaum)\nO Come All Ye Faithful\nO Holy Night\nO Little Town of Bethlehem\nSilent Night\nThe First Noël\n\nPerformers\n🎻 String Quartet – Listeso – San Francisco \nBook a Private Event\nLooking to create an unforgettable experience for your wedding\, or special occasion? We offer private event bookings with customized programs tailored to your needs. \nGet a quote
URL:https://www.listeso.com/concert/2025-12-14-corinthian-grand-ballroom-christmas-carols-on-strings/
LOCATION:Corinthian Grand Ballroom\, San Jose\, CA\, United States
CATEGORIES:San Jose, CA
ATTACH;FMTTYPE=image/jpeg:https://www.listeso.com/wp-content/uploads/2025/10/b80a96a8-3f9a-11f0-a4dc-2a16c96ae6c8-Psfogf.jpg
END:VEVENT
BEGIN:VEVENT
DTSTART;TZID=America/Los_Angeles:20251218T183000
DTEND;TZID=America/Los_Angeles:20251218T193000
DTSTAMP:20260421T151246
CREATED:20251023T110922Z
LAST-MODIFIED:20251023T110922Z
UID:10006074-1766082600-1766086200@www.listeso.com
SUMMARY:Candlelight: Tribute to The Beatles
DESCRIPTION:Overview\nCandlelight concerts bring the magic of a live\, multi-sensory musical experience to awe-inspiring locations like never seen before in San Jose. Get your tickets now to discover the music of The Beatles at Corinthian Grand Ballroom under the gentle glow of candlelight. \nGeneral Info\n\n📍 Venue: Corinthian Grand Ballroom\n⏳ Duration: 60 minutes. Doors open 60 minutes before the show and close 5 minutes prior to the start. Late arrivals will not be permitted\n👤 Age requirement: 8 years old or older. Anyone under the age of 16 must be accompanied by an adult\n♿ Accessibility: This venue is ADA compliant\n🪑 Seating: Seating is assigned on a first come first served basis in each zone\n\nTentative Program\n\nHere Comes The Sun\nI Want To Hold Your Hand\nHelp!\nMichelle\nPenny Lane\nCome Together\nWe Can Work It Out\nWhile My Guitar Gently Weeps\nLady Madonna\nBlackbird\nHere\, There\, and Everywhere\nEleanor Rigby\nLucy In The Sky With Diamonds\nYesterday\nWith A Little Help From My Friends\nHey Jude\n\nPerformers\n🎻 Listeso String Quartet \nBook a Private Event\nLooking to create an unforgettable experience for your wedding\, or special occasion? We offer private event bookings with customized programs tailored to your needs. \nGet a quote
URL:https://www.listeso.com/concert/2025-12-18-corinthian-grand-ballroom-tribute-to-the-beatles/
LOCATION:Corinthian Grand Ballroom\, San Jose\, CA\, United States
CATEGORIES:San Jose, CA
ATTACH;FMTTYPE=image/jpeg:https://www.listeso.com/wp-content/uploads/2025/10/c17e88b4-1a8f-11f0-9e2a-06219c51c6f2-XM6weN.jpg
END:VEVENT
BEGIN:VEVENT
DTSTART;TZID=America/Los_Angeles:20251218T204500
DTEND;TZID=America/Los_Angeles:20251218T214500
DTSTAMP:20260421T151246
CREATED:20251023T110908Z
LAST-MODIFIED:20251023T110908Z
UID:10006073-1766090700-1766094300@www.listeso.com
SUMMARY:Candlelight: Coldplay vs. Imagine Dragons
DESCRIPTION:Overview\nCandlelight concerts bring the magic of a live\, multi-sensory musical experience to awe-inspiring locations like never seen before in San Jose. Get your tickets now to discover the music of Coldplay vs. Imagine Dragons at Corinthian Grand Ballroom under the gentle glow of candlelight. \nGeneral Info\n\n📍 Venue: Corinthian Grand Ballroom\n📅 Dates and times: select your dates/times directly in the ticket selector\n⏳ Duration: 60 minutes. Doors open 45 minutes before the show and close 5 minutes prior to the start. Late arrivals will not be permitted\n👤 Age requirement: 8 years old or older. Anyone under the age of 16 must be accompanied by an adult\n♿ Accessibility: this venue is ADA compliant\n🪑 Seating: Seating is assigned on a first come first served basis in each zone\n\nTentative Program\n\nColdplay – Clocks\nColdplay – Something Just Like This\nImagine Dragons – Radioactive\nColdplay – Adventure of a Lifetime\nColdplay – Fix You\nImagine Dragons – Eyes Closed\nImagine Dragons – Nice to Meet You\nColdplay – The Scientist\nColdplay – feelslikeimfallinginlove\nImagine Dragons – Follow You\nImagine Dragons – Bad Liar\nColdplay – Viva la Vida\nImagine Dragons – Believer\nColdplay – Sky Full of Stars\n\nPerformers\n🎻 Listeso String Quartet \nBook a Private Event\nLooking to create an unforgettable experience for your wedding\, or special occasion? We offer private event bookings with customized programs tailored to your needs. \nGet a quote
URL:https://www.listeso.com/concert/2025-12-18-corinthian-grand-ballroom-coldplay-vs-imagine-dragons/
LOCATION:Corinthian Grand Ballroom\, San Jose\, CA\, United States
CATEGORIES:San Jose, CA
ATTACH;FMTTYPE=image/jpeg:https://www.listeso.com/wp-content/uploads/2025/10/dc03f484-1158-11f0-b7b8-c22f5b3d6cc1-1DGOCa.jpg
END:VEVENT
BEGIN:VEVENT
DTSTART;TZID=America/Los_Angeles:20251221T183000
DTEND;TZID=America/Los_Angeles:20251221T193000
DTSTAMP:20260421T151246
CREATED:20251028T111227Z
LAST-MODIFIED:20251028T111227Z
UID:10006180-1766341800-1766345400@www.listeso.com
SUMMARY:Candlelight: Christmas Carols on Strings
DESCRIPTION:Overview\nCandlelight concerts bring the magic of a live\, multi-sensory musical experience to awe-inspiring locations like never seen before in San Jose. Get your tickets now to discover the music of Christmas Carols on Strings at Corinthian Grand Ballroom under the gentle glow of candlelight. \nGeneral Info\n\n📍 Venue: Corinthian Grand Ballroom\n⏳ Duration: 60 minutes. Doors open 45 minutes before the show and close 5 minutes prior to the start. Late arrivals will not be permitted\n👤 Age requirement: 8 years old or older. Anyone under the age of 16 must be accompanied by an adult\n♿ Accessibility: this venue is ADA compliant\n🪑 Seating: assigned on a first come first served basis in each zone\n\nTentative Program\n\n12 Days of Christmas\nAngels from the Realms of Glory\nAngels We Have Heard On High\nAway in a Manger\nCarol of the Bells\nDeck the Halls\nDing Dong! Merrily on High\nDo You Hear What I Hear\nGod Rest Ye Merry Gentlemen\nGood King Wenceslas\nGreensleeves (What Child Is This)\nHark! The Herald Angels Sing\nIn the Bleak Mid-Winter\nJoy to the World\nO Christmas Tree (O Tannenbaum)\nO Come All Ye Faithful\nO Holy Night\nO Little Town of Bethlehem\nSilent Night\nThe First Noël\n\nPerformers\n🎻 String Quartet – Listeso – San Francisco \nBook a Private Event\nLooking to create an unforgettable experience for your wedding\, or special occasion? We offer private event bookings with customized programs tailored to your needs. \nGet a quote
URL:https://www.listeso.com/concert/2025-12-21-corinthian-grand-ballroom-christmas-carols-on-strings/
LOCATION:Corinthian Grand Ballroom\, San Jose\, CA\, United States
CATEGORIES:San Jose, CA
ATTACH;FMTTYPE=image/jpeg:https://www.listeso.com/wp-content/uploads/2025/10/52a3d270-3f95-11f0-8e93-ca060e10daed-hFlre5.jpg
END:VEVENT
BEGIN:VEVENT
DTSTART;TZID=America/Los_Angeles:20251221T204500
DTEND;TZID=America/Los_Angeles:20251221T214500
DTSTAMP:20260421T151246
CREATED:20251028T111241Z
LAST-MODIFIED:20251028T111241Z
UID:10006181-1766349900-1766353500@www.listeso.com
SUMMARY:Candlelight: Tribute to Juan Gabriel on Strings
DESCRIPTION:Overview\nCandlelight concerts bring the magic of a live\, multi-sensory musical experience to awe-inspiring locations like never seen before in San Jose. Get your tickets now to discover the music of Juan Gabriel on Strings at Corinthian Grand Ballroom under the gentle glow of candlelight. \nGeneral Info\n\n📍 Venue: Corinthian Grand Ballroom\n⏳ Duration: 60 minutes. Doors open 45 minutes before the show and close 5 minutes prior to the start. Late arrivals will not be permitted\n👤 Age requirement: 8 years old or older. Anyone under the age of 16 must be accompanied by an adult\n♿ Accessibility: this venue is ADA compliant\n🪑 Seating: Seating is assigned on a first come first served basis in each zone\n\nTentative Program\n\nBuenos Días Señor Sol\nAsí Fue\nAbrázame Muy Fuerte\nLa Diferencia\nQuerida\nNo Tengo Dinero\nPor Qué Me Haces Llorar\nSiempre en Mi Mente\nAmor Eterno\nPero Qué Necesidad\nEl Noa Noa\nCaray\n\nPerformers\n🎻 String Quartet – Listeso \nBook a Private Event\nLooking to create an unforgettable experience for your wedding\, or special occasion? We offer private event bookings with customized programs tailored to your needs. \nGet a quote
URL:https://www.listeso.com/concert/2025-12-21-corinthian-grand-ballroom-tribute-to-juan-gabriel-on-strings/
LOCATION:Corinthian Grand Ballroom\, San Jose\, CA\, United States
CATEGORIES:San Jose, CA
ATTACH;FMTTYPE=image/jpeg:https://www.listeso.com/wp-content/uploads/2025/10/898fe864-0a25-11f0-bbae-0a233031e956-cKa8yF.jpg
END:VEVENT
BEGIN:VEVENT
DTSTART;TZID=America/Los_Angeles:20251226T183000
DTEND;TZID=America/Los_Angeles:20251226T193000
DTSTAMP:20260421T151246
CREATED:20251114T120633Z
LAST-MODIFIED:20251114T120633Z
UID:10007041-1766773800-1766777400@www.listeso.com
SUMMARY:Candlelight: Tribute to Luis Miguel
DESCRIPTION:Overview\nCandlelight concerts bring the magic of a live\, multi-sensory musical experience to awe-inspiring locations like never seen before in San Jose. Get your tickets now to discover the music of Luis Miguel at Corinthian Grand Ballroom under the gentle glow of candlelight. \nGeneral Info\n\n📍 Venue: Corinthian Grand Ballroom\n⏳ Duration: 60 minutes. Doors open 45 minutes before the show and close 5 minutes prior to the start. Late arrivals will not be permitted\n👤 Age requirement: 8 years old or older. Anyone under the age of 16 must be accompanied by an adult\n♿ Accessibility: This venue is ADA compliant\n🪑 Seating: Seating is assigned on a first come first served basis in each zone\n\nTentative Program\n\nLa Incondicional\nTengo Todo Excepto A Ti\nPor Debajo de la Mesa – Armando Manzanero\nCulpable O No\nEntregate\nHasta Que Me Olvides\nLa Media Vuelta – Jose Alfredo\nSabor A Mi\nSera Que No Me Amas\nSuave\nAmarte es un placer\nAhora Te Puedes Marchar\n\nPerformers\n🎻 String Quartet – Listeso – San Francisco \nBook a Private Event\nLooking to create an unforgettable experience for your wedding\, or special occasion? We offer private event bookings with customized programs tailored to your needs. \nGet a quote
URL:https://www.listeso.com/concert/2025-12-26-corinthian-grand-ballroom-tribute-to-luis-miguel/
LOCATION:Corinthian Grand Ballroom\, San Jose\, CA\, United States
CATEGORIES:San Jose, CA
ATTACH;FMTTYPE=image/jpeg:https://www.listeso.com/wp-content/uploads/2025/10/3f6591ee-6308-11f0-b183-1ebdea4a44d3-B6hCGJ.jpg
END:VEVENT
BEGIN:VEVENT
DTSTART;TZID=America/Los_Angeles:20251226T204500
DTEND;TZID=America/Los_Angeles:20251226T214500
DTSTAMP:20260421T151246
CREATED:20251114T120620Z
LAST-MODIFIED:20251114T120620Z
UID:10007040-1766781900-1766785500@www.listeso.com
SUMMARY:Candlelight: Tribute to Queen
DESCRIPTION:Overview\nCandlelight concerts bring the magic of a live\, multi-sensory musical experience to awe-inspiring locations like never seen before in San Jose. Get your tickets now to discover the music of Queen at The Corinthian Grand Ballroom under the gentle glow of candlelight. \nGeneral Info\n\n📍 Venue: Corinthian Grand Ballroom\n⏳ Duration: 60 minutes. Doors open 45 minutes before the show and close 5 minutes prior to the start. Late arrivals will not be permitted\n👤 Age requirement: 8 years old or older. Anyone under the age of 16 must be accompanied by an adult\n♿ Accessibility: This venue is ADA compliant\n🪑 Seating: Seating is assigned on a first come first served basis in each zone\n\nTentative Program\n\nWe Will Rock You\nBicycle Race\nUnder Pressure\nAnother One Bites the Dust\nYou’re My Best Friend\nLove of My Life\nFat Bottomed Girls\nKiller Queen\nCrazy Little Thing Called Love\nBohemian Rhapsody\nWe Are the Champions\nSomebody to Love\nDon’t Stop Me Now\n\nPerformers\n🎻 Listeso String Quartet \nBook a Private Event\nLooking to create an unforgettable experience for your wedding\, or special occasion? We offer private event bookings with customized programs tailored to your needs. \nGet a quote
URL:https://www.listeso.com/concert/2025-12-26-corinthian-grand-ballroom-candlelight-tribute-to-queen/
LOCATION:Corinthian Grand Ballroom\, San Jose\, CA\, United States
CATEGORIES:San Jose, CA
ATTACH;FMTTYPE=image/jpeg:https://www.listeso.com/wp-content/uploads/2025/10/02d31cfe-1940-11f0-a825-56c21721c770-2MNiXj.jpg
END:VEVENT
END:VCALENDAR