BEGIN:VCALENDAR
VERSION:2.0
PRODID:-//Listeso Music Group - A Boutique String Quartet Agency - ECPv6.15.20//NONSGML v1.0//EN
CALSCALE:GREGORIAN
METHOD:PUBLISH
X-WR-CALNAME:Listeso Music Group - A Boutique String Quartet Agency
X-ORIGINAL-URL:https://www.listeso.com
X-WR-CALDESC:Events for Listeso Music Group - A Boutique String Quartet Agency
REFRESH-INTERVAL;VALUE=DURATION:PT1H
X-Robots-Tag:noindex
X-PUBLISHED-TTL:PT1H
BEGIN:VTIMEZONE
TZID:America/Los_Angeles
BEGIN:DAYLIGHT
TZOFFSETFROM:-0800
TZOFFSETTO:-0700
TZNAME:PDT
DTSTART:20240310T100000
END:DAYLIGHT
BEGIN:STANDARD
TZOFFSETFROM:-0700
TZOFFSETTO:-0800
TZNAME:PST
DTSTART:20241103T090000
END:STANDARD
BEGIN:DAYLIGHT
TZOFFSETFROM:-0800
TZOFFSETTO:-0700
TZNAME:PDT
DTSTART:20250309T100000
END:DAYLIGHT
BEGIN:STANDARD
TZOFFSETFROM:-0700
TZOFFSETTO:-0800
TZNAME:PST
DTSTART:20251102T090000
END:STANDARD
BEGIN:DAYLIGHT
TZOFFSETFROM:-0800
TZOFFSETTO:-0700
TZNAME:PDT
DTSTART:20260308T100000
END:DAYLIGHT
BEGIN:STANDARD
TZOFFSETFROM:-0700
TZOFFSETTO:-0800
TZNAME:PST
DTSTART:20261101T090000
END:STANDARD
END:VTIMEZONE
BEGIN:VEVENT
DTSTART;TZID=America/Los_Angeles:20251130T204500
DTEND;TZID=America/Los_Angeles:20251130T214500
DTSTAMP:20260421T164810
CREATED:20251017T111401Z
LAST-MODIFIED:20251017T111401Z
UID:10005893-1764535500-1764539100@www.listeso.com
SUMMARY:Candlelight: The Best of Hans Zimmer
DESCRIPTION:Overview\nCandlelight concerts bring the magic of a live\, multi-sensory musical experience to awe-inspiring locations like never seen before in San Jose. Get your tickets now to discover the music of Hans Zimmer at Hammer Theatre Center under the gentle glow of candlelight. \nGeneral Info\n\n📍 Venue: Hammer Theatre Center\n⏳ Duration: 60 minutes. Doors open 60 minutes before the show and close 5 minutes prior to the start. Late arrivals will not be permitted\n👤 Age requirement: 8 years old or older. Anyone under the age of 16 must be accompanied by an adult\n♿ Accessibility: This venue is ADA compliant\n🪑 Seating: Seating is assigned on a first come first served basis in each zone\n\nTentative Program\n\n“Time” from Inception\n“Discombobulate” from Sherlock Holmes\n“Supermarine” from Dunkirk\n“A Dark Knight” from The Dark Knight\nSuite from Dune\nSuite from Gladiator\n“This Land” from The Lion King\n“Cornfield Chase” from Interstellar\nSuite from Pirates of the Caribbean\n“Deliver Us” from The Prince of Egypt\n“Zooster’s Breakout” from Madagascar\nWonder Woman Suite\n“Honor” from The Pacific\n\nPerformers\n🎻 String Quartet – Range Ensemble \nBook a Private Event\nLooking to create an unforgettable experience for your wedding\, or special occasion? We offer private event bookings with customized programs tailored to your needs. \nGet a quote
URL:https://www.listeso.com/concert/2025-11-30-hammer-theatre-center-candlelight-the-best-of-hans-zimmer/
LOCATION:Hammer Theatre Center\, San Jose\, CA\, United States
CATEGORIES:San Jose, CA
ATTACH;FMTTYPE=image/jpeg:https://www.listeso.com/wp-content/uploads/2025/10/e2d3636e-1395-11f0-baa7-66dc5d784391-sdpps2.jpg
END:VEVENT
BEGIN:VEVENT
DTSTART;TZID=America/Los_Angeles:20251130T183000
DTEND;TZID=America/Los_Angeles:20251130T193000
DTSTAMP:20260421T164810
CREATED:20251017T111347Z
LAST-MODIFIED:20251017T111347Z
UID:10005892-1764527400-1764531000@www.listeso.com
SUMMARY:Candlelight: From Bach to The Beatles
DESCRIPTION:Overview\nCandlelight concerts bring the magic of a live\, multi-sensory musical experience to awe-inspiring locations like never seen before in San Jose. Get your tickets now to discover the music of From Bach to The Beatles at Hammer Theatre Center under the gentle glow of candlelight. \nGeneral Info\n\n📍 Venue: Hammer Theatre Center\n⏳ Duration: 60 minutes. Doors open 60 minutes before the show and close 5 minutes prior to the start. Late arrivals will not be permitted\n👤 Age requirement: 8 years old or older. Anyone under the age of 16 must be accompanied by an adult\n♿ Accessibility: This venue is ADA compliant\n🪑 Seating: Assigned on a first come first served basis in each zone\n\nTentative Program\nThe Beatles \n\nHere Comes the Sun\nDay Tripper\nA Hard Day’s Night\nYesterday\nWhile My Guitar Gently Weeps\nCome Together\nHey Jude\nLet It Be\nI Want to Hold Your Hand\nEleanor Rigby\n\nJ.S. Bach \n\nBrandenburg Concerto No. 3: III\nBach/Gounod Ave Maria (J.S. Bach/Gounod)\nBrandenburg Concerto No. 3: I\nDouble Violin Concerto: I\nDouble Violin Concerto: II\n\nPerformers\n🎻 Range Ensemble \nBook a Private Event\nLooking to create an unforgettable experience for your wedding\, or special occasion? We offer private event bookings with customized programs tailored to your needs. \nGet a quote
URL:https://www.listeso.com/concert/2025-11-30-hammer-theatre-center-from-bach-to-the-beatles/
LOCATION:Hammer Theatre Center\, San Jose\, CA\, United States
CATEGORIES:San Jose, CA
ATTACH;FMTTYPE=image/jpeg:https://www.listeso.com/wp-content/uploads/2025/10/fbd716bc-1a93-11f0-b632-c25aaa6cf640-aS35F0.jpg
END:VEVENT
BEGIN:VEVENT
DTSTART;TZID=America/Los_Angeles:20251121T204500
DTEND;TZID=America/Los_Angeles:20251121T214500
DTSTAMP:20260421T164810
CREATED:20251017T111332Z
LAST-MODIFIED:20251017T111332Z
UID:10005891-1763757900-1763761500@www.listeso.com
SUMMARY:Candlelight: Tribute to Luis Miguel
DESCRIPTION:Overview\nCandlelight concerts bring the magic of a live\, multi-sensory musical experience to awe-inspiring locations like never seen before in San Jose. Get your tickets now to discover the music of Luis Miguel at Corinthian Grand Ballroom under the gentle glow of candlelight. \nGeneral Info\n\n📍 Venue: Corinthian Grand Ballroom\n⏳ Duration: 60 minutes. Doors open 45 minutes before the show and close 5 minutes prior to the start. Late arrivals will not be permitted\n👤 Age requirement: 8 years old or older. Anyone under the age of 16 must be accompanied by an adult\n♿ Accessibility: This venue is ADA compliant\n🪑 Seating: Seating is assigned on a first come first served basis in each zone\n\nTentative Program\n\nLa Incondicional\nTengo Todo Excepto A Ti\nPor Debajo de la Mesa – Armando Manzanero\nCulpable O No\nEntregate\nHasta Que Me Olvides\nLa Media Vuelta – Jose Alfredo\nSabor A Mi\nSera Que No Me Amas\nSuave\nAmarte es un placer\nAhora Te Puedes Marchar\n\nPerformers\n🎻 String Quartet – Listeso – San Francisco \nBook a Private Event\nLooking to create an unforgettable experience for your wedding\, or special occasion? We offer private event bookings with customized programs tailored to your needs. \nGet a quote
URL:https://www.listeso.com/concert/2025-11-21-corinthian-grand-ballroom-tribute-to-luis-miguel/
LOCATION:Corinthian Grand Ballroom\, San Jose\, CA\, United States
CATEGORIES:San Jose, CA
ATTACH;FMTTYPE=image/jpeg:https://www.listeso.com/wp-content/uploads/2025/10/3f6591ee-6308-11f0-b183-1ebdea4a44d3-B6hCGJ.jpg
END:VEVENT
BEGIN:VEVENT
DTSTART;TZID=America/Los_Angeles:20251121T183000
DTEND;TZID=America/Los_Angeles:20251121T193000
DTSTAMP:20260421T164810
CREATED:20251120T120747Z
LAST-MODIFIED:20251120T120747Z
UID:10007297-1763749800-1763753400@www.listeso.com
SUMMARY:Candlelight: Neo-Soul Favorites ft. Songs by Prince\, Childish Gambino\, & More
DESCRIPTION:Overview\nCandlelight concerts bring the magic of a live\, multi-sensory musical experience to awe-inspiring locations like never seen before in San Jose. Get your tickets now to discover the music of Neo-Soul Favorites ft. Songs by Prince\, Childish Gambino\, & More at Corinthian Grand Ballroom under the gentle glow of candlelight. \nGeneral Info\n\n⏳ Duration: 60 minutes. Doors open 45 minutes before the show and close 5 minutes prior to the start. Late arrivals will not be permitted\n👤 Age requirement: 8 years old or older. Anyone under the age of 16 must be accompanied by an adult\n♿ Accessibility: This venue is ADA compliant\n🪑 Seating: Seating is assigned on a first come first served basis in each zone\n\nTentative Program\n\nSZA – Good Days\nLauryn Hill – Ex-Factor\nSolange – Don’t Touch My Hair\nMiguel – Adorn\nFrank Ocean – Thinkin Bout You\nPrince – Purple Rain\nSade – Smooth Operator\nD’Angelo – Untitled (How Does It Feel)\nChildish Gambino – Redbone\nH.E.R. – The Best Part\nAlicia Keys – You Don’t Know My Name\nBoyz II Men – End of the Road\n\nPerformers\n🎻 String Quartet – Listeso – San Francisco \nBook a Private Event\nLooking to create an unforgettable experience for your wedding\, or special occasion? We offer private event bookings with customized programs tailored to your needs. \nGet a quote
URL:https://www.listeso.com/concert/2025-11-21-corinthian-grand-ballroom-neo-soul-favorites-ft-songs-by-prince-childish-gambino-more/
LOCATION:Corinthian Grand Ballroom\, San Jose\, CA\, United States
CATEGORIES:San Jose, CA
ATTACH;FMTTYPE=image/jpeg:https://www.listeso.com/wp-content/uploads/2025/10/3f0b6124-0f93-11f0-b149-6a3ffe809068-RVcTKs.jpg
END:VEVENT
BEGIN:VEVENT
DTSTART;TZID=America/Los_Angeles:20251109T204500
DTEND;TZID=America/Los_Angeles:20251109T214500
DTSTAMP:20260421T164810
CREATED:20251024T110827Z
LAST-MODIFIED:20251024T110827Z
UID:10006106-1762721100-1762724700@www.listeso.com
SUMMARY:Candlelight: Coldplay vs. Imagine Dragons
DESCRIPTION:Overview\nCandlelight concerts bring the magic of a live\, multi-sensory musical experience to awe-inspiring locations like never seen before in San Jose. Get your tickets now to discover the music of Coldplay vs. Imagine Dragons at Corinthian Grand Ballroom under the gentle glow of candlelight. \nGeneral Info\n\n📍 Venue: Corinthian Grand Ballroom\n⏳ Duration: 60 minutes. Doors open 45 minutes before the show and close 5 minutes prior to the start. Late arrivals will not be permitted\n👤 Age requirement: 8 years old or older. Anyone under the age of 16 must be accompanied by an adult\n♿ Accessibility: This venue is ADA compliant\n🪑 Seating: Seating is assigned on a first come first served basis in each zone\n\nTentative Program\n\nColdplay – Clocks\nColdplay – Something Just Like This\nImagine Dragons – Radioactive\nColdplay – Adventure of a Lifetime\nColdplay – Fix You\nImagine Dragons – Eyes Closed\nImagine Dragons – Nice to Meet You\nColdplay – The Scientist\nColdplay – feelslikeimfallinginlove\nImagine Dragons – Follow You\nImagine Dragons – Bad Liar\nColdplay – Viva la Vida\nImagine Dragons – Believer\nColdplay – Sky Full of Stars\n\nPerformers\n🎻 Listeso String Quartet \nBook a Private Event\nLooking to create an unforgettable experience for your wedding\, or special occasion? We offer private event bookings with customized programs tailored to your needs. \nGet a quote
URL:https://www.listeso.com/concert/2025-11-09-corinthian-grand-ballroom-coldplay-vs-imagine-dragons/
LOCATION:Corinthian Grand Ballroom\, San Jose\, CA\, United States
CATEGORIES:San Jose, CA
ATTACH;FMTTYPE=image/jpeg:https://www.listeso.com/wp-content/uploads/2025/10/dc03f484-1158-11f0-b7b8-c22f5b3d6cc1-1DGOCa.jpg
END:VEVENT
BEGIN:VEVENT
DTSTART;TZID=America/Los_Angeles:20251109T183000
DTEND;TZID=America/Los_Angeles:20251109T193000
DTSTAMP:20260421T164810
CREATED:20251024T110813Z
LAST-MODIFIED:20251024T110813Z
UID:10006105-1762713000-1762716600@www.listeso.com
SUMMARY:Candlelight: 90s Unplugged
DESCRIPTION:Overview\nCandlelight concerts bring the magic of a live\, multi-sensory musical experience to awe-inspiring locations like never seen before in San Jose. Get your tickets now to discover the music of 90s Unplugged at Corinthian Grand Ballroom under the gentle glow of candlelight. \nGeneral Info\n\n⏳ Duration: 60 minutes. Doors open 45 minutes before the show and close 5 minutes prior to the start. Late arrivals will not be permitted\n👤 Age requirement: 8 years old or older. Anyone under the age of 16 must be accompanied by an adult\n♿ Accessibility: This venue is ADA compliant\n🪑 Seating: Seating is assigned on a first come first served basis in each zone\n\nTentative Program\n\nEverlong – Foo Fighters\nDon’t Speak – No Doubt\nZombie – The Cranberries\nIronic – Alanis Morrissette\nWonderwall – Oasis\nHigh and Dry – Radiohead\nEnter Sandman – Metallica\nUnder the Bridge – Red Hot Chili Peppers\nFly Away – Lenny Kravitz\nHallelujah – Jeff Buckley\nTears in Heaven – Eric Clapton\nSmells Like Teen Spirit – Nirvana\n\nPerformers\n🎻 String Quartet – Listeso – San Francisco \nBook a Private Event\nLooking to create an unforgettable experience for your wedding\, or special occasion? We offer private event bookings with customized programs tailored to your needs. \nGet a quote
URL:https://www.listeso.com/concert/2025-11-09-corinthian-grand-ballroom-candlelight-90s-unplugged/
LOCATION:Corinthian Grand Ballroom\, San Jose\, CA\, United States
CATEGORIES:San Jose, CA
ATTACH;FMTTYPE=image/jpeg:https://www.listeso.com/wp-content/uploads/2025/10/3f0b6124-0f93-11f0-b149-6a3ffe809068-RVcTKs.jpg
END:VEVENT
BEGIN:VEVENT
DTSTART;TZID=America/Los_Angeles:20251024T183000
DTEND;TZID=America/Los_Angeles:20251024T193000
DTSTAMP:20260421T164810
CREATED:20251006T173750Z
LAST-MODIFIED:20251006T173750Z
UID:10005446-1761330600-1761334200@www.listeso.com
SUMMARY:Candlelight: A Haunted Evening of Halloween Classics
DESCRIPTION:Overview\nCandlelight concerts bring the magic of a live\, multi-sensory musical experience to awe-inspiring locations like never seen before in San Jose. Get your tickets now to discover music inspired by Halloween at Scott’s Seafood Ballroom under the gentle glow of candlelight. \nGeneral Info\n\n📍 Venue: Scott’s Seafood Ballroom\n⏳ Duration: 60 minutes. Doors open 45 minutes before the show and close 5 minutes prior to the start. Late arrivals will not be permitted\n👤 Age requirement: 8 years old or older. Anyone under the age of 16 must be accompanied by an adult\n♿ Accessibility: ADA accessible\n🪑 Seating: Seating is assigned on a first come first served basis in each zone\n\nTentative Program\n\nThriller – Michael Jackson\nFuneral March of a Marionette – Charles Gounod\nString Quartet No. 8 in C Minor (Dresden Quartet)\, Op. 110: II. Allegro Molto – Dmitri Shostakovich\nTubular Bells (Theme from The Exorcist) – Mike Oldfield\nStranger Things (Theme) – S U R V I V E\nBeetlejuice (Theme) – Danny Elfman\nThe Addams Family (Theme) – Vic Mizzy\nHalloween (Theme) – John Carpenter\nPrelude from Psycho – Bernard Herrmann\nGhostbusters (Theme) – Ray Parker Jr.\nDanse Macabre – Camille Saint-Saëns\nNight on Bald Mountain – Modest Mussorgsky\nTime Warp from The Rocky Horror Picture Show – Richard O’Brien and Richard Hartley\nMedley from The Nightmare Before Christmas – Danny Elfman\n\nPerformers\n🎻 String Quartet \nBook a Private Event\nLooking to create an unforgettable experience for your wedding\, or special occasion? We offer private event bookings with customized programs tailored to your needs. \nGet a quote
URL:https://www.listeso.com/concert/2025-10-24-scotts-seafood-ballroom-candlelight-a-haunted-evening-of-halloween-classics/
LOCATION:Scott’s Seafood Ballroom\, San Jose\, CA\, United States
CATEGORIES:San Jose, CA
ATTACH;FMTTYPE=image/jpeg:https://www.listeso.com/wp-content/uploads/2025/10/9c1f3eb6-3ba4-11f0-9336-8eeeae356744-2qUQ03.jpg
END:VEVENT
BEGIN:VEVENT
DTSTART;TZID=America/Los_Angeles:20251017T204500
DTEND;TZID=America/Los_Angeles:20251017T214500
DTSTAMP:20260421T164810
CREATED:20251006T173717Z
LAST-MODIFIED:20251006T173717Z
UID:10005444-1760733900-1760737500@www.listeso.com
SUMMARY:Candlelight: The Best of Joe Hisaishi
DESCRIPTION:Overview\nCandlelight concerts bring the magic of a live\, multi-sensory musical experience to awe-inspiring locations like never seen before in San Jose. Get your tickets now to discover the music of Joe Hisaishi at Hammer Theatre Center under the gentle glow of candlelight. \nGeneral Info\n\n📍 Venue: Hammer Theatre Center\n⏳ Duration: 60 minutes. Doors open 60 minutes before the show and close 5 minutes prior to the start. Late arrivals will not be permitted\n👤 Age requirement: 8 years old or older. Anyone under the age of 16 must be accompanied by an adult\n♿ Accessibility: this venue is ADA compliant\n🪑 Seating: Seating is assigned on a first come first served basis in each zone\n\nTentative Program\n\nNausicaa of the Valley of the Wind – Kaze no Tani\nLaputa: Castle in the Sky – Kimi wo Nosete\nMy Neighbour Totoro – Kaze no Toori Michi\nMy Neighbour Totoro – Main Theme\nKiki’s Delivery Service – Umi no Mieru Machi\nKiki’s Delivery Service – Tabidachi\nPrincess Mononoke – Main Theme\nSpirited Away – Inochi no Namae\nSpirited Away – Chihiro’s Waltz\nPonyo – Gake no Ue no Ponyo\nThe Wind Rises – A Journey (A Dream of Flight)\nKikujiro – Summer\nThe Tale of Princess Kaguya – When I Remember This Life\nHowl’s Moving Castle – Merry Go Round of Life\n\nPerformers\n🎻 String Quartet – Range Ensemble – San Francisco \nBook a Private Event\nLooking to create an unforgettable experience for your wedding\, or special occasion? We offer private event bookings with customized programs tailored to your needs. \nGet a quote
URL:https://www.listeso.com/concert/2025-10-17-hammer-theatre-center-the-best-of-joe-hisaishi/
LOCATION:Hammer Theatre Center\, San Jose\, CA\, United States
CATEGORIES:San Jose, CA
ATTACH;FMTTYPE=image/jpeg:https://www.listeso.com/wp-content/uploads/2025/10/efe4e09a-1517-11f0-b544-a6b24187f688-aU8ZWK.jpg
END:VEVENT
BEGIN:VEVENT
DTSTART;TZID=America/Los_Angeles:20251017T183000
DTEND;TZID=America/Los_Angeles:20251017T193000
DTSTAMP:20260421T164810
CREATED:20251006T173736Z
LAST-MODIFIED:20251006T173736Z
UID:10005445-1760725800-1760729400@www.listeso.com
SUMMARY:Candlelight: Queen vs. ABBA
DESCRIPTION:Overview\nCandlelight concerts bring the magic of a live\, multi-sensory musical experience to awe-inspiring locations like never seen before in San Jose. Get your tickets now to discover the music of Queen vs. ABBA at Hammer Theatre Center under the gentle glow of candlelight. \nGeneral Info\n\n📍 Venue: Hammer Theatre Center\n⏳ Duration: 60 minutes. Doors open 60 minutes before the show and close 5 minutes prior to the start. Late arrivals will not be permitted\n👤 Age requirement: 8 years old or older. Anyone under the age of 16 must be accompanied by an adult\n♿ Accessibility: This venue is ADA compliant\n🪑 Seating: Seating is assigned on a first come first served basis in each zone\n\nTentative Program\n\nDancing Queen – ABBA\nSOS – ABBA\nMoney\, Money\, Money – ABBA\nVoulez Vous – ABBA\nBohemian Rhapsody – Queen\nI Want to Break Free – Queen\nKiller Queen – Queen\nWaterloo – ABBA\nSuper Trouper – ABBA\nMamma Mia – ABBA\nDon’t Stop Me Now – Queen\nWe Will Rock You – Queen\nWe Are the Champions – Queen\nGimme Gimme Gimme – ABBA\n\nPerformers\n🎻 String Quartet – Listeso – San Francisco \nBook a Private Event\nLooking to create an unforgettable experience for your wedding\, or special occasion? We offer private event bookings with customized programs tailored to your needs. \nGet a quote
URL:https://www.listeso.com/concert/2025-10-17-hammer-theatre-center-candlelight-queen-vs-abba/
LOCATION:Hammer Theatre Center\, San Jose\, CA\, United States
CATEGORIES:San Jose, CA
ATTACH;FMTTYPE=image/jpeg:https://www.listeso.com/wp-content/uploads/2025/10/cfc3a094-1945-11f0-a825-56c21721c770-kB4CaB.jpg
END:VEVENT
BEGIN:VEVENT
DTSTART;TZID=America/Los_Angeles:20251010T183000
DTEND;TZID=America/Los_Angeles:20251010T193000
DTSTAMP:20260421T164810
CREATED:20251006T173703Z
LAST-MODIFIED:20251006T173703Z
UID:10005443-1760121000-1760124600@www.listeso.com
SUMMARY:Candlelight: Tribute to Fleetwood Mac
DESCRIPTION:Overview\nCandlelight concerts bring the magic of a live\, multi-sensory musical experience to awe-inspiring locations like never seen before in San Jose. Get your tickets now to discover the music of Fleetwood Mac at Corinthian Grand Ballroom under the gentle glow of candlelight. \nGeneral Info\n\n📍 Venue: Corinthian Grand Ballroom\n⏳ Duration: 60 minutes. Doors open 45 minutes before the show and close 5 minutes prior to the start. Late arrivals will not be permitted\n👤 Age requirement: 8 years old or older. Anyone under the age of 16 must be accompanied by an adult\n♿ Accessibility: This venue is ADA compliant\n🪑 Seating: Seating is assigned on a first come first served basis in each zone\n\nTentative Program\n\nEverywhere\nGypsy\nYou Make Loving Fun\nNever Going Back Again\nDon’t Stop\nGold Dust Woman\nGo Your Own Way\nLandslide\nLittle Lies\nSongbird\nRhiannon\nThe Chain\n\nPerformers\n🎻 String Quartet – Listeso – San Francisco (SFO) \nBook a Private Event\nLooking to create an unforgettable experience for your wedding\, or special occasion? We offer private event bookings with customized programs tailored to your needs. \nGet a quote
URL:https://www.listeso.com/concert/2025-10-10-corinthian-grand-ballroom-tribute-to-fleetwood-mac/
LOCATION:Corinthian Grand Ballroom\, San Jose\, CA\, United States
CATEGORIES:San Jose, CA
ATTACH;FMTTYPE=image/jpeg:https://www.listeso.com/wp-content/uploads/2025/10/5c2e82a6-1f77-11f0-9fc3-b6302f1836c4-3Gs8kb.jpg
END:VEVENT
END:VCALENDAR