BEGIN:VCALENDAR
VERSION:2.0
PRODID:-//Listeso Music Group - A Boutique String Quartet Agency - ECPv6.15.20//NONSGML v1.0//EN
CALSCALE:GREGORIAN
METHOD:PUBLISH
X-ORIGINAL-URL:https://www.listeso.com
X-WR-CALDESC:Events for Listeso Music Group - A Boutique String Quartet Agency
REFRESH-INTERVAL;VALUE=DURATION:PT1H
X-Robots-Tag:noindex
X-PUBLISHED-TTL:PT1H
BEGIN:VTIMEZONE
TZID:America/Los_Angeles
BEGIN:DAYLIGHT
TZOFFSETFROM:-0800
TZOFFSETTO:-0700
TZNAME:PDT
DTSTART:20240310T100000
END:DAYLIGHT
BEGIN:STANDARD
TZOFFSETFROM:-0700
TZOFFSETTO:-0800
TZNAME:PST
DTSTART:20241103T090000
END:STANDARD
BEGIN:DAYLIGHT
TZOFFSETFROM:-0800
TZOFFSETTO:-0700
TZNAME:PDT
DTSTART:20250309T100000
END:DAYLIGHT
BEGIN:STANDARD
TZOFFSETFROM:-0700
TZOFFSETTO:-0800
TZNAME:PST
DTSTART:20251102T090000
END:STANDARD
BEGIN:DAYLIGHT
TZOFFSETFROM:-0800
TZOFFSETTO:-0700
TZNAME:PDT
DTSTART:20260308T100000
END:DAYLIGHT
BEGIN:STANDARD
TZOFFSETFROM:-0700
TZOFFSETTO:-0800
TZNAME:PST
DTSTART:20261101T090000
END:STANDARD
END:VTIMEZONE
BEGIN:VEVENT
DTSTART;TZID=America/Los_Angeles:20251030T181500
DTEND;TZID=America/Los_Angeles:20251030T191500
DTSTAMP:20260421T184721
CREATED:20251006T173818Z
LAST-MODIFIED:20251006T173818Z
UID:10005448-1761848100-1761851700@www.listeso.com
SUMMARY:Candlelight: Tribute to Adele
DESCRIPTION:Overview\nCandlelight concerts bring the magic of a live\, multi-sensory musical experience to awe-inspiring locations like never seen before in Santa Barbara. Get your tickets now to discover the music of Adele at Music Academy of the West under the gentle glow of candlelight. \nGeneral Info\n\n📍 Venue: Music Academy of the West\n⏳ Duration: 60 minutes. Doors open 45 minutes before the show and close 5 minutes prior to the start. Late arrivals will not be permitted\n👤 Age requirement: 8 years old or older. Anyone under the age of 16 must be accompanied by an adult\n♿ Accessibility: This venue is ADA compliant\n🪑 Seating: Assigned on a first come first served basis in each zone\n\nTentative Program\n\nHello\nRumour Has It\nMake You Feel My Love\nWater Under the Bridge\nOh My God\nSomeone Like You\nSend My Love (To Your New Lover)\nChasing Pavements\nSkyfall\nWhen We Were Young\nSet Fire to the Rain\nEasy On Me\nRolling in the Deep\n\nPerformers\n🎻 Vapour String Quartet \nBook a Private Event\nLooking to create an unforgettable experience for your wedding\, or special occasion? We offer private event bookings with customized programs tailored to your needs. \nGet a quote
URL:https://www.listeso.com/concert/2025-10-30-music-academy-of-the-west-candlelight-tribute-to-adele/
LOCATION:Music Academy of the West\, Santa Barbara\, CA\, United States
CATEGORIES:Santa Barbara, CA
ATTACH;FMTTYPE=image/jpeg:https://www.listeso.com/wp-content/uploads/2025/10/a9430c14-6280-11f0-8664-ae8f95c7ce7e-x4wNWT.jpg
END:VEVENT
BEGIN:VEVENT
DTSTART;TZID=America/Los_Angeles:20251030T201500
DTEND;TZID=America/Los_Angeles:20251030T211500
DTSTAMP:20260421T184721
CREATED:20251006T173832Z
LAST-MODIFIED:20251006T173832Z
UID:10005449-1761855300-1761858900@www.listeso.com
SUMMARY:Candlelight: A Haunted Evening of Halloween Classics
DESCRIPTION:Overview\nCandlelight concerts bring the magic of a live\, multi-sensory musical experience to awe-inspiring locations like never seen before in Santa Barbara. Get your tickets now to discover music inspired by Halloween at Music Academy of the West under the gentle glow of candlelight. \nGeneral Info\n\n📍 Venue: Music Academy of the West\n⏳ Duration: 60 minutes. Doors open 30 minutes before the show and close 5 minutes prior to the start. Late arrivals will not be permitted\n👤 Age requirement: 8 years old or older. Anyone under the age of 16 must be accompanied by an adult\n♿ Accessibility: This venue is ADA compliant\n🪑 Seating: Seating is assigned on a first come first served basis in each zone\n\nTentative Program\n\nThriller – Michael Jackson\nFuneral March of a Marionette – Charles Gounod\nString Quartet No. 8 in C Minor (Dresden Quartet)\, Op. 110: II. Allegro Molto – Dmitri Shostakovich\nTubular Bells (Theme from The Exorcist) – Mike Oldfield\nStranger Things (Theme) – S U R V I V E\nBeetlejuice (Theme) – Danny Elfman\nThe Addams Family (Theme) – Vic Mizzy\nHalloween (Theme) – John Carpenter\nPrelude from Psycho – Bernard Herrmann\nGhostbusters (Theme) – Ray Parker Jr.\nDanse Macabre – Camille Saint-Saëns\nNight on Bald Mountain – Modest Mussorgsky\nTime Warp from The Rocky Horror Picture Show – Richard O’Brien and Richard Hartley\nMedley from The Nightmare Before Christmas – Danny Elfman\n\nPerformers\n🎻 Vapour String Quartet – Santa Barbara \nBook a Private Event\nLooking to create an unforgettable experience for your wedding\, or special occasion? We offer private event bookings with customized programs tailored to your needs. \nGet a quote
URL:https://www.listeso.com/concert/2025-10-30-music-academy-of-the-west-candlelight-a-haunted-evening-of-halloween-classics/
LOCATION:Music Academy of the West\, Santa Barbara\, CA\, United States
CATEGORIES:Santa Barbara, CA
ATTACH;FMTTYPE=image/jpeg:https://www.listeso.com/wp-content/uploads/2025/10/9c1f3eb6-3ba4-11f0-9336-8eeeae356744-2qUQ03.jpg
END:VEVENT
END:VCALENDAR