BEGIN:VCALENDAR
VERSION:2.0
PRODID:-//Listeso Music Group - A Boutique String Quartet Agency - ECPv6.15.20//NONSGML v1.0//EN
CALSCALE:GREGORIAN
METHOD:PUBLISH
X-WR-CALNAME:Listeso Music Group - A Boutique String Quartet Agency
X-ORIGINAL-URL:https://www.listeso.com
X-WR-CALDESC:Events for Listeso Music Group - A Boutique String Quartet Agency
REFRESH-INTERVAL;VALUE=DURATION:PT1H
X-Robots-Tag:noindex
X-PUBLISHED-TTL:PT1H
BEGIN:VTIMEZONE
TZID:America/New_York
BEGIN:DAYLIGHT
TZOFFSETFROM:-0500
TZOFFSETTO:-0400
TZNAME:EDT
DTSTART:20250309T070000
END:DAYLIGHT
BEGIN:STANDARD
TZOFFSETFROM:-0400
TZOFFSETTO:-0500
TZNAME:EST
DTSTART:20251102T060000
END:STANDARD
BEGIN:DAYLIGHT
TZOFFSETFROM:-0500
TZOFFSETTO:-0400
TZNAME:EDT
DTSTART:20260308T070000
END:DAYLIGHT
BEGIN:STANDARD
TZOFFSETFROM:-0400
TZOFFSETTO:-0500
TZNAME:EST
DTSTART:20261101T060000
END:STANDARD
BEGIN:DAYLIGHT
TZOFFSETFROM:-0500
TZOFFSETTO:-0400
TZNAME:EDT
DTSTART:20270314T070000
END:DAYLIGHT
BEGIN:STANDARD
TZOFFSETFROM:-0400
TZOFFSETTO:-0500
TZNAME:EST
DTSTART:20271107T060000
END:STANDARD
END:VTIMEZONE
BEGIN:VEVENT
DTSTART;TZID=America/New_York:20260425T183000
DTEND;TZID=America/New_York:20260425T193000
DTSTAMP:20260421T130124
CREATED:20260228T120453Z
LAST-MODIFIED:20260228T120453Z
UID:10008720-1777141800-1777145400@www.listeso.com
SUMMARY:Candlelight: Vivaldi's Four Seasons
DESCRIPTION:Overview\nCandlelight concerts bring the magic of a live\, multi-sensory musical experience to awe-inspiring locations like never seen before in Somerville. Get your tickets now to discover the music of Vivaldi’s Four Seasons at United Reformed Church under the gentle glow of candlelight. \nGeneral Info\n\n📍 Venue: United Reformed Church\n⏳ Duration: 60 minutes. Doors open 60 minutes before the show. No entry once it starts.\n👤 Age requirement: 8 years old or older. Anyone under the age of 16 must be accompanied by an adult\n♿ Accessibility: This venue is ADA compliant\n🪑 Seating: Seating is assigned on a first come first served basis in each zone\n\nTentative Program\n\nThe Four Seasons\, Violin Concerto in G Minor\, Op. 8 No. 1 RV 269: Spring\nThe Four Seasons\, Violin Concerto in G Minor\, Op. 8 No. 2 RV 315: Summer\nThe Four Seasons\, Violin Concerto in G Minor\, Op. 8 No. 3 RV 293: Autumn\nThe Four Seasons\, Violin Concerto in G Minor\, Op. 8 No. 4 RV 297: Winter\nSonata n.12 in d-minor “La Follia” RV 63\n\nPerformers\n🎻 Listeso String Quartet \nBook a Private Event\nLooking to create an unforgettable experience for your wedding\, or special occasion? We offer private event bookings with customized programs tailored to your needs. \nGet a quote
URL:https://www.listeso.com/concert/2026-04-25-united-reformed-church-vivaldis-four-seasons/
LOCATION:United Reformed Church\, Somerville\, NJ\, United States
CATEGORIES:Somerville, NJ
ATTACH;FMTTYPE=image/jpeg:https://www.listeso.com/wp-content/uploads/2025/10/9bdc2556-1ab4-11f0-8624-6e8226e0238e-WVrOeC.jpg
END:VEVENT
BEGIN:VEVENT
DTSTART;TZID=America/New_York:20260425T204500
DTEND;TZID=America/New_York:20260425T214500
DTSTAMP:20260421T130124
CREATED:20260228T120434Z
LAST-MODIFIED:20260228T120434Z
UID:10008719-1777149900-1777153500@www.listeso.com
SUMMARY:Candlelight: Tribute to Coldplay
DESCRIPTION:Overview\nCandlelight concerts bring the magic of a live\, multi-sensory musical experience to awe-inspiring locations like never seen before in Somerville. Get your tickets now to discover the music of Coldplay at United Reformed Church under the gentle glow of candlelight. \nGeneral Info\n\n⏳ Duration: 60 minutes. Doors open 60 minutes before the show. No entry once it starts.\n👤 Age requirement: 8 years old or older. Anyone under the age of 16 must be accompanied by an adult\n♿ Accessibility: This venue is ADA compliant\n🪑 Seating: Seating is assigned on a first come first served basis in each zone\n\nProgram\n\nClocks\nShiver\nSpeed of Sound\nTrouble\nFix You\nParadise\nSomething Just Like This\nYellow\nThe Scientist\nfeelslikeimfallinginlove\nA Sky Full of Stars\n\nPerformers\n🎻 Listeso String Quartet \nBook a Private Event\nLooking to create an unforgettable experience for your wedding\, or special occasion? We offer private event bookings with customized programs tailored to your needs. \nGet a quote
URL:https://www.listeso.com/concert/2026-04-25-united-reformed-church-candlelight-tribute-to-coldplay/
LOCATION:United Reformed Church\, Somerville\, NJ\, United States
CATEGORIES:Somerville, NJ
ATTACH;FMTTYPE=image/jpeg:https://www.listeso.com/wp-content/uploads/2025/10/2226d752-139c-11f0-a13b-a290fe7a90ab-2Nh73K.jpg
END:VEVENT
END:VCALENDAR