BEGIN:VCALENDAR
VERSION:2.0
PRODID:-//Listeso Music Group - A Boutique String Quartet Agency - ECPv6.15.20//NONSGML v1.0//EN
CALSCALE:GREGORIAN
METHOD:PUBLISH
X-ORIGINAL-URL:https://www.listeso.com
X-WR-CALDESC:Events for Listeso Music Group - A Boutique String Quartet Agency
REFRESH-INTERVAL;VALUE=DURATION:PT1H
X-Robots-Tag:noindex
X-PUBLISHED-TTL:PT1H
BEGIN:VTIMEZONE
TZID:America/Los_Angeles
BEGIN:DAYLIGHT
TZOFFSETFROM:-0800
TZOFFSETTO:-0700
TZNAME:PDT
DTSTART:20250309T100000
END:DAYLIGHT
BEGIN:STANDARD
TZOFFSETFROM:-0700
TZOFFSETTO:-0800
TZNAME:PST
DTSTART:20251102T090000
END:STANDARD
BEGIN:DAYLIGHT
TZOFFSETFROM:-0800
TZOFFSETTO:-0700
TZNAME:PDT
DTSTART:20260308T100000
END:DAYLIGHT
BEGIN:STANDARD
TZOFFSETFROM:-0700
TZOFFSETTO:-0800
TZNAME:PST
DTSTART:20261101T090000
END:STANDARD
BEGIN:DAYLIGHT
TZOFFSETFROM:-0800
TZOFFSETTO:-0700
TZNAME:PDT
DTSTART:20270314T100000
END:DAYLIGHT
BEGIN:STANDARD
TZOFFSETFROM:-0700
TZOFFSETTO:-0800
TZNAME:PST
DTSTART:20271107T090000
END:STANDARD
END:VTIMEZONE
BEGIN:VEVENT
DTSTART;TZID=America/Los_Angeles:20260301T183000
DTEND;TZID=America/Los_Angeles:20260301T193000
DTSTAMP:20260421T132633
CREATED:20260225T122342Z
LAST-MODIFIED:20260225T122342Z
UID:10008495-1772389800-1772393400@www.listeso.com
SUMMARY:Candlelight: 90s Unplugged
DESCRIPTION:Overview\nCandlelight concerts bring the magic of a live\, multi-sensory musical experience to awe-inspiring locations like never seen before in Sonoma County. Get your tickets now to discover the music of 90s Unplugged at Sebastiani Theatre under the gentle glow of candlelight. \nGeneral Info\n\n📍 Venue: Sebastiani Theatre\n⏳ Duration: 60 minutes. Doors open 45 minutes before the show. No entry once it starts.\n👤 Age requirement: 8 years old or older. Anyone under the age of 16 must be accompanied by an adult\n♿ Accessibility: this venue is ADA compliant\n🪑 Seating: Seating is assigned on a first come first served basis in each zone\n\nTentative Program\n\nEverlong – Foo Fighters\nDon’t Speak – No Doubt\nZombie – The Cranberries\nIronic – Alanis Morrissette\nWonderwall – Oasis\nHigh and Dry – Radiohead\nEnter Sandman – Metallica\nUnder the Bridge – Red Hot Chili Peppers\nFly Away – Lenny Kravitz\nHallelujah – Jeff Buckley\nTears in Heaven – Eric Clapton\nSmells Like Teen Spirit – Nirvana\n\nPerformers\n🎻 String Quartet – Listeso – Sonoma County \nBook a Private Event\nLooking to create an unforgettable experience for your wedding\, or special occasion? We offer private event bookings with customized programs tailored to your needs. \nGet a quote
URL:https://www.listeso.com/concert/2026-03-01-sebastiani-theatre-90s-unplugged/
LOCATION:Sebastiani Theatre\, Sonoma County\, CA\, United States
CATEGORIES:Sonoma County, CA
ATTACH;FMTTYPE=image/jpeg:https://www.listeso.com/wp-content/uploads/2025/10/3f0b6124-0f93-11f0-b149-6a3ffe809068-RVcTKs.jpg
END:VEVENT
BEGIN:VEVENT
DTSTART;TZID=America/Los_Angeles:20260301T204500
DTEND;TZID=America/Los_Angeles:20260301T214500
DTSTAMP:20260421T132633
CREATED:20260225T122354Z
LAST-MODIFIED:20260225T122354Z
UID:10008496-1772397900-1772401500@www.listeso.com
SUMMARY:Candlelight: The Best of Hans Zimmer
DESCRIPTION:Overview\nCandlelight concerts bring the magic of a live\, multi-sensory musical experience to awe-inspiring locations like never seen before in Sonoma County. Get your tickets now to discover the music of Hans Zimmer at Sebastiani Theatre under the gentle glow of candlelight. \nGeneral Info\n\n📍 Venue: Sebastiani Theatre\n⏳ Duration: 60 minutes. Doors open 45 minutes before the show and close 5 minutes prior to the start. Late arrivals will not be permitted\n👤 Age requirement: 8 years old or older. Anyone under the age of 16 must be accompanied by an adult\n♿ Accessibility: Yes\, this venue is ADA accessible. Accessible seating is in Zone A and Zone C\n🪑 Seating: Seating is assigned on a first come first served basis in each zone\n\nTentative Program\n\nTime from Inception\nThis Land from The Lion King\nZooster’s Breakout from Madagascar\nSupermarine from Dunkirk\nHonor from The Pacific\nA Dark Knight from The Dark Knight\nWonder Woman Suite\nGladiator Suite\nCornfield Chase from Interstellar\nDune Suite\nDiscombobulate from Sherlock Holmes\nPirates of the Caribbean Suite\n\nPerformers\n🎻 Listeso String Quartet \nBook a Private Event\nLooking to create an unforgettable experience for your wedding\, or special occasion? We offer private event bookings with customized programs tailored to your needs. \nGet a quote
URL:https://www.listeso.com/concert/2026-03-01-sebastiani-theatre-the-best-of-hans-zimmer/
LOCATION:Sebastiani Theatre\, Sonoma County\, CA\, United States
CATEGORIES:Sonoma County, CA
ATTACH;FMTTYPE=image/jpeg:https://www.listeso.com/wp-content/uploads/2025/10/e2d3636e-1395-11f0-baa7-66dc5d784391-sdpps2.jpg
END:VEVENT
BEGIN:VEVENT
DTSTART;TZID=America/Los_Angeles:20260314T183000
DTEND;TZID=America/Los_Angeles:20260314T193000
DTSTAMP:20260421T132633
CREATED:20260225T122419Z
LAST-MODIFIED:20260225T122419Z
UID:10008498-1773513000-1773516600@www.listeso.com
SUMMARY:Candlelight: Coldplay vs. Imagine Dragons
DESCRIPTION:Overview\nCandlelight concerts bring the magic of a live\, multi-sensory musical experience to awe-inspiring locations like never seen before in Sonoma County. Get your tickets now to discover the music of Coldplay vs. Imagine Dragons at Sebastiani Theatre under the gentle glow of candlelight. \nGeneral Info\n\n📍 Venue: Sebastiani Theatre\n⏳ Duration: 60 minutes. Doors open 45 minutes before the show. No entry once it starts.\n👤 Age requirement: 8 years old or older. Anyone under the age of 16 must be accompanied by an adult\n♿ Accessibility: Yes\, this venue is ADA accessible. Accessible seating is in Zone A and Zone C\n🪑 Seating: Seating is assigned on a first come first served basis in each zone\n\nTentative Program\n\nColdplay – Clocks\nImagine Dragons – Radioactive\nColdplay – Adventure of a Lifetime\nColdplay – Fix You\nImagine Dragons – Eyes Closed\nImagine Dragons – Nice to Meet You\nColdplay – The Scientist\nColdplay – feelslikeimfallinginlove\nImagine Dragons – Follow You\nImagine Dragons – Bad Liar\nImagine Dragons – Believer\nColdplay – Sky Full of Stars\nColdplay – Viva la Vida\n\nPerformers\n🎻 String Quartet – Listeso – Sonoma County \nBook a Private Event\nLooking to create an unforgettable experience for your wedding\, or special occasion? We offer private event bookings with customized programs tailored to your needs. \nGet a quote
URL:https://www.listeso.com/concert/2026-03-14-sebastiani-theatre-coldplay-vs-imagine-dragons/
LOCATION:Sebastiani Theatre\, Sonoma County\, CA\, United States
CATEGORIES:Sonoma County, CA
ATTACH;FMTTYPE=image/jpeg:https://www.listeso.com/wp-content/uploads/2025/10/7588d684-1158-11f0-b4c2-c22f5b3d6cc1-XMUcDp.jpg
END:VEVENT
BEGIN:VEVENT
DTSTART;TZID=America/Los_Angeles:20260314T204500
DTEND;TZID=America/Los_Angeles:20260314T214500
DTSTAMP:20260421T132633
CREATED:20260225T122406Z
LAST-MODIFIED:20260225T122406Z
UID:10008497-1773521100-1773524700@www.listeso.com
SUMMARY:Candlelight: A Tribute to Queen vs. ABBA
DESCRIPTION:Overview\nCandlelight concerts bring the magic of a live\, multi-sensory musical experience to awe-inspiring locations like never seen before in Sonoma County. Get your tickets now to discover the music of Queen vs. ABBA at Sebastiani Theatre under the gentle glow of candlelight. \nGeneral Info\n\n📍 Venue: Sebastiani Theatre\n⏳ Duration: 60 minutes. Doors open 45 minutes before the show. No entry once it starts.\n👤 Age requirement: 8 years old or older. Anyone under the age of 16 must be accompanied by an adult\n♿ Accessibility: This venue is ADA compliant\n🪑 Seating: Assigned on a first come first served basis in each zone\n\nTentative Program\n\nDancing Queen – ABBA\nSOS – ABBA\nMoney\, Money\, Money – ABBA\nVoulez Vous – ABBA\nBohemian Rhapsody – Queen\nI Want to Break Free – Queen\nKiller Queen – Queen\nWaterloo – ABBA\nSuper Trouper – ABBA\nMamma Mia – ABBA\nDon’t Stop Me Now – Queen\nWe Will Rock You – Queen\nWe Are the Champions – Queen\nGimme Gimme Gimme – ABBA\n\nPerformers\n🎻 String Quartet – Listeso – Sonoma County \nBook a Private Event\nLooking to create an unforgettable experience for your wedding\, or special occasion? We offer private event bookings with customized programs tailored to your needs. \nGet a quote
URL:https://www.listeso.com/concert/2026-03-14-sebastiani-theatre-a-tribute-to-queen-vs-abba/
LOCATION:Sebastiani Theatre\, Sonoma County\, CA\, United States
CATEGORIES:Sonoma County, CA
ATTACH;FMTTYPE=image/jpeg:https://www.listeso.com/wp-content/uploads/2025/10/66cd0d5a-1945-11f0-b4e1-16541c266220-gop1t7.jpg
END:VEVENT
END:VCALENDAR