BEGIN:VCALENDAR
VERSION:2.0
PRODID:-//Listeso Music Group - A Boutique String Quartet Agency - ECPv6.15.20//NONSGML v1.0//EN
CALSCALE:GREGORIAN
METHOD:PUBLISH
X-WR-CALNAME:Listeso Music Group - A Boutique String Quartet Agency
X-ORIGINAL-URL:https://www.listeso.com
X-WR-CALDESC:Events for Listeso Music Group - A Boutique String Quartet Agency
REFRESH-INTERVAL;VALUE=DURATION:PT1H
X-Robots-Tag:noindex
X-PUBLISHED-TTL:PT1H
BEGIN:VTIMEZONE
TZID:America/Los_Angeles
BEGIN:DAYLIGHT
TZOFFSETFROM:-0800
TZOFFSETTO:-0700
TZNAME:PDT
DTSTART:20250309T100000
END:DAYLIGHT
BEGIN:STANDARD
TZOFFSETFROM:-0700
TZOFFSETTO:-0800
TZNAME:PST
DTSTART:20251102T090000
END:STANDARD
BEGIN:DAYLIGHT
TZOFFSETFROM:-0800
TZOFFSETTO:-0700
TZNAME:PDT
DTSTART:20260308T100000
END:DAYLIGHT
BEGIN:STANDARD
TZOFFSETFROM:-0700
TZOFFSETTO:-0800
TZNAME:PST
DTSTART:20261101T090000
END:STANDARD
BEGIN:DAYLIGHT
TZOFFSETFROM:-0800
TZOFFSETTO:-0700
TZNAME:PDT
DTSTART:20270314T100000
END:DAYLIGHT
BEGIN:STANDARD
TZOFFSETFROM:-0700
TZOFFSETTO:-0800
TZNAME:PST
DTSTART:20271107T090000
END:STANDARD
END:VTIMEZONE
BEGIN:VEVENT
DTSTART;TZID=America/Los_Angeles:20260417T183000
DTEND;TZID=America/Los_Angeles:20260417T193000
DTSTAMP:20260422T224018
CREATED:20260225T122646Z
LAST-MODIFIED:20260225T122646Z
UID:10008509-1776450600-1776454200@www.listeso.com
SUMMARY:Candlelight: 90s Hip-Hop on Strings
DESCRIPTION:Overview\nCandlelight concerts bring the magic of a live\, multi-sensory musical experience to awe-inspiring locations like never seen before in Spokane. Get your tickets now to discover the music of 90s Hip-Hop on Strings at Riverside Place under the gentle glow of candlelight. \nGeneral Info\n\n📍 Venue: Riverside Place\n⏳ Duration: 60 minutes. Doors open 45 minutes before the show. No entry once it starts.\n👤 Age requirement: 8 years old or older. Anyone under the age of 16 must be accompanied by an adult\n♿ Accessibility: Zone A Seats are located on the ground floor and are ADA accessible. Zones B-F are located in the balcony and are not ADA accessible.\n🪑 Seating: Seating is assigned on a first come first served basis in each zone\n\nTentative Program\n\nFugees and Lauryn Hill Medley (Ready or Not\, Doo-Wop\, Fu-Gee-La\, and Killing Me Softly)\nJay-Z Medley (Can I Get A…\, Big Pimpin\, Money Ain’t a Thing\, and More)\nNas Medley (It Ain’t Hard to Tell\, N.Y. State of Mind\, The World Is Yours\, and More)\nOutkast Medley (Rosa Parks\, Elevators (Me & You)\, SpottieOttieDopaliscious\, and More)\nMissy ‘Misdemeanor’ Elliott Medley (The Rain (Supa Dupa Fly)\, Sock It to Me\, and More)\nA Tribe Called Quest Medley (Can I Kick It\, Check the Rhime\, Scenario\, and More)\nWu Tang Clan Medley (C.R.E.A.M. (Cash Rules Everything Around Me)\, Wu-Tang Clan Ain’t Nuthing Ta F’ Wit\, Protect Ya Neck\, and More)\n2Pac Medley (Dear Mama\, California Love\, and more)\nThe Notorious B.I.G. Medley (Juicy\, Big Poppa\, Hypnotize\, and More)\nDr. Dre Medley (Still D.R.E.\, Forgot About Dre\, Nuthin’ but a ‘G’ Thang\, and More)\nGin and Juice – Snoop Dogg\n\nPerformers\n🎻 String Quartet – Listeso – Spokane \nBook a Private Event\nLooking to create an unforgettable experience for your wedding\, or special occasion? We offer private event bookings with customized programs tailored to your needs. \nGet a quote
URL:https://www.listeso.com/concert/2026-04-17-riverside-place-90s-hip-hop-on-strings/
LOCATION:Riverside Place\, Spokane\, WA\, United States
CATEGORIES:Spokane, WA
ATTACH;FMTTYPE=image/jpeg:https://www.listeso.com/wp-content/uploads/2025/10/4380b5d2-1516-11f0-9156-560324ce043d-LKCEhn.jpg
END:VEVENT
BEGIN:VEVENT
DTSTART;TZID=America/Los_Angeles:20260417T203000
DTEND;TZID=America/Los_Angeles:20260417T213000
DTSTAMP:20260422T224018
CREATED:20260225T122658Z
LAST-MODIFIED:20260225T122658Z
UID:10008510-1776457800-1776461400@www.listeso.com
SUMMARY:Candlelight: The Best of Hans Zimmer
DESCRIPTION:Overview\nCandlelight concerts bring the magic of a live\, multi-sensory musical experience to awe-inspiring locations like never seen before in Spokane. Get your tickets now to discover the music of Hans Zimmer at Riverside Place under the gentle glow of candlelight. \nGeneral Info\n\n📍 Venue: Riverside Place\n⏳ Duration: 60 minutes. Doors open 45 minutes before the show. No entry once it starts.\n👤 Age requirement: 8 years old or older. Anyone under the age of 16 must be accompanied by an adult\n♿ Accessibility: this venue is ADA compliant\, however we kindly ask that you reach out in advance if you require accommodations so that we can properly accommodate you!\n🪑 Seating: Seating is assigned on a first come first served basis in each zone\n\nTentative Program\n\nTime from Inception\nThis Land from The Lion King\nZooster’s Breakout from Madagascar\nSupermarine from Dunkirk\nHonor from The Pacific\nA Dark Knight from The Dark Knight\nWonder Woman Suite\nGladiator Suite\nCornfield Chase from Interstellar\nDune Suite\nDiscombobulate from Sherlock Holmes\nPirates of the Caribbean Suite\n\nPerformers\n🎻 Listeso String Quartet \nBook a Private Event\nLooking to create an unforgettable experience for your wedding\, or special occasion? We offer private event bookings with customized programs tailored to your needs. \nGet a quote
URL:https://www.listeso.com/concert/2026-04-17-riverside-place-the-best-of-hans-zimmer/
LOCATION:Riverside Place\, Spokane\, WA\, United States
CATEGORIES:Spokane, WA
ATTACH;FMTTYPE=image/jpeg:https://www.listeso.com/wp-content/uploads/2025/10/5c755a1c-0b29-11f0-827c-a2cfe8261701-XYlYMo.jpg
END:VEVENT
BEGIN:VEVENT
DTSTART;TZID=America/Los_Angeles:20260516T110000
DTEND;TZID=America/Los_Angeles:20260516T120000
DTSTAMP:20260422T224018
CREATED:20260325T112611Z
LAST-MODIFIED:20260325T112611Z
UID:10010381-1778929200-1778932800@www.listeso.com
SUMMARY:Candlelight: The Best of Joe Hisaishi
DESCRIPTION:Overview\nCandlelight concerts bring the magic of a live\, multi-sensory musical experience to awe-inspiring locations like never seen before in Spokane. Get your tickets now to discover the music of Joe Hisaishi at Davenport Hotel\, Autograph Collection under the gentle glow of candlelight. \nGeneral Info\n\n📍 Venue: Davenport Hotel\, Autograph Collection\n⏳ Duration: 60 minutes. Doors open 45 minutes before the show. No entry once it starts.\n👤 Age requirement: 8 years old or older. Anyone under the age of 16 must be accompanied by an adult\n♿ Accessibility: This venue is ADA compliant\n🪑 Seating: Seating is assigned on a first come first served basis in each zone\n\nTentative Program\n\nNausicaa of the Valley of the Wind – Kaze no Tani\nLaputa: Castle in the Sky – Kimi wo Nosete\nMy Neighbour Totoro – Kaze no Toori Michi\nMy Neighbour Totoro – Main Theme\nKiki’s Delivery Service – Umi no Mieru Machi\nPrincess Mononoke – Main Theme\nSpirited Away – Inochi no Namae\nSpirited Away – Chihiro’s Waltz\nThe Tale of Princess Kaguya – When I Remember This Life\nPonyo – Gake no Ue no Ponyo\nThe Wind Rises – A Journey (A Dream of Flight)\nHowl’s Moving Castle – Merry Go Round of Life\n\nPerformers\n🎻 String Quartet – Listeso – Spokane \nBook a Private Event\nLooking to create an unforgettable experience for your wedding\, or special occasion? We offer private event bookings with customized programs tailored to your needs. \nGet a quote
URL:https://www.listeso.com/concert/2026-05-16-davenport-hotel-autograph-collection-candlelight-the-best-of-joe-hisaishi/
LOCATION:Davenport Hotel\, Autograph Collection\, Spokane\, WA\, United States
CATEGORIES:Spokane, WA
ATTACH;FMTTYPE=image/jpeg:https://www.listeso.com/wp-content/uploads/2025/11/ffab6fae-93ab-11f0-a186-7acaf630aa99-oTGRUM.jpg
END:VEVENT
END:VCALENDAR