BEGIN:VCALENDAR
VERSION:2.0
PRODID:-//Listeso Music Group - A Boutique String Quartet Agency - ECPv6.15.20//NONSGML v1.0//EN
CALSCALE:GREGORIAN
METHOD:PUBLISH
X-WR-CALNAME:Listeso Music Group - A Boutique String Quartet Agency
X-ORIGINAL-URL:https://www.listeso.com
X-WR-CALDESC:Events for Listeso Music Group - A Boutique String Quartet Agency
REFRESH-INTERVAL;VALUE=DURATION:PT1H
X-Robots-Tag:noindex
X-PUBLISHED-TTL:PT1H
BEGIN:VTIMEZONE
TZID:America/Phoenix
BEGIN:STANDARD
TZOFFSETFROM:-0700
TZOFFSETTO:-0700
TZNAME:MST
DTSTART:20250101T000000
END:STANDARD
END:VTIMEZONE
BEGIN:VEVENT
DTSTART;TZID=America/Phoenix:20260314T204500
DTEND;TZID=America/Phoenix:20260314T214500
DTSTAMP:20260422T011610
CREATED:20260225T123956Z
LAST-MODIFIED:20260225T123956Z
UID:10008565-1773521100-1773524700@www.listeso.com
SUMMARY:Candlelight: Tribute to Queen vs. ABBA
DESCRIPTION:Overview\nCandlelight concerts bring the magic of a live\, multi-sensory musical experience to awe-inspiring locations like never seen before in Tucson. Get your tickets now to discover the music of Queen vs. ABBA at Grace St Paul’s Episcopal Church under the gentle glow of candlelight. \nGeneral Info\n\n📍 Venue: Grace St Paul’s Episcopal Church\n⏳ Duration: 60 minutes. Doors open 45 minutes before the show. No entry once it starts.\n👤 Age requirement: 8 years old or older. Anyone under the age of 16 must be accompanied by an adult\n♿ Accessibility: This venue is ADA compliant\n🪑 Seating: Seating is assigned on a first come first served basis in each zone\n\nTentative Program\n\nDancing Queen\nSOS\nMoney\, Money\, Money\nVoulez Vous\nBohemian Rhapsody\nI Want to Break Free\nKiller Queen\nWaterloo\nSuper Trouper\nMamma Mia\nDon’t Stop Me Now\nWe Will Rock You\nWe Are the Champions\nGimme Gimme Gimme\n\nPerformers\n🎻 Listeso String Quartet \nBook a Private Event\nLooking to create an unforgettable experience for your wedding\, or special occasion? We offer private event bookings with customized programs tailored to your needs. \nGet a quote
URL:https://www.listeso.com/concert/2026-03-14-grace-st-pauls-episcopal-church-tribute-to-queen-vs-abba/
LOCATION:Grace St. Paul’s Episcopal Church\, Tucson\, AZ\, United States
CATEGORIES:Tucson, AZ
ATTACH;FMTTYPE=image/jpeg:https://www.listeso.com/wp-content/uploads/2025/10/66cd0d5a-1945-11f0-b4e1-16541c266220-gop1t7.jpg
END:VEVENT
BEGIN:VEVENT
DTSTART;TZID=America/Phoenix:20260320T203000
DTEND;TZID=America/Phoenix:20260320T213000
DTSTAMP:20260422T011610
CREATED:20260225T124010Z
LAST-MODIFIED:20260225T124010Z
UID:10008566-1774038600-1774042200@www.listeso.com
SUMMARY:Candlelight: 90s Hip-Hop on Strings
DESCRIPTION:Overview\nCandlelight concerts bring the magic of a live\, multi-sensory musical experience to awe-inspiring locations like never seen before in Tucson. Get your tickets now to discover the music of 90s Hip-Hop on Strings at Scottish Rite Cathedral Tucson under the gentle glow of candlelight. \nGeneral Info\n\n📍 Venue: Scottish Rite Cathedral Tucson\n⏳ Duration: 60 minutes. Doors open 30 minutes before the show. No entry once it starts.\n👤 Age requirement: 8 years old or older. Anyone under the age of 16 must be accompanied by an adult\n♿ Accessibility: This venue is ADA compliant\n🪑 Seating: Seating is assigned on a first come first served basis in each zone\n\nTentative Program\n\nFugees and Lauryn Hill Medley (Ready or Not\, Doo-Wop\, Fu-Gee-La\, and Killing Me Softly)\nJay-Z Medley (Can I Get A…\, Big Pimpin\, Money Ain’t a Thing\, and More)\nNas Medley (It Ain’t Hard to Tell\, N.Y. State of Mind\, The World Is Yours\, and More)\nOutkast Medley (Rosa Parks\, Elevators (Me & You)\, SpottieOttieDopaliscious\, and More)\nMissy ‘Misdemeanor’ Elliott Medley (The Rain (Supa Dupa Fly)\, Sock It to Me\, and More)\nA Tribe Called Quest Medley (Can I Kick It\, Check the Rhime\, Scenario\, and More)\nWu Tang Clan Medley (C.R.E.A.M. (Cash Rules Everything Around Me)\, Wu-Tang Clan Ain’t Nuthing Ta F’ Wit\, Protect Ya Neck\, and More)\n2Pac Medley (Dear Mama\, California Love\, and more)\nThe Notorious B.I.G. Medley (Juicy\, Big Poppa\, Hypnotize\, and More)\nDr. Dre Medley (Still D.R.E.\, Forgot About Dre\, Nuthin’ but a ‘G’ Thang\, and More)\nGin and Juice – Snoop Dogg\n\nPerformers\n🎻 String Quartet – Listeso – Tucson \nBook a Private Event\nLooking to create an unforgettable experience for your wedding\, or special occasion? We offer private event bookings with customized programs tailored to your needs. \nGet a quote
URL:https://www.listeso.com/concert/2026-03-20-scottish-rite-cathedral-tucson-90s-hip-hop-on-strings/
LOCATION:Scottish Rite Cathedral Tucson\, Tucson\, AZ\, United States
CATEGORIES:Tucson, AZ
ATTACH;FMTTYPE=image/jpeg:https://www.listeso.com/wp-content/uploads/2025/10/0333ea26-1516-11f0-a637-fad4b74c3ddb-2HI2sy.jpg
END:VEVENT
BEGIN:VEVENT
DTSTART;TZID=America/Phoenix:20260424T190000
DTEND;TZID=America/Phoenix:20260424T200000
DTSTAMP:20260422T011610
CREATED:20260225T124022Z
LAST-MODIFIED:20260225T124022Z
UID:10008567-1777057200-1777060800@www.listeso.com
SUMMARY:Candlelight: The Beatles
DESCRIPTION:Overview\nCandlelight concerts bring the magic of a live\, multi-sensory musical experience to awe-inspiring locations like never seen before in Tucson. Get your tickets now to discover the music of The Beatles at Grace St Paul’s Episcopal Church under the gentle glow of candlelight. \nGeneral Info\n\n📍 Venue: Grace St Paul’s Episcopal Church\n⏳ Duration: 60 minutes. Doors open 45 minutes before the show. No entry once it starts.\n👤 Age requirement: 8 years old or older. Anyone under the age of 16 must be accompanied by an adult\n♿ Accessibility: This venue is ADA compliant\n🪑 Seating: Seating is assigned on a first come first served basis in each zone\n\nTentative Program\n\nI Want To Hold Your Hand\nPenny Lane\nStrawberry Fields\nCome Together\nHere Comes the Sun\nWith A Little Help From My Friends\nHelp!\nEleanor Rigby\nWhile My Guitar Gently Weeps\nHelter Skelter\nBlackbird\nA Day in the Life\nYesterday\nLet It Be\n\nPerformers\n🎻 Listeso String Quartet \nBook a Private Event\nLooking to create an unforgettable experience for your wedding\, or special occasion? We offer private event bookings with customized programs tailored to your needs. \nGet a quote
URL:https://www.listeso.com/concert/2026-04-24-grace-st-pauls-episcopal-church-the-beatles/
LOCATION:Grace St. Paul’s Episcopal Church\, Tucson\, AZ\, United States
CATEGORIES:Tucson, AZ
ATTACH;FMTTYPE=image/jpeg:https://www.listeso.com/wp-content/uploads/2025/10/fbd716bc-1a93-11f0-b632-c25aaa6cf640-aS35F0.jpg
END:VEVENT
BEGIN:VEVENT
DTSTART;TZID=America/Phoenix:20260424T204500
DTEND;TZID=America/Phoenix:20260424T214500
DTSTAMP:20260422T011610
CREATED:20260225T124035Z
LAST-MODIFIED:20260225T124035Z
UID:10008568-1777063500-1777067100@www.listeso.com
SUMMARY:Candlelight: Vivaldi's Four Seasons & More
DESCRIPTION:Overview\nCandlelight concerts bring the magic of a live\, multi-sensory musical experience to awe-inspiring locations like never seen before in Tucson. Get your tickets now to discover the music of Vivaldi at Grace St Paul’s Episcopal Church under the gentle glow of candlelight. \n🕯 Snapshot by Candlelight: Strike a pose and our photographers will print an instant photo for you to take home as a lovely keepsake. \nGeneral Info\n\n📍 Venue: Grace St Paul’s Episcopal Church\n⏳ Duration: 65 minutes. Doors open 45 minutes before the show. No entry once it starts.\n👤 Age requirement: 8 years old or older. Anyone under the age of 16 must be accompanied by an adult\n♿ Accessibility: This venue is ADA compliant\n🪑 Seating: Seating is assigned on a first come first served basis in each zone\n\nTentative Program\n\nThe Four Seasons\, Violin Concerto in G Minor\, Op. 8 No. 1 RV 269: Spring\nThe Four Seasons\, Violin Concerto in G Minor\, Op. 8 No. 2 RV 315: Summer\nThe Four Seasons\, Violin Concerto in G Minor\, Op. 8 No. 3 RV 293: Autumn\nThe Four Seasons\, Violin Concerto in G Minor\, Op. 8 No. 4 RV 297: Winter\nSonata n.12 in d-minor “La Follia” RV 63\n\nPerformers\n🎻 Listeso String Quartet \nBook a Private Event\nLooking to create an unforgettable experience for your wedding\, or special occasion? We offer private event bookings with customized programs tailored to your needs. \nGet a quote
URL:https://www.listeso.com/concert/2026-04-24-grace-st-pauls-episcopal-church-candlelight-vivaldis-four-seasons-more/
LOCATION:Grace St Paul’s Episcopal Church\, Tucson\, AZ\, United States
CATEGORIES:Tucson, AZ
ATTACH;FMTTYPE=image/jpeg:https://www.listeso.com/wp-content/uploads/2025/10/7c807528-1ab3-11f0-9eff-324ba1e3eb01-s1gFvG.jpg
END:VEVENT
BEGIN:VEVENT
DTSTART;TZID=America/Phoenix:20260522T190000
DTEND;TZID=America/Phoenix:20260522T200000
DTSTAMP:20260422T011610
CREATED:20260326T112853Z
LAST-MODIFIED:20260326T112853Z
UID:10010516-1779476400-1779480000@www.listeso.com
SUMMARY:Candlelight: Tribute to ABBA & More
DESCRIPTION:Overview\nCandlelight concerts bring the magic of a live\, multi-sensory musical experience to awe-inspiring locations like never seen before in Tucson. Get your tickets now to discover the music of Queen vs. ABBA at Grace St Paul’s Episcopal Church under the gentle glow of candlelight. \nGeneral Info\n\n📍 Venue: Grace St Paul’s Episcopal Church\n⏳ Duration: 60 minutes. Doors open 45 minutes before the show. No entry once it starts.\n👤 Age requirement: 8 years old or older. Anyone under the age of 16 must be accompanied by an adult\n♿ Accessibility: this venue is ADA compliant\n🪑 Seating: Seating is assigned on a first come first served basis in each zone\n\nTentative Program\n\nDancing Queen\nSOS\nMoney\, Money\, Money\nVoulez Vous\nBohemian Rhapsody\nI Want to Break Free\nKiller Queen\nWaterloo\nSuper Trouper\nMamma Mia\nDon’t Stop Me Now\nWe Will Rock You\nWe Are the Champions\nGimme Gimme Gimme\n\nPerformers\n🎻 Listeso String Quartet \nBook a Private Event\nLooking to create an unforgettable experience for your wedding\, or special occasion? We offer private event bookings with customized programs tailored to your needs. \nGet a quote
URL:https://www.listeso.com/concert/2026-05-22-grace-st-pauls-episcopal-church-candlelight-tribute-to-abba-and-more/
LOCATION:Grace St. Paul’s Episcopal Church\, Tucson\, AZ\, United States
CATEGORIES:Tucson, AZ
ATTACH;FMTTYPE=image/jpeg:https://www.listeso.com/wp-content/uploads/2025/10/66cd0d5a-1945-11f0-b4e1-16541c266220-gop1t7.jpg
END:VEVENT
END:VCALENDAR