BEGIN:VCALENDAR
VERSION:2.0
PRODID:-//Listeso Music Group - A Boutique String Quartet Agency - ECPv6.15.20//NONSGML v1.0//EN
CALSCALE:GREGORIAN
METHOD:PUBLISH
X-ORIGINAL-URL:https://www.listeso.com
X-WR-CALDESC:Events for Listeso Music Group - A Boutique String Quartet Agency
REFRESH-INTERVAL;VALUE=DURATION:PT1H
X-Robots-Tag:noindex
X-PUBLISHED-TTL:PT1H
BEGIN:VTIMEZONE
TZID:America/Chicago
BEGIN:DAYLIGHT
TZOFFSETFROM:-0600
TZOFFSETTO:-0500
TZNAME:CDT
DTSTART:20240310T080000
END:DAYLIGHT
BEGIN:STANDARD
TZOFFSETFROM:-0500
TZOFFSETTO:-0600
TZNAME:CST
DTSTART:20241103T070000
END:STANDARD
BEGIN:DAYLIGHT
TZOFFSETFROM:-0600
TZOFFSETTO:-0500
TZNAME:CDT
DTSTART:20250309T080000
END:DAYLIGHT
BEGIN:STANDARD
TZOFFSETFROM:-0500
TZOFFSETTO:-0600
TZNAME:CST
DTSTART:20251102T070000
END:STANDARD
BEGIN:DAYLIGHT
TZOFFSETFROM:-0600
TZOFFSETTO:-0500
TZNAME:CDT
DTSTART:20260308T080000
END:DAYLIGHT
BEGIN:STANDARD
TZOFFSETFROM:-0500
TZOFFSETTO:-0600
TZNAME:CST
DTSTART:20261101T070000
END:STANDARD
BEGIN:DAYLIGHT
TZOFFSETFROM:-0600
TZOFFSETTO:-0500
TZNAME:CDT
DTSTART:20270314T080000
END:DAYLIGHT
BEGIN:STANDARD
TZOFFSETFROM:-0500
TZOFFSETTO:-0600
TZNAME:CST
DTSTART:20271107T070000
END:STANDARD
END:VTIMEZONE
BEGIN:VEVENT
DTSTART;TZID=America/Chicago:20260404T204500
DTEND;TZID=America/Chicago:20260404T214500
DTSTAMP:20260421T143405
CREATED:20260225T124116Z
LAST-MODIFIED:20260225T124116Z
UID:10008570-1775335500-1775339100@www.listeso.com
SUMMARY:Candlelight: Tribute to ABBA & More
DESCRIPTION:Overview\nCandlelight concerts bring the magic of a live\, multi-sensory musical experience to awe-inspiring locations like never seen before in Tulsa. Get your tickets now to discover the music of Queen and ABBA at German American Society-Tulsa under the gentle glow of candlelight. \nGeneral Info\n\n📍 Venue: German American Society-Tulsa\n⏳ Duration: 60 minutes. Doors open 60 minutes before the show. No entry once it starts.\n👤 Age requirement: 8 years old or older. Anyone under the age of 16 must be accompanied by an adult\n♿ Accessibility: This venue is ADA compliant\n🪑 Seating: Seating is assigned on a first come first served basis in each zone\n\nTentative Program\n\nDancing Queen\nSOS\nMoney\, Money\, Money\nBohemian Rhapsody\nI Want to Break Free\nWaterloo\nSuper Trouper\nMamma Mia\nDon’t Stop Me Now\nWe Will Rock You\nWe Are the Champions\n\nPerformers\n🎻 Listeso String Quartet \nBook a Private Event\nLooking to create an unforgettable experience for your wedding\, or special occasion? We offer private event bookings with customized programs tailored to your needs. \nGet a quote
URL:https://www.listeso.com/concert/2026-04-04-german-american-society-tulsa-tribute-to-abba-more/
LOCATION:German American Society-Tulsa\, Tulsa\, OK\, United States
CATEGORIES:Tulsa, OK
ATTACH;FMTTYPE=image/jpeg:https://www.listeso.com/wp-content/uploads/2025/10/66cd0d5a-1945-11f0-b4e1-16541c266220-gop1t7.jpg
END:VEVENT
BEGIN:VEVENT
DTSTART;TZID=America/Chicago:20260404T183000
DTEND;TZID=America/Chicago:20260404T193000
DTSTAMP:20260421T143405
CREATED:20260225T124129Z
LAST-MODIFIED:20260225T124129Z
UID:10008571-1775327400-1775331000@www.listeso.com
SUMMARY:Candlelight: The Best of Hans Zimmer
DESCRIPTION:Overview\nCandlelight concerts bring the magic of a live\, multi-sensory musical experience to awe-inspiring locations like never seen before in Tulsa. Get your tickets now to discover the music of Hans Zimmer at the Gast Event Center under the gentle glow of candlelight. \nGeneral Info\n\n📍 Venue: Gast Event Center (German American Society of Tulsa)\n⏳ Duration: 65 minutes. Doors open 45 minutes before the show and close 5 minutes prior to the start. Late arrivals will not be permitted\n👤 Age requirement: 8 years old or older. Anyone under the age of 16 must be accompanied by an adult\n♿ Accessibility: This venue is ADA compliant\n🪑 Seating: Seating is assigned on a first come first served basis in each zone\n\nTentative Program\n\nTime from Inception\nThis Land from The Lion King\nZooster’s Breakout from Madagascar\nSupermarine from Dunkirk\nHonor from The Pacific\nA Dark Knight from The Dark Knight\nWonder Woman Suite\nGladiator Suite\nCornfield Chase from Interstellar\nDune Suite\nDiscombobulate from Sherlock Holmes\nPirates of the Caribbean Suite\n\nPerformers\n🎻 Listeso String Quartet \nBook a Private Event\nLooking to create an unforgettable experience for your wedding\, or special occasion? We offer private event bookings with customized programs tailored to your needs. \nGet a quote
URL:https://www.listeso.com/concert/2026-04-04-gast-event-center-the-best-of-hans-zimmer/
LOCATION:Gast Event Center (German American Society of Tulsa)\, 1429 Terrace Drive\, Tulsa\, OK\, 74104\, United States
CATEGORIES:Tulsa, OK
ATTACH;FMTTYPE=image/jpeg:https://www.listeso.com/wp-content/uploads/2025/10/e2d3636e-1395-11f0-baa7-66dc5d784391-sdpps2.jpg
END:VEVENT
BEGIN:VEVENT
DTSTART;TZID=America/Chicago:20260307T183000
DTEND;TZID=America/Chicago:20260307T193000
DTSTAMP:20260421T143405
CREATED:20260225T124056Z
LAST-MODIFIED:20260225T124056Z
UID:10008569-1772908200-1772911800@www.listeso.com
SUMMARY:Candlelight: Coldplay & Imagine Dragons
DESCRIPTION:Overview\nCandlelight concerts bring the magic of a live\, multi-sensory musical experience to awe-inspiring locations like never seen before in Tulsa. Get your tickets now to discover the music of Coldplay & Imagine Dragons at German American Society-Tulsa under the gentle glow of candlelight. \nGeneral Info\n\n📍 Venue: German American Society-Tulsa\n⏳ Duration: 60 minutes. Doors open 60 minutes before the show. No entry once it starts.\n👤 Age requirement: 8 years old or older. Anyone under the age of 16 must be accompanied by an adult\n♿ Accessibility: this venue is ADA compliant\n🪑 Seating: Seating is assigned on a first come first served basis in each zone\n\nTentative Program\n\nColdplay – Clocks\nColdplay – Something Just Like This\nImagine Dragons – Radioactive\nColdplay – Adventure of a Lifetime\nColdplay – Fix You\nImagine Dragons – Natural\nImagine Dragons – Next to Me\nColdplay – The Scientist\nImagine Dragons – Follow You\nImagine Dragons – Bad Liar\nColdplay – Viva la Vida\nImagine Dragons – Believer\nColdplay – Sky Full of Stars\n\nPerformers\n🎻 Listeso String Quartet \nBook a Private Event\nLooking to create an unforgettable experience for your wedding\, or special occasion? We offer private event bookings with customized programs tailored to your needs. \nGet a quote
URL:https://www.listeso.com/concert/2026-03-07-german-american-society-tulsa-coldplay-imagine-dragons/
LOCATION:German American Society-Tulsa\, Tulsa\, OK\, United States
CATEGORIES:Tulsa, OK
ATTACH;FMTTYPE=image/jpeg:https://www.listeso.com/wp-content/uploads/2025/10/55ef9d82-1156-11f0-b5b0-0ee885ccc32f-OlscRd.jpg
END:VEVENT
BEGIN:VEVENT
DTSTART;TZID=America/Chicago:20260123T204500
DTEND;TZID=America/Chicago:20260123T214500
DTSTAMP:20260421T143405
CREATED:20251125T121933Z
LAST-MODIFIED:20251125T121933Z
UID:10007436-1769201100-1769204700@www.listeso.com
SUMMARY:Candlelight: Tribute to Fleetwood Mac
DESCRIPTION:Overview\nCandlelight concerts bring the magic of a live\, multi-sensory musical experience to awe-inspiring locations like never seen before in Tulsa. Get your tickets now to discover the music of Fleetwood Mac at Broken Arrow Performing Arts Center under the gentle glow of candlelight. \nGeneral Info\n\n⏳ Duration: 60 minutes. Doors open 45 minutes before the show and close 5 minutes prior to the start. Late arrivals will not be permitted\n👤 Age requirement: 8 years old or older. Anyone under the age of 16 must be accompanied by an adult\n♿ Accessibility: This venue is ADA accessible\n🪑 Seating: Seating is assigned on a first come first served basis in each zone\n\nTentative Program\n\nEverywhere\nGypsy\nYou Make Loving Fun\nNever Going Back Again\nDon’t Stop\nGold Dust Woman\nGo Your Own Way\nLandslide\nLittle Lies\nSongbird\nRhiannon\nThe Chain\n\nPerformers\n🎻 Listeso String Quartet \nBook a Private Event\nLooking to create an unforgettable experience for your wedding\, or special occasion? We offer private event bookings with customized programs tailored to your needs. \nGet a quote
URL:https://www.listeso.com/concert/2026-01-23-broken-arrow-performing-arts-center-tribute-to-fleetwood-mac/
LOCATION:Broken Arrow Performing Arts Center\, Tulsa\, OK\, United States
CATEGORIES:Tulsa, OK
ATTACH;FMTTYPE=image/jpeg:https://www.listeso.com/wp-content/uploads/2025/10/3f6591ee-6308-11f0-b183-1ebdea4a44d3-B6hCGJ.jpg
END:VEVENT
BEGIN:VEVENT
DTSTART;TZID=America/Chicago:20260123T183000
DTEND;TZID=America/Chicago:20260123T193000
DTSTAMP:20260421T143405
CREATED:20251125T121920Z
LAST-MODIFIED:20251125T121920Z
UID:10007435-1769193000-1769196600@www.listeso.com
SUMMARY:Candlelight: The Best of Hans Zimmer
DESCRIPTION:Overview\nCandlelight concerts bring the magic of a live\, multi-sensory musical experience to awe-inspiring locations like never seen before in Tulsa. Get your tickets now to discover the music of Hans Zimmer at Broken Arrow Performing Arts Center under the gentle glow of candlelight. \nGeneral Info\n\n📍 Venue: Broken Arrow Performing Arts Center\n⏳ Duration: 60 minutes. Doors open 45 minutes before the show and close 5 minutes prior to the start. Late arrivals will not be permitted\n👤 Age requirement: 8 years old or older. Anyone under the age of 16 must be accompanied by an adult\n♿ Accessibility: This venue is ADA accessible\n🪑 Seating: Seating is assigned on a first come first served basis in each zone\n\nTentative Program\n\nTime – Inception\nThis Land – The Lion King\nZooster’s Breakout – Madagascar\nSupermarine – Dunkirk\nHonor – The Pacific\nA Dark Knight – The Dark Knight\nWonder Woman Suite\nGladiator Suite\nCornfield Chase – Interstellar\nDune Suite\nDiscombobulate – Sherlock Holmes\nPirates of the Caribbean Suite\n\nPerformers\n🎻 Listeso String Quartet \nBook a Private Event\nLooking to create an unforgettable experience for your wedding\, or special occasion? We offer private event bookings with customized programs tailored to your needs. \nGet a quote
URL:https://www.listeso.com/concert/2026-01-23-broken-arrow-performing-arts-center-the-best-of-hans-zimmer/
LOCATION:Broken Arrow Performing Arts Center\, Tulsa\, OK\, United States
CATEGORIES:Tulsa, OK
ATTACH;FMTTYPE=image/jpeg:https://www.listeso.com/wp-content/uploads/2025/10/2cdbbc5e-1396-11f0-ad7f-b60b2ede6686-RTK1XD.jpg
END:VEVENT
BEGIN:VEVENT
DTSTART;TZID=America/Chicago:20260117T204500
DTEND;TZID=America/Chicago:20260117T214500
DTSTAMP:20260421T143405
CREATED:20251119T123922Z
LAST-MODIFIED:20251119T123922Z
UID:10007252-1768682700-1768686300@www.listeso.com
SUMMARY:Candlelight: Coldplay & Imagine Dragons
DESCRIPTION:Overview\nCandlelight concerts bring the magic of a live\, multi-sensory musical experience to awe-inspiring locations like never seen before in Tulsa. Get your tickets now to discover the music of Coldplay & Imagine Dragons at German American Society-Tulsa under the gentle glow of candlelight. \nGeneral Info\n\n⏳ Duration: 60 minutes. Doors open 60 minutes before the show and close 5 minutes prior to the start. Late arrivals will not be permitted\n👤 Age requirement: 8 years old or older. Anyone under the age of 16 must be accompanied by an adult\n♿ Accessibility: This venue is ADA compliant\n🪑 Seating: Seating is assigned on a first come first served basis in each zone\n\nTentative Program\n\nColdplay – Clocks\nColdplay – Something Just Like This\nImagine Dragons – Radioactive\nColdplay – Adventure of a Lifetime\nColdplay – Fix You\nImagine Dragons – Natural\nImagine Dragons – Next to Me\nColdplay – The Scientist\nImagine Dragons – Follow You\nImagine Dragons – Bad Liar\nColdplay – Viva la Vida\nImagine Dragons – Believer\nColdplay – Sky Full of Stars\n\nPerformers\n🎻 Listeso String Quartet \nBook a Private Event\nLooking to create an unforgettable experience for your wedding\, or special occasion? We offer private event bookings with customized programs tailored to your needs. \nGet a quote
URL:https://www.listeso.com/concert/2026-01-17-german-american-society-tulsa-coldplay-imagine-dragons/
LOCATION:German American Society-Tulsa\, Tulsa\, OK\, United States
CATEGORIES:Tulsa, OK
ATTACH;FMTTYPE=image/jpeg:https://www.listeso.com/wp-content/uploads/2025/10/55ef9d82-1156-11f0-b5b0-0ee885ccc32f-OlscRd.jpg
END:VEVENT
BEGIN:VEVENT
DTSTART;TZID=America/Chicago:20251228T183000
DTEND;TZID=America/Chicago:20251228T193000
DTSTAMP:20260421T143405
CREATED:20251112T122532Z
LAST-MODIFIED:20251112T122532Z
UID:10006958-1766946600-1766950200@www.listeso.com
SUMMARY:Candlelight: Christmas Carols on Strings
DESCRIPTION:Overview\nCandlelight concerts bring the magic of a live\, multi-sensory musical experience to awe-inspiring locations like never seen before in Tulsa. Get your tickets now to discover the music of Christmas Carols on Strings at German American Society-Tulsa under the gentle glow of candlelight. \nGeneral Info\n\n⏳ Duration: 60 minutes. Doors open 60 minutes before the show and close 5 minutes prior to the start. Late arrivals will not be permitted\n👤 Age requirement: 8 years old or older. Anyone under the age of 16 must be accompanied by an adult\n♿ Accessibility: This venue is ADA compliant\n🪑 Seating: Seating is assigned on a first come first served basis in each zone\n\nTentative Program\n\n12 Days of Christmas\nAngels from the Realms of Glory\nAngels We Have Heard On High\nAway in a Manger\nCarol of the Bells\nDeck the Halls\nDing Dong! Merrily on High\nDo You Hear What I Hear\nGod Rest Ye Merry Gentlemen\nGood King Wenceslas\nGreensleeves (What Child Is This)\nHark! The Herald Angels Sing\nIn the Bleak Mid-Winter\nJoy to the World\nO Christmas Tree (O Tannenbaum)\nO Come All Ye Faithful\nO Holy Night\nO Little Town of Bethlehem\nSilent Night\nThe First Noël\n\nPerformers\n🎻 String Quartet – Listeso – Tulsa \nBook a Private Event\nLooking to create an unforgettable experience for your wedding\, or special occasion? We offer private event bookings with customized programs tailored to your needs. \nGet a quote
URL:https://www.listeso.com/concert/2025-12-28-german-american-society-tulsa-christmas-carols-on-strings/
LOCATION:German American Society-Tulsa\, Tulsa\, OK\, United States
CATEGORIES:Tulsa, OK
ATTACH;FMTTYPE=image/jpeg:https://www.listeso.com/wp-content/uploads/2025/10/b80a96a8-3f9a-11f0-a4dc-2a16c96ae6c8-Psfogf.jpg
END:VEVENT
BEGIN:VEVENT
DTSTART;TZID=America/Chicago:20251108T183000
DTEND;TZID=America/Chicago:20251108T193000
DTSTAMP:20260421T143406
CREATED:20251006T175859Z
LAST-MODIFIED:20251006T175859Z
UID:10005538-1762626600-1762630200@www.listeso.com
SUMMARY:Candlelight: Tribute to Fleetwood Mac on Strings
DESCRIPTION:Overview\nCandlelight concerts bring the magic of a live\, multi-sensory musical experience to awe-inspiring locations like never seen before in Tulsa. Get your tickets now to discover the music of Fleetwood Mac on Strings at German American Society-Tulsa under the gentle glow of candlelight. \nGeneral Info\n\n📍 Venue: German American Society-Tulsa\n⏳ Duration: 60 minutes. Doors open 45 minutes before the show and close 5 minutes prior to the start. Late arrivals will not be permitted\n👤 Age requirement: 8 years old or older. Anyone under the age of 16 must be accompanied by an adult\n♿ Accessibility: This venue is ADA compliant\n🪑 Seating: Seating is assigned on a first come first served basis in each zone\n\nTentative Program\n\nEverywhere\nGypsy\nYou Make Loving Fun\nNever Going Back Again\nDon’t Stop\nGold Dust Woman\nGo Your Own Way\nLandslide\nLittle Lies\nSongbird\nRhiannon\nThe Chain\nDreams\nSay You Love Me\nSecond Hand News\n\nPerformers\n🎻 Listeso String Quartet \nBook a Private Event\nLooking to create an unforgettable experience for your wedding\, or special occasion? We offer private event bookings with customized programs tailored to your needs. \nGet a quote
URL:https://www.listeso.com/concert/2025-11-08-german-american-society-tulsa-tribute-to-fleetwood-mac-on-strings/
LOCATION:German American Society-Tulsa\, Tulsa\, OK\, United States
CATEGORIES:Tulsa, OK
ATTACH;FMTTYPE=image/jpeg:https://www.listeso.com/wp-content/uploads/2025/10/5c2e82a6-1f77-11f0-9fc3-b6302f1836c4-3Gs8kb.jpg
END:VEVENT
BEGIN:VEVENT
DTSTART;TZID=America/Chicago:20251107T204500
DTEND;TZID=America/Chicago:20251107T214500
DTSTAMP:20260421T143406
CREATED:20251031T110651Z
LAST-MODIFIED:20251031T110651Z
UID:10006293-1762548300-1762551900@www.listeso.com
SUMMARY:Candlelight: Coldplay & Imagine Dragons
DESCRIPTION:Overview\nCandlelight concerts bring the magic of a live\, multi-sensory musical experience to awe-inspiring locations like never seen before in Tulsa. Get your tickets now to discover the music of Coldplay & Imagine Dragons at German American Society-Tulsa under the gentle glow of candlelight. \nGeneral Info\n\n⏳ Duration: 60 minutes. Doors open 60 minutes before the show and close 5 minutes prior to the start. Late arrivals will not be permitted\n👤 Age requirement: 8 years old or older. Anyone under the age of 16 must be accompanied by an adult\n♿ Accessibility: This venue is ADA compliant\n🪑 Seating: Seating is assigned on a first come first served basis in each zone\n\nTentative Program\n\nColdplay – Clocks\nColdplay – Something Just Like This\nImagine Dragons – Radioactive\nColdplay – Adventure of a Lifetime\nColdplay – Fix You\nImagine Dragons – Natural\nImagine Dragons – Next to Me\nColdplay – The Scientist\nImagine Dragons – Follow You\nImagine Dragons – Bad Liar\nColdplay – Viva la Vida\nImagine Dragons – Believer\nColdplay – Sky Full of Stars\n\nPerformers\n🎻 Listeso String Quartet \nBook a Private Event\nLooking to create an unforgettable experience for your wedding\, or special occasion? We offer private event bookings with customized programs tailored to your needs. \nGet a quote
URL:https://www.listeso.com/concert/2025-11-07-german-american-society-tulsa-coldplay-imagine-dragons/
LOCATION:German American Society-Tulsa\, Tulsa\, OK\, United States
CATEGORIES:Tulsa, OK
ATTACH;FMTTYPE=image/jpeg:https://www.listeso.com/wp-content/uploads/2025/10/55ef9d82-1156-11f0-b5b0-0ee885ccc32f-OlscRd.jpg
END:VEVENT
BEGIN:VEVENT
DTSTART;TZID=America/Chicago:20251107T183000
DTEND;TZID=America/Chicago:20251107T193000
DTSTAMP:20260421T143406
CREATED:20251031T110704Z
LAST-MODIFIED:20251031T110704Z
UID:10006294-1762540200-1762543800@www.listeso.com
SUMMARY:Candlelight: The Best of Hans Zimmer
DESCRIPTION:Overview\nCandlelight concerts bring the magic of a live\, multi-sensory musical experience to awe-inspiring locations like never seen before in Tulsa. Get your tickets now to discover the music of Hans Zimmer at the Gast Event Center under the gentle glow of candlelight. \nGeneral Info\n\n📍 Venue: Gast Event Center (German American Society of Tulsa)\n⏳ Duration: 65 minutes. Doors open 45 minutes before the show and close 5 minutes prior to the start. Late arrivals will not be permitted\n👤 Age requirement: 8 years old or older. Anyone under the age of 16 must be accompanied by an adult\n♿ Accessibility: This venue is ADA compliant\n🪑 Seating: Seating is assigned on a first come first served basis in each zone\n\nTentative Program\n\nTime from Inception\nThis Land from The Lion King\nZooster’s Breakout from Madagascar\nSupermarine from Dunkirk\nHonor from The Pacific\nA Dark Knight from The Dark Knight\nWonder Woman Suite\nGladiator Suite\nCornfield Chase from Interstellar\nDune Suite\nDiscombobulate from Sherlock Holmes\nPirates of the Caribbean Suite\n\nPerformers\n🎻 Listeso String Quartet \nBook a Private Event\nLooking to create an unforgettable experience for your wedding\, or special occasion? We offer private event bookings with customized programs tailored to your needs. \nGet a quote
URL:https://www.listeso.com/concert/2025-11-07-gast-event-center-candlelight-the-best-of-hans-zimmer/
LOCATION:Gast Event Center (German American Society of Tulsa)\, 1429 Terrace Drive\, Tulsa\, OK\, 74104\, United States
CATEGORIES:Tulsa, OK
ATTACH;FMTTYPE=image/jpeg:https://www.listeso.com/wp-content/uploads/2025/10/e2d3636e-1395-11f0-baa7-66dc5d784391-sdpps2.jpg
END:VEVENT
BEGIN:VEVENT
DTSTART;TZID=America/Chicago:20251011T204500
DTEND;TZID=America/Chicago:20251011T214500
DTSTAMP:20260421T143406
CREATED:20251006T175845Z
LAST-MODIFIED:20251006T175845Z
UID:10005537-1760215500-1760219100@www.listeso.com
SUMMARY:Candlelight: Coldplay & Imagine Dragons
DESCRIPTION:Overview\nCandlelight concerts bring the magic of a live\, multi-sensory musical experience to awe-inspiring locations like never seen before in Tulsa. Get your tickets now to discover the music of Coldplay & Imagine Dragons at German American Society-Tulsa under the gentle glow of candlelight. \nGeneral Info\n\n⏳ Duration: 60 minutes. Doors open 60 minutes before the show and close 5 minutes prior to the start. Late arrivals will not be permitted\n👤 Age requirement: 8 years old or older. Anyone under the age of 16 must be accompanied by an adult\n♿ Accessibility: This venue is ADA compliant\n🪑 Seating: Seating is assigned on a first come first served basis in each zone\n\nTentative Program\n\nColdplay – Clocks\nColdplay – Something Just Like This\nImagine Dragons – Radioactive\nColdplay – Adventure of a Lifetime\nColdplay – Fix You\nImagine Dragons – Natural\nImagine Dragons – Next to Me\nColdplay – The Scientist\nImagine Dragons – Follow You\nImagine Dragons – Bad Liar\nColdplay – Viva la Vida\nImagine Dragons – Believer\nColdplay – Sky Full of Stars\n\nPerformers\n🎻 Listeso String Quartet \nBook a Private Event\nLooking to create an unforgettable experience for your wedding\, or special occasion? We offer private event bookings with customized programs tailored to your needs. \nGet a quote
URL:https://www.listeso.com/concert/2025-10-11-german-american-society-tulsa-coldplay-imagine-dragons/
LOCATION:German American Society-Tulsa\, Tulsa\, OK\, United States
CATEGORIES:Tulsa, OK
ATTACH;FMTTYPE=image/jpeg:https://www.listeso.com/wp-content/uploads/2025/10/55ef9d82-1156-11f0-b5b0-0ee885ccc32f-OlscRd.jpg
END:VEVENT
BEGIN:VEVENT
DTSTART;TZID=America/Chicago:20251011T183000
DTEND;TZID=America/Chicago:20251011T193000
DTSTAMP:20260421T143406
CREATED:20251006T175832Z
LAST-MODIFIED:20251006T175832Z
UID:10005536-1760207400-1760211000@www.listeso.com
SUMMARY:Candlelight: The Best of Hans Zimmer
DESCRIPTION:Overview\nCandlelight concerts bring the magic of a live\, multi-sensory musical experience to awe-inspiring locations like never seen before in Tulsa. Get your tickets now to discover the music of Hans Zimmer at the Gast Event Center under the gentle glow of candlelight. \nGeneral Info\n\n📍 Venue: Gast Event Center (German American Society of Tulsa)\n⏳ Duration: 65 minutes. Doors open 45 minutes before the show and close 5 minutes prior to the start. Late arrivals will not be permitted\n👤 Age requirement: 8 years old or older. Anyone under the age of 16 must be accompanied by an adult\n♿ Accessibility: This venue is ADA compliant\n🪑 Seating: Seating is assigned on a first come first served basis in each zone\n\nTentative Program\n\nTime from Inception\nThis Land from The Lion King\nZooster’s Breakout from Madagascar\nSupermarine from Dunkirk\nHonor from The Pacific\nA Dark Knight from The Dark Knight\nWonder Woman Suite\nGladiator Suite\nCornfield Chase from Interstellar\nDune Suite\nDiscombobulate from Sherlock Holmes\nPirates of the Caribbean Suite\n\nPerformers\n🎻 Listeso String Quartet \nBook a Private Event\nLooking to create an unforgettable experience for your wedding\, or special occasion? We offer private event bookings with customized programs tailored to your needs. \nGet a quote
URL:https://www.listeso.com/concert/2025-10-11-gast-event-center-the-best-of-hans-zimmer/
LOCATION:Gast Event Center\, 1429 Terrace Dr\, Tulsa\, OK\, 74104\, United States
CATEGORIES:Tulsa, OK
ATTACH;FMTTYPE=image/jpeg:https://www.listeso.com/wp-content/uploads/2025/10/e2d3636e-1395-11f0-baa7-66dc5d784391-sdpps2.jpg
END:VEVENT
END:VCALENDAR