BEGIN:VCALENDAR
VERSION:2.0
PRODID:-//Listeso Music Group - A Boutique String Quartet Agency - ECPv6.15.20//NONSGML v1.0//EN
CALSCALE:GREGORIAN
METHOD:PUBLISH
X-WR-CALNAME:Listeso Music Group - A Boutique String Quartet Agency
X-ORIGINAL-URL:https://www.listeso.com
X-WR-CALDESC:Events for Listeso Music Group - A Boutique String Quartet Agency
REFRESH-INTERVAL;VALUE=DURATION:PT1H
X-Robots-Tag:noindex
X-PUBLISHED-TTL:PT1H
BEGIN:VTIMEZONE
TZID:America/Vancouver
BEGIN:DAYLIGHT
TZOFFSETFROM:-0800
TZOFFSETTO:-0700
TZNAME:PDT
DTSTART:20250309T100000
END:DAYLIGHT
BEGIN:STANDARD
TZOFFSETFROM:-0700
TZOFFSETTO:-0800
TZNAME:PST
DTSTART:20251102T090000
END:STANDARD
BEGIN:DAYLIGHT
TZOFFSETFROM:-0800
TZOFFSETTO:-0700
TZNAME:PDT
DTSTART:20260308T100000
END:DAYLIGHT
BEGIN:STANDARD
TZOFFSETFROM:-0700
TZOFFSETTO:-0800
TZNAME:PST
DTSTART:20261101T090000
END:STANDARD
BEGIN:DAYLIGHT
TZOFFSETFROM:-0800
TZOFFSETTO:-0700
TZNAME:PDT
DTSTART:20270314T100000
END:DAYLIGHT
BEGIN:STANDARD
TZOFFSETFROM:-0700
TZOFFSETTO:-0800
TZNAME:PST
DTSTART:20271107T090000
END:STANDARD
END:VTIMEZONE
BEGIN:VEVENT
DTSTART;TZID=America/Vancouver:20260307T183000
DTEND;TZID=America/Vancouver:20260307T193000
DTSTAMP:20260421T120935
CREATED:20260225T124316Z
LAST-MODIFIED:20260225T124316Z
UID:10008578-1772908200-1772911800@www.listeso.com
SUMMARY:Candlelight: Tribute to British Rock Legends
DESCRIPTION:Overview\nCandlelight concerts bring the magic of a live\, multi-sensory musical experience to awe-inspiring locations like never seen before in Victoria. Get your tickets now to discover the music of Queen and The Beatles at Christ Church Cathedral (Victoria) under the gentle glow of candlelight. \nGeneral Info\n\n📍 Venue: Christ Church Cathedral (Victoria)\n⏳ Duration: 60 minutes. Doors open 45 minutes before the show. No entry once it starts.\n👤 Age requirement: The experience is recommended for those who are 8+. To preserve the experience\, disruptive behaviour may result in being asked to step outside. Anyone under the age of 16 must be accompanied by an adult.\n♿ Accessibility: This venue is accessible for people with reduced mobility\n🪑 Seating: Seating is assigned on a first come first served basis in each zone\n\nTentative Program\n\nHere Comes the Sun – The Beatles\nBlackbird – The Beatles\nHelp! – The Beatles\nCome Together – The Beatles\nYesterday – The Beatles\nAll You Need Is Love – The Beatles\nLove of My Life – Queen\nAnother One Bites the Dust – Queen\nI Want to Break Free – Queen\nWe Are the Champions – Queen\nWe Will Rock You – Queen\nRadio Ga-Ga – Queen\nBohemian Rhapsody – Queen\n\nPerformers\n🎻 String Quartet: 2 violins\, 1 viola\, 1 cello \nBook a Private Event\nLooking to create an unforgettable experience for your wedding\, or special occasion? We offer private event bookings with customized programs tailored to your needs. \nGet a quote
URL:https://www.listeso.com/concert/2026-03-07-christ-church-cathedral-victoria-tribute-to-british-rock-legends/
LOCATION:Christ Church Cathedral (Victoria)\, Victoria\, Canada
CATEGORIES:Victoria, BC
ATTACH;FMTTYPE=image/jpeg:https://www.listeso.com/wp-content/uploads/2025/10/675fe2d2-1a9f-11f0-8be7-b25552496a35-0vaxuo.jpg
END:VEVENT
BEGIN:VEVENT
DTSTART;TZID=America/Vancouver:20260307T203000
DTEND;TZID=America/Vancouver:20260307T213000
DTSTAMP:20260421T120935
CREATED:20260225T124303Z
LAST-MODIFIED:20260225T124303Z
UID:10008577-1772915400-1772919000@www.listeso.com
SUMMARY:Candlelight: Coldplay & Imagine Dragons
DESCRIPTION:Overview\nCandlelight concerts bring the magic of a live\, multi-sensory musical experience to awe-inspiring locations like never seen before in Victoria. Get your tickets now to discover the music of Coldplay & Imagine Dragons at Christ Church Cathedral (Victoria) under the gentle glow of candlelight. \nGeneral Info\n\n📍 Venue: Christ Church Cathedral (Victoria)\n⏳ Duration: 60 minutes. Doors open 45 minutes before the show. No entry once it starts.\n👤 Age recommendation: The experience is recommended for those who are 8+. To preserve the experience\, disruptive behaviour may result in being asked to step outside. Anyone under the age of 16 must be accompanied by an adult.\n♿ Accessibility: This venue is accessible for people with reduced mobility\n🪑 Seating: Seating is assigned on a first come first served basis in each zone\n\nTentative Program\n\nColdplay – Clocks\nColdplay – Something Just Like This\nImagine Dragons – Radioactive\nColdplay – Adventure of a Lifetime\nColdplay – Fix You\nImagine Dragons – Eyes Closed\nImagine Dragons – Nice to Meet You\nColdplay – The Scientist\nImagine Dragons – Follow You\nImagine Dragons – Bad Liar\nColdplay – Viva la Vida\nImagine Dragons – Believer\nColdplay – Sky Full of Stars\n\nPerformers\n🎻 String Quartet: \n\n2 violins\n1 viola\n1 cello\n\nBook a Private Event\nLooking to create an unforgettable experience for your wedding\, or special occasion? We offer private event bookings with customized programs tailored to your needs. \nGet a quote
URL:https://www.listeso.com/concert/2026-03-07-christ-church-cathedral-coldplay-imagine-dragons/
LOCATION:Christ Church Cathedral\, Vancouver\, Canada
CATEGORIES:Victoria, BC
ATTACH;FMTTYPE=image/jpeg:https://www.listeso.com/wp-content/uploads/2025/10/53777c04-1157-11f0-bc63-0ee885ccc32f-5sEo1f.jpg
END:VEVENT
BEGIN:VEVENT
DTSTART;TZID=America/Vancouver:20260321T183000
DTEND;TZID=America/Vancouver:20260321T193000
DTSTAMP:20260421T120935
CREATED:20260225T124341Z
LAST-MODIFIED:20260225T124341Z
UID:10008580-1774117800-1774121400@www.listeso.com
SUMMARY:Candlelight: The Best of Hans Zimmer
DESCRIPTION:Overview\nCandlelight concerts bring the magic of a live\, multi-sensory musical experience to awe-inspiring locations like never seen before in Victoria. Experience the legendary compositions of Hans Zimmer performed by a talented string quartet at the historic St. Ann’s Academy under the gentle glow of candlelight. \nGeneral Info\n\n📍 Venue: Auditorium at St Ann’s Academy\n⏳ Duration: 60 minutes. Doors open 30 minutes before the show. No entry once it starts.\n👤 Age requirement: The experience is recommended for those who are 8+. To preserve the experience\, disruptive behaviour may result in being asked to step outside. Anyone under the age of 16 must be accompanied by an adult.\n♿ Accessibility: This venue is accessible for people with reduced mobility\n🪑 Seating: Seating is assigned on a first come first served basis in each zone\n\nTentative Program\n\nTime from Inception\nThis Land from The Lion King\nZooster’s Breakout from Madagascar\nSupermarine from Dunkirk\nHonor from The Pacific\nA Dark Knight from The Dark Knight\nWonder Woman Suite\nGladiator Suite\nCornfield Chase from Interstellar\nDune Suite\nDiscombobulate from Sherlock Holmes\nPirates of the Caribbean Suite\n\nPerformers\n🎻 String Quartet: 2 violins\, 1 viola\, 1 cello \nBook a Private Event\nLooking to create an unforgettable experience for your wedding\, or special occasion? We offer private event bookings with customized programs tailored to your needs. \nGet a quote
URL:https://www.listeso.com/concert/2026-03-21-st-anns-academy-and-auditorium-national-historic-site-the-best-of-hans-zimmer/
LOCATION:St Ann’s Academy and Auditorium National Historic Site\, Victoria\, Canada
CATEGORIES:Victoria, BC
ATTACH;FMTTYPE=image/jpeg:https://www.listeso.com/wp-content/uploads/2025/10/b2a5d1a8-1396-11f0-9f4b-e25e224a365e-lcpSeN.jpg
END:VEVENT
BEGIN:VEVENT
DTSTART;TZID=America/Vancouver:20260321T203000
DTEND;TZID=America/Vancouver:20260321T213000
DTSTAMP:20260421T120935
CREATED:20260225T124328Z
LAST-MODIFIED:20260225T124328Z
UID:10008579-1774125000-1774128600@www.listeso.com
SUMMARY:Candlelight: A Tribute to Adele
DESCRIPTION:Overview\nCandlelight concerts bring the magic of a live\, multi-sensory musical experience to awe-inspiring locations like never seen before in Victoria. Get your tickets now to discover the music of Adele at St Ann’s Academy under the gentle glow of candlelight. \nGeneral Info\n\n⏳ Duration: 60 minutes. Doors open 30 minutes before the show. No entry once it starts.\n👤 Age recommendation: The experience is recommended for those who are 8+. To preserve the experience\, disruptive behaviour may result in being asked to step outside. Anyone under the age of 16 must be accompanied by an adult.\n♿ Accessibility: This venue is accessible for people with reduced mobility\n🪑 Seating: Seating is assigned on a first come first served basis in each zone\n\nTentative Program\n\n“Hello”\n“Rumour Has It”\n“Make You Feel My Love”\n“Water Under the Bridge”\n“Oh My God”\n“Someone Like You”\n“Send My Love (to Your New Lover)”\n“Chasing Pavements”\n“Skyfall”\n“When We Were Young”\n“Set Fire to the Rain”\n“Easy On Me”\n“Rolling in the Deep”\n\nPerformers\n🎻 String Quartet: 2 violins\, 1 viola\, 1 cello \nBook a Private Event\nLooking to create an unforgettable experience for your wedding\, or special occasion? We offer private event bookings with customized programs tailored to your needs. \nGet a quote
URL:https://www.listeso.com/concert/2026-03-21-st-anns-academy-and-auditorium-national-historic-site-candlelight-a-tribute-to-adele/
LOCATION:St Ann’s Academy and Auditorium National Historic Site\, Victoria\, Canada
CATEGORIES:Victoria, BC
ATTACH;FMTTYPE=image/jpeg:https://www.listeso.com/wp-content/uploads/2025/10/c691a5b2-2128-11f0-ac95-e67227f9b810-FWgYmZ.jpg
END:VEVENT
BEGIN:VEVENT
DTSTART;TZID=America/Vancouver:20260327T183000
DTEND;TZID=America/Vancouver:20260327T193000
DTSTAMP:20260421T120935
CREATED:20260225T124403Z
LAST-MODIFIED:20260225T124403Z
UID:10008581-1774636200-1774639800@www.listeso.com
SUMMARY:Candlelight: Vivaldi's Four Seasons
DESCRIPTION:Overview\nCandlelight concerts bring the magic of a live\, multi-sensory musical experience to awe-inspiring locations like never seen before in Victoria. Get your tickets now to discover the music of Vivaldi’s Four Seasons at St Ann’s Academy and Auditorium National Historic Site under the gentle glow of candlelight. \nGeneral Info\n\n📍 Venue: St Ann’s Academy and Auditorium National Historic Site\n⏳ Duration: 60 minutes. Doors open 30 minutes before the show. No entry once it starts.\n👤 Age requirement: The experience is recommended for those who are 8+. To preserve the experience\, disruptive behaviour may result in being asked to step outside. Anyone under the age of 16 must be accompanied by an adult.\n♿ Accessibility: This venue is accessible for people with reduced mobility\n🪑 Seating: Seating is assigned on a first come first served basis in each zone\n\nTentative Program\n\nThe Four Seasons\, Violin Concerto in G Minor\, Op. 8 No. 1 RV 269: Spring\nThe Four Seasons\, Violin Concerto in G Minor\, Op. 8 No. 2 RV 315: Summer\nThe Four Seasons\, Violin Concerto in G Minor\, Op. 8 No. 3 RV 293: Autumn\nThe Four Seasons\, Violin Concerto in G Minor\, Op. 8 No. 4 RV 297: Winter\nLa Follia\n\nPerformers\n🎻 String Quartet: 2 violins\, 1 viola\, 1 cello \nBook a Private Event\nLooking to create an unforgettable experience for your wedding\, or special occasion? We offer private event bookings with customized programs tailored to your needs. \nGet a quote
URL:https://www.listeso.com/concert/2026-03-27-st-anns-academy-and-auditorium-national-historic-site-vivaldis-four-seasons/
LOCATION:St Ann’s Academy and Auditorium National Historic Site\, Victoria\, Canada
CATEGORIES:Victoria, BC
ATTACH;FMTTYPE=image/jpeg:https://www.listeso.com/wp-content/uploads/2025/10/7c807528-1ab3-11f0-9eff-324ba1e3eb01-s1gFvG.jpg
END:VEVENT
BEGIN:VEVENT
DTSTART;TZID=America/Vancouver:20260327T203000
DTEND;TZID=America/Vancouver:20260327T213000
DTSTAMP:20260421T120935
CREATED:20260225T124423Z
LAST-MODIFIED:20260225T124423Z
UID:10008582-1774643400-1774647000@www.listeso.com
SUMMARY:Candlelight: Tribute to Taylor Swift
DESCRIPTION:Overview\nCandlelight concerts bring the magic of a live\, multi-sensory musical experience to awe-inspiring locations like never seen before in Victoria. Get your tickets now to discover the music of Taylor Swift at St. Ann’s Academy and Auditorium National Historic Site under the gentle glow of candlelight. \nGeneral Info\n\n📍 Venue: St. Ann’s Academy and Auditorium National Historic Site\n⏳ Duration: 60 minutes. Doors open 30 minutes before the show. No entry once it starts.\n👤 Age recommendation: The experience is recommended for those who are 8+. To preserve the experience\, disruptive behaviour may result in being asked to step outside. Anyone under the age of 16 must be accompanied by an adult.\n♿ Accessibility: This venue is accessible for people with reduced mobility\n🪑 Seating: Seating is assigned on a first come first served basis in each zone\n\nTentative Program\n\nLove Story\nRed Medley\nAnti-Hero\nThe Fate of Ophelia\nReputation Medley\nCruel Summer\nFolklore Medley\nShake It Off\nYou Belong With Me\n1989 Medley\n\nPerformers\n🎻 String Quartet: 2 violins\, 1 viola\, 1 cello \nBook a Private Event\nLooking to create an unforgettable experience for your wedding\, or special occasion? We offer private event bookings with customized programs tailored to your needs. \nGet a quote
URL:https://www.listeso.com/concert/2026-03-27-st-anns-academy-and-auditorium-national-historic-site-candlelight-tribute-to-taylor-swift/
LOCATION:St. Ann’s Academy and Auditorium National Historic Site\, Victoria\, Canada
CATEGORIES:Victoria, BC
ATTACH;FMTTYPE=image/jpeg:https://www.listeso.com/wp-content/uploads/2025/10/be8df194-1aa8-11f0-996c-caa78636736f-kgBvpB.jpg
END:VEVENT
END:VCALENDAR